BEGIN:VCALENDAR
VERSION:2.0
PRODID:https://www.kufer.de/kuferweb / DE
METHOD:PUBLISH
CALSCALE:GREGORIAN
X-WR-TIMEZONE:Europe/Berlin
BEGIN:VTIMEZONE
TZID:Europe/Berlin
X-LIC-LOCATION:Europe/Berlin
BEGIN:DAYLIGHT
TZOFFSETFROM:+0100
TZOFFSETTO:+0200
TZNAME:CEST
DTSTART:19700329T020000
RRULE:FREQ=YEARLY;INTERVAL=1;BYDAY=-1SU;BYMONTH=3
END:DAYLIGHT
BEGIN:STANDARD
TZOFFSETFROM:+0200
TZOFFSETTO:+0100
TZNAME:CET
DTSTART:19701025T030000
RRULE:FREQ=YEARLY;INTERVAL=1;BYDAY=-1SU;BYMONTH=10
END:STANDARD
END:VTIMEZONE
BEGIN:VEVENT
DTSTAMP:20260421T145054
DTSTART;TZID=Europe/Berlin:20260213T160000
DTEND;TZID=Europe/Berlin:20260213T170000
UID:S267920116-20260213T160000@VHSWIENER NEUSTADT
SUMMARY:TURNEN FÜR KINDER (3-6 Jahre) (S267920116) 
LOCATION:Volksschule Rudolf-Wehrl, Turnsaal, Wöllersdorfer Straße 7 (Eingang: Fliegergasse), 2700 Wiener Neustadt
END:VEVENT
BEGIN:VEVENT
DTSTAMP:20260421T145054
DTSTART;TZID=Europe/Berlin:20260220T160000
DTEND;TZID=Europe/Berlin:20260220T170000
UID:S267920116-20260220T160000@VHSWIENER NEUSTADT
SUMMARY:TURNEN FÜR KINDER (3-6 Jahre) (S267920116) 
LOCATION:Volksschule Rudolf-Wehrl, Turnsaal, Wöllersdorfer Straße 7 (Eingang: Fliegergasse), 2700 Wiener Neustadt
END:VEVENT
BEGIN:VEVENT
DTSTAMP:20260421T145054
DTSTART;TZID=Europe/Berlin:20260227T160000
DTEND;TZID=Europe/Berlin:20260227T170000
UID:S267920116-20260227T160000@VHSWIENER NEUSTADT
SUMMARY:TURNEN FÜR KINDER (3-6 Jahre) (S267920116) 
LOCATION:Volksschule Rudolf-Wehrl, Turnsaal, Wöllersdorfer Straße 7 (Eingang: Fliegergasse), 2700 Wiener Neustadt
END:VEVENT
BEGIN:VEVENT
DTSTAMP:20260421T145054
DTSTART;TZID=Europe/Berlin:20260306T160000
DTEND;TZID=Europe/Berlin:20260306T170000
UID:S267920116-20260306T160000@VHSWIENER NEUSTADT
SUMMARY:TURNEN FÜR KINDER (3-6 Jahre) (S267920116) 
LOCATION:Volksschule Rudolf-Wehrl, Turnsaal, Wöllersdorfer Straße 7 (Eingang: Fliegergasse), 2700 Wiener Neustadt
END:VEVENT
BEGIN:VEVENT
DTSTAMP:20260421T145054
DTSTART;TZID=Europe/Berlin:20260313T160000
DTEND;TZID=Europe/Berlin:20260313T170000
UID:S267920116-20260313T160000@VHSWIENER NEUSTADT
SUMMARY:TURNEN FÜR KINDER (3-6 Jahre) (S267920116) 
LOCATION:Volksschule Rudolf-Wehrl, Turnsaal, Wöllersdorfer Straße 7 (Eingang: Fliegergasse), 2700 Wiener Neustadt
END:VEVENT
BEGIN:VEVENT
DTSTAMP:20260421T145054
DTSTART;TZID=Europe/Berlin:20260320T160000
DTEND;TZID=Europe/Berlin:20260320T170000
UID:S267920116-20260320T160000@VHSWIENER NEUSTADT
DESCRIPTION:1er Kellermann / 2er Klco
SUMMARY:TURNEN FÜR KINDER (3-6 Jahre) (S267920116) 
LOCATION:Volksschule Rudolf-Wehrl, Turnsaal, Wöllersdorfer Straße 7 (Eingang: Fliegergasse), 2700 Wiener Neustadt
END:VEVENT
BEGIN:VEVENT
DTSTAMP:20260421T145054
DTSTART;TZID=Europe/Berlin:20260327T160000
DTEND;TZID=Europe/Berlin:20260327T170000
UID:S267920116-20260327T160000@VHSWIENER NEUSTADT
DESCRIPTION:1er Kellermann / 2er Klco
SUMMARY:TURNEN FÜR KINDER (3-6 Jahre) (S267920116) 
LOCATION:Volksschule Rudolf-Wehrl, Turnsaal, Wöllersdorfer Straße 7 (Eingang: Fliegergasse), 2700 Wiener Neustadt
END:VEVENT
BEGIN:VEVENT
DTSTAMP:20260421T145054
DTSTART;TZID=Europe/Berlin:20260410T160000
DTEND;TZID=Europe/Berlin:20260410T170000
UID:S267920116-20260410T160000@VHSWIENER NEUSTADT
SUMMARY:TURNEN FÜR KINDER (3-6 Jahre) (S267920116) 
LOCATION:Volksschule Rudolf-Wehrl, Turnsaal, Wöllersdorfer Straße 7 (Eingang: Fliegergasse), 2700 Wiener Neustadt
END:VEVENT
BEGIN:VEVENT
DTSTAMP:20260421T145054
DTSTART;TZID=Europe/Berlin:20260417T160000
DTEND;TZID=Europe/Berlin:20260417T170000
UID:S267920116-20260417T160000@VHSWIENER NEUSTADT
SUMMARY:TURNEN FÜR KINDER (3-6 Jahre) (S267920116) 
LOCATION:Volksschule Rudolf-Wehrl, Turnsaal, Wöllersdorfer Straße 7 (Eingang: Fliegergasse), 2700 Wiener Neustadt
END:VEVENT
BEGIN:VEVENT
DTSTAMP:20260421T145054
DTSTART;TZID=Europe/Berlin:20260424T160000
DTEND;TZID=Europe/Berlin:20260424T170000
UID:S267920116-20260424T160000@VHSWIENER NEUSTADT
SUMMARY:TURNEN FÜR KINDER (3-6 Jahre) (S267920116) 
LOCATION:Volksschule Rudolf-Wehrl, Turnsaal, Wöllersdorfer Straße 7 (Eingang: Fliegergasse), 2700 Wiener Neustadt
END:VEVENT
BEGIN:VEVENT
DTSTAMP:20260421T145054
DTSTART;TZID=Europe/Berlin:20260508T160000
DTEND;TZID=Europe/Berlin:20260508T170000
UID:S267920116-20260508T160000@VHSWIENER NEUSTADT
SUMMARY:TURNEN FÜR KINDER (3-6 Jahre) (S267920116) 
LOCATION:Volksschule Rudolf-Wehrl, Turnsaal, Wöllersdorfer Straße 7 (Eingang: Fliegergasse), 2700 Wiener Neustadt
END:VEVENT
BEGIN:VEVENT
DTSTAMP:20260421T145054
DTSTART;TZID=Europe/Berlin:20260522T160000
DTEND;TZID=Europe/Berlin:20260522T170000
UID:S267920116-20260522T160000@VHSWIENER NEUSTADT
SUMMARY:TURNEN FÜR KINDER (3-6 Jahre) (S267920116) 
LOCATION:Volksschule Rudolf-Wehrl, Turnsaal, Wöllersdorfer Straße 7 (Eingang: Fliegergasse), 2700 Wiener Neustadt
END:VEVENT
BEGIN:VEVENT
DTSTAMP:20260421T145054
DTSTART;TZID=Europe/Berlin:20260529T160000
DTEND;TZID=Europe/Berlin:20260529T170000
UID:S267920116-20260529T160000@VHSWIENER NEUSTADT
SUMMARY:TURNEN FÜR KINDER (3-6 Jahre) (S267920116) 
LOCATION:Volksschule Rudolf-Wehrl, Turnsaal, Wöllersdorfer Straße 7 (Eingang: Fliegergasse), 2700 Wiener Neustadt
END:VEVENT
BEGIN:VEVENT
DTSTAMP:20260421T145054
DTSTART;TZID=Europe/Berlin:20260612T160000
DTEND;TZID=Europe/Berlin:20260612T170000
UID:S267920116-20260612T160000@VHSWIENER NEUSTADT
SUMMARY:TURNEN FÜR KINDER (3-6 Jahre) (S267920116) 
LOCATION:Volksschule Rudolf-Wehrl, Turnsaal, Wöllersdorfer Straße 7 (Eingang: Fliegergasse), 2700 Wiener Neustadt
END:VEVENT
BEGIN:VEVENT
DTSTAMP:20260421T145054
DTSTART;TZID=Europe/Berlin:20260619T160000
DTEND;TZID=Europe/Berlin:20260619T170000
UID:S267920116-20260619T160000@VHSWIENER NEUSTADT
SUMMARY:TURNEN FÜR KINDER (3-6 Jahre) (S267920116) 
LOCATION:Volksschule Rudolf-Wehrl, Turnsaal, Wöllersdorfer Straße 7 (Eingang: Fliegergasse), 2700 Wiener Neustadt
END:VEVENT
BEGIN:VEVENT
DTSTAMP:20260421T145054
DTSTART;TZID=Europe/Berlin:20260626T160000
DTEND;TZID=Europe/Berlin:20260626T170000
UID:S267920116-20260626T160000@VHSWIENER NEUSTADT
SUMMARY:TURNEN FÜR KINDER (3-6 Jahre) (S267920116) 
LOCATION:Volksschule Rudolf-Wehrl, Turnsaal, Wöllersdorfer Straße 7 (Eingang: Fliegergasse), 2700 Wiener Neustadt
END:VEVENT
END:VCALENDAR