BEGIN:VCALENDAR
VERSION:2.0
PRODID:https://www.kufer.de/kuferweb / DE
METHOD:PUBLISH
CALSCALE:GREGORIAN
X-WR-TIMEZONE:Europe/Berlin
BEGIN:VTIMEZONE
TZID:Europe/Berlin
X-LIC-LOCATION:Europe/Berlin
BEGIN:DAYLIGHT
TZOFFSETFROM:+0100
TZOFFSETTO:+0200
TZNAME:CEST
DTSTART:19700329T020000
RRULE:FREQ=YEARLY;INTERVAL=1;BYDAY=-1SU;BYMONTH=3
END:DAYLIGHT
BEGIN:STANDARD
TZOFFSETFROM:+0200
TZOFFSETTO:+0100
TZNAME:CET
DTSTART:19701025T030000
RRULE:FREQ=YEARLY;INTERVAL=1;BYDAY=-1SU;BYMONTH=10
END:STANDARD
END:VTIMEZONE
BEGIN:VEVENT
DTSTAMP:20260421T162212
DTSTART;TZID=Europe/Berlin:20260212T170000
DTEND;TZID=Europe/Berlin:20260212T180000
UID:S267920112-20260212T170000@VHSWIENER NEUSTADT
SUMMARY:TURNEN FÜR KINDER (3-6 Jahre) (S267920112) 
LOCATION:Volksschule Josefstadt, Turnsaal, Sonnleitnergasse 1 (linker Eingang), 2700 Wiener Neustadt
END:VEVENT
BEGIN:VEVENT
DTSTAMP:20260421T162212
DTSTART;TZID=Europe/Berlin:20260219T170000
DTEND;TZID=Europe/Berlin:20260219T180000
UID:S267920112-20260219T170000@VHSWIENER NEUSTADT
SUMMARY:TURNEN FÜR KINDER (3-6 Jahre) (S267920112) 
LOCATION:Volksschule Josefstadt, Turnsaal, Sonnleitnergasse 1 (linker Eingang), 2700 Wiener Neustadt
END:VEVENT
BEGIN:VEVENT
DTSTAMP:20260421T162212
DTSTART;TZID=Europe/Berlin:20260226T170000
DTEND;TZID=Europe/Berlin:20260226T180000
UID:S267920112-20260226T170000@VHSWIENER NEUSTADT
SUMMARY:TURNEN FÜR KINDER (3-6 Jahre) (S267920112) 
LOCATION:Volksschule Josefstadt, Turnsaal, Sonnleitnergasse 1 (linker Eingang), 2700 Wiener Neustadt
END:VEVENT
BEGIN:VEVENT
DTSTAMP:20260421T162212
DTSTART;TZID=Europe/Berlin:20260305T170000
DTEND;TZID=Europe/Berlin:20260305T180000
UID:S267920112-20260305T170000@VHSWIENER NEUSTADT
SUMMARY:TURNEN FÜR KINDER (3-6 Jahre) (S267920112) 
LOCATION:Volksschule Josefstadt, Turnsaal, Sonnleitnergasse 1 (linker Eingang), 2700 Wiener Neustadt
END:VEVENT
BEGIN:VEVENT
DTSTAMP:20260421T162212
DTSTART;TZID=Europe/Berlin:20260312T170000
DTEND;TZID=Europe/Berlin:20260312T180000
UID:S267920112-20260312T170000@VHSWIENER NEUSTADT
SUMMARY:TURNEN FÜR KINDER (3-6 Jahre) (S267920112) 
LOCATION:Volksschule Josefstadt, Turnsaal, Sonnleitnergasse 1 (linker Eingang), 2700 Wiener Neustadt
END:VEVENT
BEGIN:VEVENT
DTSTAMP:20260421T162212
DTSTART;TZID=Europe/Berlin:20260319T170000
DTEND;TZID=Europe/Berlin:20260319T180000
UID:S267920112-20260319T170000@VHSWIENER NEUSTADT
SUMMARY:TURNEN FÜR KINDER (3-6 Jahre) (S267920112) 
LOCATION:Volksschule Josefstadt, Turnsaal, Sonnleitnergasse 1 (linker Eingang), 2700 Wiener Neustadt
END:VEVENT
BEGIN:VEVENT
DTSTAMP:20260421T162212
DTSTART;TZID=Europe/Berlin:20260326T170000
DTEND;TZID=Europe/Berlin:20260326T180000
UID:S267920112-20260326T170000@VHSWIENER NEUSTADT
DESCRIPTION:1er Kellermann / 2er Klco
SUMMARY:TURNEN FÜR KINDER (3-6 Jahre) (S267920112) 
LOCATION:Volksschule Josefstadt, Turnsaal, Sonnleitnergasse 1 (linker Eingang), 2700 Wiener Neustadt
END:VEVENT
BEGIN:VEVENT
DTSTAMP:20260421T162212
DTSTART;TZID=Europe/Berlin:20260409T170000
DTEND;TZID=Europe/Berlin:20260409T180000
UID:S267920112-20260409T170000@VHSWIENER NEUSTADT
SUMMARY:TURNEN FÜR KINDER (3-6 Jahre) (S267920112) 
LOCATION:Volksschule Josefstadt, Turnsaal, Sonnleitnergasse 1 (linker Eingang), 2700 Wiener Neustadt
END:VEVENT
BEGIN:VEVENT
DTSTAMP:20260421T162212
DTSTART;TZID=Europe/Berlin:20260416T170000
DTEND;TZID=Europe/Berlin:20260416T180000
UID:S267920112-20260416T170000@VHSWIENER NEUSTADT
SUMMARY:TURNEN FÜR KINDER (3-6 Jahre) (S267920112) 
LOCATION:Volksschule Josefstadt, Turnsaal, Sonnleitnergasse 1 (linker Eingang), 2700 Wiener Neustadt
END:VEVENT
BEGIN:VEVENT
DTSTAMP:20260421T162212
DTSTART;TZID=Europe/Berlin:20260423T170000
DTEND;TZID=Europe/Berlin:20260423T180000
UID:S267920112-20260423T170000@VHSWIENER NEUSTADT
SUMMARY:TURNEN FÜR KINDER (3-6 Jahre) (S267920112) 
LOCATION:Volksschule Josefstadt, Turnsaal, Sonnleitnergasse 1 (linker Eingang), 2700 Wiener Neustadt
END:VEVENT
BEGIN:VEVENT
DTSTAMP:20260421T162212
DTSTART;TZID=Europe/Berlin:20260430T170000
DTEND;TZID=Europe/Berlin:20260430T180000
UID:S267920112-20260430T170000@VHSWIENER NEUSTADT
SUMMARY:TURNEN FÜR KINDER (3-6 Jahre) (S267920112) 
LOCATION:Volksschule Josefstadt, Turnsaal, Sonnleitnergasse 1 (linker Eingang), 2700 Wiener Neustadt
END:VEVENT
BEGIN:VEVENT
DTSTAMP:20260421T162212
DTSTART;TZID=Europe/Berlin:20260507T170000
DTEND;TZID=Europe/Berlin:20260507T180000
UID:S267920112-20260507T170000@VHSWIENER NEUSTADT
SUMMARY:TURNEN FÜR KINDER (3-6 Jahre) (S267920112) 
LOCATION:Volksschule Josefstadt, Turnsaal, Sonnleitnergasse 1 (linker Eingang), 2700 Wiener Neustadt
END:VEVENT
BEGIN:VEVENT
DTSTAMP:20260421T162212
DTSTART;TZID=Europe/Berlin:20260521T170000
DTEND;TZID=Europe/Berlin:20260521T180000
UID:S267920112-20260521T170000@VHSWIENER NEUSTADT
SUMMARY:TURNEN FÜR KINDER (3-6 Jahre) (S267920112) 
LOCATION:Volksschule Josefstadt, Turnsaal, Sonnleitnergasse 1 (linker Eingang), 2700 Wiener Neustadt
END:VEVENT
BEGIN:VEVENT
DTSTAMP:20260421T162212
DTSTART;TZID=Europe/Berlin:20260528T170000
DTEND;TZID=Europe/Berlin:20260528T180000
UID:S267920112-20260528T170000@VHSWIENER NEUSTADT
SUMMARY:TURNEN FÜR KINDER (3-6 Jahre) (S267920112) 
LOCATION:Volksschule Josefstadt, Turnsaal, Sonnleitnergasse 1 (linker Eingang), 2700 Wiener Neustadt
END:VEVENT
BEGIN:VEVENT
DTSTAMP:20260421T162212
DTSTART;TZID=Europe/Berlin:20260611T170000
DTEND;TZID=Europe/Berlin:20260611T180000
UID:S267920112-20260611T170000@VHSWIENER NEUSTADT
SUMMARY:TURNEN FÜR KINDER (3-6 Jahre) (S267920112) 
LOCATION:Volksschule Josefstadt, Turnsaal, Sonnleitnergasse 1 (linker Eingang), 2700 Wiener Neustadt
END:VEVENT
BEGIN:VEVENT
DTSTAMP:20260421T162212
DTSTART;TZID=Europe/Berlin:20260618T170000
DTEND;TZID=Europe/Berlin:20260618T180000
UID:S267920112-20260618T170000@VHSWIENER NEUSTADT
SUMMARY:TURNEN FÜR KINDER (3-6 Jahre) (S267920112) 
LOCATION:Volksschule Josefstadt, Turnsaal, Sonnleitnergasse 1 (linker Eingang), 2700 Wiener Neustadt
END:VEVENT
BEGIN:VEVENT
DTSTAMP:20260421T162212
DTSTART;TZID=Europe/Berlin:20260625T170000
DTEND;TZID=Europe/Berlin:20260625T180000
UID:S267920112-20260625T170000@VHSWIENER NEUSTADT
SUMMARY:TURNEN FÜR KINDER (3-6 Jahre) (S267920112) 
LOCATION:Volksschule Josefstadt, Turnsaal, Sonnleitnergasse 1 (linker Eingang), 2700 Wiener Neustadt
END:VEVENT
BEGIN:VEVENT
DTSTAMP:20260421T162212
DTSTART;TZID=Europe/Berlin:20260702T170000
DTEND;TZID=Europe/Berlin:20260702T180000
UID:S267920112-20260702T170000@VHSWIENER NEUSTADT
SUMMARY:TURNEN FÜR KINDER (3-6 Jahre) (S267920112) 
LOCATION:Volksschule Josefstadt, Turnsaal, Sonnleitnergasse 1 (linker Eingang), 2700 Wiener Neustadt
END:VEVENT
END:VCALENDAR