BEGIN:VCALENDAR
VERSION:2.0
PRODID:https://www.kufer.de/kuferweb / DE
METHOD:PUBLISH
CALSCALE:GREGORIAN
X-WR-TIMEZONE:Europe/Berlin
BEGIN:VTIMEZONE
TZID:Europe/Berlin
X-LIC-LOCATION:Europe/Berlin
BEGIN:DAYLIGHT
TZOFFSETFROM:+0100
TZOFFSETTO:+0200
TZNAME:CEST
DTSTART:19700329T020000
RRULE:FREQ=YEARLY;INTERVAL=1;BYDAY=-1SU;BYMONTH=3
END:DAYLIGHT
BEGIN:STANDARD
TZOFFSETFROM:+0200
TZOFFSETTO:+0100
TZNAME:CET
DTSTART:19701025T030000
RRULE:FREQ=YEARLY;INTERVAL=1;BYDAY=-1SU;BYMONTH=10
END:STANDARD
END:VTIMEZONE
BEGIN:VEVENT
DTSTAMP:20260425T145949
DTSTART;TZID=Europe/Berlin:20260213T174500
DTEND;TZID=Europe/Berlin:20260213T193000
UID:S267900118-20260213T174500@VHSWIENER NEUSTADT
SUMMARY:BALLETT FÜR FORTGESCHRITTENE (Erwachsene) (S267900118) 
LOCATION:VHS Mehrzweckraum 1, Singergasse 14-16, 2700 Wiener Neustadt
END:VEVENT
BEGIN:VEVENT
DTSTAMP:20260425T145949
DTSTART;TZID=Europe/Berlin:20260220T174500
DTEND;TZID=Europe/Berlin:20260220T193000
UID:S267900118-20260220T174500@VHSWIENER NEUSTADT
SUMMARY:BALLETT FÜR FORTGESCHRITTENE (Erwachsene) (S267900118) 
LOCATION:VHS Mehrzweckraum 1, Singergasse 14-16, 2700 Wiener Neustadt
END:VEVENT
BEGIN:VEVENT
DTSTAMP:20260425T145949
DTSTART;TZID=Europe/Berlin:20260227T174500
DTEND;TZID=Europe/Berlin:20260227T193000
UID:S267900118-20260227T174500@VHSWIENER NEUSTADT
SUMMARY:BALLETT FÜR FORTGESCHRITTENE (Erwachsene) (S267900118) 
LOCATION:VHS Mehrzweckraum 1, Singergasse 14-16, 2700 Wiener Neustadt
END:VEVENT
BEGIN:VEVENT
DTSTAMP:20260425T145949
DTSTART;TZID=Europe/Berlin:20260306T174500
DTEND;TZID=Europe/Berlin:20260306T193000
UID:S267900118-20260306T174500@VHSWIENER NEUSTADT
SUMMARY:BALLETT FÜR FORTGESCHRITTENE (Erwachsene) (S267900118) 
LOCATION:VHS Mehrzweckraum 1, Singergasse 14-16, 2700 Wiener Neustadt
END:VEVENT
BEGIN:VEVENT
DTSTAMP:20260425T145949
DTSTART;TZID=Europe/Berlin:20260313T174500
DTEND;TZID=Europe/Berlin:20260313T193000
UID:S267900118-20260313T174500@VHSWIENER NEUSTADT
SUMMARY:BALLETT FÜR FORTGESCHRITTENE (Erwachsene) (S267900118) 
LOCATION:VHS Mehrzweckraum 1, Singergasse 14-16, 2700 Wiener Neustadt
END:VEVENT
BEGIN:VEVENT
DTSTAMP:20260425T145949
DTSTART;TZID=Europe/Berlin:20260320T174500
DTEND;TZID=Europe/Berlin:20260320T193000
UID:S267900118-20260320T174500@VHSWIENER NEUSTADT
SUMMARY:BALLETT FÜR FORTGESCHRITTENE (Erwachsene) (S267900118) 
LOCATION:VHS Mehrzweckraum 1, Singergasse 14-16, 2700 Wiener Neustadt
END:VEVENT
BEGIN:VEVENT
DTSTAMP:20260425T145949
DTSTART;TZID=Europe/Berlin:20260327T174500
DTEND;TZID=Europe/Berlin:20260327T193000
UID:S267900118-20260327T174500@VHSWIENER NEUSTADT
SUMMARY:BALLETT FÜR FORTGESCHRITTENE (Erwachsene) (S267900118) 
LOCATION:VHS Mehrzweckraum 1, Singergasse 14-16, 2700 Wiener Neustadt
END:VEVENT
BEGIN:VEVENT
DTSTAMP:20260425T145949
DTSTART;TZID=Europe/Berlin:20260410T174500
DTEND;TZID=Europe/Berlin:20260410T193000
UID:S267900118-20260410T174500@VHSWIENER NEUSTADT
SUMMARY:BALLETT FÜR FORTGESCHRITTENE (Erwachsene) (S267900118) 
LOCATION:VHS Mehrzweckraum 1, Singergasse 14-16, 2700 Wiener Neustadt
END:VEVENT
BEGIN:VEVENT
DTSTAMP:20260425T145949
DTSTART;TZID=Europe/Berlin:20260417T174500
DTEND;TZID=Europe/Berlin:20260417T193000
UID:S267900118-20260417T174500@VHSWIENER NEUSTADT
SUMMARY:BALLETT FÜR FORTGESCHRITTENE (Erwachsene) (S267900118) 
LOCATION:VHS Mehrzweckraum 1, Singergasse 14-16, 2700 Wiener Neustadt
END:VEVENT
BEGIN:VEVENT
DTSTAMP:20260425T145949
DTSTART;TZID=Europe/Berlin:20260424T174500
DTEND;TZID=Europe/Berlin:20260424T193000
UID:S267900118-20260424T174500@VHSWIENER NEUSTADT
SUMMARY:BALLETT FÜR FORTGESCHRITTENE (Erwachsene) (S267900118) 
LOCATION:VHS Mehrzweckraum 1, Singergasse 14-16, 2700 Wiener Neustadt
END:VEVENT
BEGIN:VEVENT
DTSTAMP:20260425T145949
DTSTART;TZID=Europe/Berlin:20260508T174500
DTEND;TZID=Europe/Berlin:20260508T193000
UID:S267900118-20260508T174500@VHSWIENER NEUSTADT
SUMMARY:BALLETT FÜR FORTGESCHRITTENE (Erwachsene) (S267900118) 
LOCATION:VHS Mehrzweckraum 1, Singergasse 14-16, 2700 Wiener Neustadt
END:VEVENT
BEGIN:VEVENT
DTSTAMP:20260425T145949
DTSTART;TZID=Europe/Berlin:20260515T174500
DTEND;TZID=Europe/Berlin:20260515T193000
UID:S267900118-20260515T174500@VHSWIENER NEUSTADT
SUMMARY:BALLETT FÜR FORTGESCHRITTENE (Erwachsene) (S267900118) 
LOCATION:VHS Mehrzweckraum 1, Singergasse 14-16, 2700 Wiener Neustadt
END:VEVENT
BEGIN:VEVENT
DTSTAMP:20260425T145949
DTSTART;TZID=Europe/Berlin:20260522T174500
DTEND;TZID=Europe/Berlin:20260522T193000
UID:S267900118-20260522T174500@VHSWIENER NEUSTADT
SUMMARY:BALLETT FÜR FORTGESCHRITTENE (Erwachsene) (S267900118) 
LOCATION:VHS Mehrzweckraum 1, Singergasse 14-16, 2700 Wiener Neustadt
END:VEVENT
BEGIN:VEVENT
DTSTAMP:20260425T145949
DTSTART;TZID=Europe/Berlin:20260529T174500
DTEND;TZID=Europe/Berlin:20260529T193000
UID:S267900118-20260529T174500@VHSWIENER NEUSTADT
SUMMARY:BALLETT FÜR FORTGESCHRITTENE (Erwachsene) (S267900118) 
LOCATION:VHS Mehrzweckraum 1, Singergasse 14-16, 2700 Wiener Neustadt
END:VEVENT
BEGIN:VEVENT
DTSTAMP:20260425T145949
DTSTART;TZID=Europe/Berlin:20260605T174500
DTEND;TZID=Europe/Berlin:20260605T193000
UID:S267900118-20260605T174500@VHSWIENER NEUSTADT
SUMMARY:BALLETT FÜR FORTGESCHRITTENE (Erwachsene) (S267900118) 
LOCATION:VHS Mehrzweckraum 1, Singergasse 14-16, 2700 Wiener Neustadt
END:VEVENT
BEGIN:VEVENT
DTSTAMP:20260425T145949
DTSTART;TZID=Europe/Berlin:20260612T174500
DTEND;TZID=Europe/Berlin:20260612T193000
UID:S267900118-20260612T174500@VHSWIENER NEUSTADT
SUMMARY:BALLETT FÜR FORTGESCHRITTENE (Erwachsene) (S267900118) 
LOCATION:VHS Mehrzweckraum 1, Singergasse 14-16, 2700 Wiener Neustadt
END:VEVENT
BEGIN:VEVENT
DTSTAMP:20260425T145949
DTSTART;TZID=Europe/Berlin:20260619T174500
DTEND;TZID=Europe/Berlin:20260619T193000
UID:S267900118-20260619T174500@VHSWIENER NEUSTADT
SUMMARY:BALLETT FÜR FORTGESCHRITTENE (Erwachsene) (S267900118) 
LOCATION:VHS Mehrzweckraum 1, Singergasse 14-16, 2700 Wiener Neustadt
END:VEVENT
END:VCALENDAR