BEGIN:VCALENDAR
VERSION:2.0
PRODID:https://www.kufer.de/kuferweb / DE
METHOD:PUBLISH
CALSCALE:GREGORIAN
X-WR-TIMEZONE:Europe/Berlin
BEGIN:VTIMEZONE
TZID:Europe/Berlin
X-LIC-LOCATION:Europe/Berlin
BEGIN:DAYLIGHT
TZOFFSETFROM:+0100
TZOFFSETTO:+0200
TZNAME:CEST
DTSTART:19700329T020000
RRULE:FREQ=YEARLY;INTERVAL=1;BYDAY=-1SU;BYMONTH=3
END:DAYLIGHT
BEGIN:STANDARD
TZOFFSETFROM:+0200
TZOFFSETTO:+0100
TZNAME:CET
DTSTART:19701025T030000
RRULE:FREQ=YEARLY;INTERVAL=1;BYDAY=-1SU;BYMONTH=10
END:STANDARD
END:VTIMEZONE
BEGIN:VEVENT
DTSTAMP:20260425T145928
DTSTART;TZID=Europe/Berlin:20260422T163000
DTEND;TZID=Europe/Berlin:20260422T173000
UID:S267900105-20260422T163000@VHSWIENER NEUSTADT
SUMMARY:ORIENTALISCHER TANZ ANFÄNGERINNEN MIT VORKENNTNISSEN - FORTSETZUNG, FRAUENKURS (S267900105) 
LOCATION:Tennis- u. Freizeitanlage Neudörfl; Aerobic-Saal, Fabriksgelände 9 , 7201 Neudörfl
END:VEVENT
BEGIN:VEVENT
DTSTAMP:20260425T145928
DTSTART;TZID=Europe/Berlin:20260429T163000
DTEND;TZID=Europe/Berlin:20260429T173000
UID:S267900105-20260429T163000@VHSWIENER NEUSTADT
SUMMARY:ORIENTALISCHER TANZ ANFÄNGERINNEN MIT VORKENNTNISSEN - FORTSETZUNG, FRAUENKURS (S267900105) 
LOCATION:Tennis- u. Freizeitanlage Neudörfl; Aerobic-Saal, Fabriksgelände 9 , 7201 Neudörfl
END:VEVENT
BEGIN:VEVENT
DTSTAMP:20260425T145928
DTSTART;TZID=Europe/Berlin:20260506T163000
DTEND;TZID=Europe/Berlin:20260506T173000
UID:S267900105-20260506T163000@VHSWIENER NEUSTADT
SUMMARY:ORIENTALISCHER TANZ ANFÄNGERINNEN MIT VORKENNTNISSEN - FORTSETZUNG, FRAUENKURS (S267900105) 
LOCATION:Tennis- u. Freizeitanlage Neudörfl; Aerobic-Saal, Fabriksgelände 9 , 7201 Neudörfl
END:VEVENT
BEGIN:VEVENT
DTSTAMP:20260425T145928
DTSTART;TZID=Europe/Berlin:20260513T163000
DTEND;TZID=Europe/Berlin:20260513T173000
UID:S267900105-20260513T163000@VHSWIENER NEUSTADT
SUMMARY:ORIENTALISCHER TANZ ANFÄNGERINNEN MIT VORKENNTNISSEN - FORTSETZUNG, FRAUENKURS (S267900105) 
LOCATION:Tennis- u. Freizeitanlage Neudörfl; Aerobic-Saal, Fabriksgelände 9 , 7201 Neudörfl
END:VEVENT
BEGIN:VEVENT
DTSTAMP:20260425T145928
DTSTART;TZID=Europe/Berlin:20260520T163000
DTEND;TZID=Europe/Berlin:20260520T173000
UID:S267900105-20260520T163000@VHSWIENER NEUSTADT
SUMMARY:ORIENTALISCHER TANZ ANFÄNGERINNEN MIT VORKENNTNISSEN - FORTSETZUNG, FRAUENKURS (S267900105) 
LOCATION:Tennis- u. Freizeitanlage Neudörfl; Aerobic-Saal, Fabriksgelände 9 , 7201 Neudörfl
END:VEVENT
BEGIN:VEVENT
DTSTAMP:20260425T145928
DTSTART;TZID=Europe/Berlin:20260527T163000
DTEND;TZID=Europe/Berlin:20260527T173000
UID:S267900105-20260527T163000@VHSWIENER NEUSTADT
SUMMARY:ORIENTALISCHER TANZ ANFÄNGERINNEN MIT VORKENNTNISSEN - FORTSETZUNG, FRAUENKURS (S267900105) 
LOCATION:Tennis- u. Freizeitanlage Neudörfl; Aerobic-Saal, Fabriksgelände 9 , 7201 Neudörfl
END:VEVENT
BEGIN:VEVENT
DTSTAMP:20260425T145928
DTSTART;TZID=Europe/Berlin:20260603T163000
DTEND;TZID=Europe/Berlin:20260603T173000
UID:S267900105-20260603T163000@VHSWIENER NEUSTADT
DESCRIPTION:ET f. 15.04. da sich Kursstart mit Kursende überscheidest durch die Verschiebungen beim Vorgängerkurs
SUMMARY:ORIENTALISCHER TANZ ANFÄNGERINNEN MIT VORKENNTNISSEN - FORTSETZUNG, FRAUENKURS (S267900105) 
LOCATION:Tennis- u. Freizeitanlage Neudörfl; Aerobic-Saal, Fabriksgelände 9 , 7201 Neudörfl
END:VEVENT
END:VCALENDAR