BEGIN:VCALENDAR
VERSION:2.0
PRODID:https://www.kufer.de/kuferweb / DE
METHOD:PUBLISH
CALSCALE:GREGORIAN
X-WR-TIMEZONE:Europe/Berlin
BEGIN:VTIMEZONE
TZID:Europe/Berlin
X-LIC-LOCATION:Europe/Berlin
BEGIN:DAYLIGHT
TZOFFSETFROM:+0100
TZOFFSETTO:+0200
TZNAME:CEST
DTSTART:19700329T020000
RRULE:FREQ=YEARLY;INTERVAL=1;BYDAY=-1SU;BYMONTH=3
END:DAYLIGHT
BEGIN:STANDARD
TZOFFSETFROM:+0200
TZOFFSETTO:+0100
TZNAME:CET
DTSTART:19701025T030000
RRULE:FREQ=YEARLY;INTERVAL=1;BYDAY=-1SU;BYMONTH=10
END:STANDARD
END:VTIMEZONE
BEGIN:VEVENT
DTSTAMP:20260421T161846
DTSTART;TZID=Europe/Berlin:20260220T100000
DTEND;TZID=Europe/Berlin:20260220T110000
UID:S267840108-20260220T100000@VHSWIENER NEUSTADT
SUMMARY:YOGA 50+ – MEHR ENERGIE, BEWEGLICHKEIT UND INNERE BALANCE (S267840108) 
LOCATION:VHS Mehrzweckraum 2, Singergasse 14-16, 2700 Wiener Neustadt
END:VEVENT
BEGIN:VEVENT
DTSTAMP:20260421T161846
DTSTART;TZID=Europe/Berlin:20260227T100000
DTEND;TZID=Europe/Berlin:20260227T110000
UID:S267840108-20260227T100000@VHSWIENER NEUSTADT
SUMMARY:YOGA 50+ – MEHR ENERGIE, BEWEGLICHKEIT UND INNERE BALANCE (S267840108) 
LOCATION:VHS Mehrzweckraum 2, Singergasse 14-16, 2700 Wiener Neustadt
END:VEVENT
BEGIN:VEVENT
DTSTAMP:20260421T161846
DTSTART;TZID=Europe/Berlin:20260306T100000
DTEND;TZID=Europe/Berlin:20260306T110000
UID:S267840108-20260306T100000@VHSWIENER NEUSTADT
SUMMARY:YOGA 50+ – MEHR ENERGIE, BEWEGLICHKEIT UND INNERE BALANCE (S267840108) 
LOCATION:VHS Mehrzweckraum 2, Singergasse 14-16, 2700 Wiener Neustadt
END:VEVENT
BEGIN:VEVENT
DTSTAMP:20260421T161846
DTSTART;TZID=Europe/Berlin:20260320T100000
DTEND;TZID=Europe/Berlin:20260320T110000
UID:S267840108-20260320T100000@VHSWIENER NEUSTADT
SUMMARY:YOGA 50+ – MEHR ENERGIE, BEWEGLICHKEIT UND INNERE BALANCE (S267840108) 
LOCATION:VHS Mehrzweckraum 2, Singergasse 14-16, 2700 Wiener Neustadt
END:VEVENT
BEGIN:VEVENT
DTSTAMP:20260421T161846
DTSTART;TZID=Europe/Berlin:20260327T100000
DTEND;TZID=Europe/Berlin:20260327T110000
UID:S267840108-20260327T100000@VHSWIENER NEUSTADT
SUMMARY:YOGA 50+ – MEHR ENERGIE, BEWEGLICHKEIT UND INNERE BALANCE (S267840108) 
LOCATION:VHS Mehrzweckraum 2, Singergasse 14-16, 2700 Wiener Neustadt
END:VEVENT
BEGIN:VEVENT
DTSTAMP:20260421T161846
DTSTART;TZID=Europe/Berlin:20260410T100000
DTEND;TZID=Europe/Berlin:20260410T110000
UID:S267840108-20260410T100000@VHSWIENER NEUSTADT
SUMMARY:YOGA 50+ – MEHR ENERGIE, BEWEGLICHKEIT UND INNERE BALANCE (S267840108) 
LOCATION:VHS Mehrzweckraum 2, Singergasse 14-16, 2700 Wiener Neustadt
END:VEVENT
BEGIN:VEVENT
DTSTAMP:20260421T161846
DTSTART;TZID=Europe/Berlin:20260424T100000
DTEND;TZID=Europe/Berlin:20260424T110000
UID:S267840108-20260424T100000@VHSWIENER NEUSTADT
SUMMARY:YOGA 50+ – MEHR ENERGIE, BEWEGLICHKEIT UND INNERE BALANCE (S267840108) 
LOCATION:VHS Mehrzweckraum 2, Singergasse 14-16, 2700 Wiener Neustadt
END:VEVENT
BEGIN:VEVENT
DTSTAMP:20260421T161846
DTSTART;TZID=Europe/Berlin:20260508T100000
DTEND;TZID=Europe/Berlin:20260508T110000
UID:S267840108-20260508T100000@VHSWIENER NEUSTADT
SUMMARY:YOGA 50+ – MEHR ENERGIE, BEWEGLICHKEIT UND INNERE BALANCE (S267840108) 
LOCATION:VHS Mehrzweckraum 2, Singergasse 14-16, 2700 Wiener Neustadt
END:VEVENT
BEGIN:VEVENT
DTSTAMP:20260421T161846
DTSTART;TZID=Europe/Berlin:20260522T100000
DTEND;TZID=Europe/Berlin:20260522T110000
UID:S267840108-20260522T100000@VHSWIENER NEUSTADT
SUMMARY:YOGA 50+ – MEHR ENERGIE, BEWEGLICHKEIT UND INNERE BALANCE (S267840108) 
LOCATION:VHS Mehrzweckraum 2, Singergasse 14-16, 2700 Wiener Neustadt
END:VEVENT
BEGIN:VEVENT
DTSTAMP:20260421T161846
DTSTART;TZID=Europe/Berlin:20260529T100000
DTEND;TZID=Europe/Berlin:20260529T110000
UID:S267840108-20260529T100000@VHSWIENER NEUSTADT
SUMMARY:YOGA 50+ – MEHR ENERGIE, BEWEGLICHKEIT UND INNERE BALANCE (S267840108) 
LOCATION:VHS Mehrzweckraum 2, Singergasse 14-16, 2700 Wiener Neustadt
END:VEVENT
BEGIN:VEVENT
DTSTAMP:20260421T161846
DTSTART;TZID=Europe/Berlin:20260612T100000
DTEND;TZID=Europe/Berlin:20260612T110000
UID:S267840108-20260612T100000@VHSWIENER NEUSTADT
SUMMARY:YOGA 50+ – MEHR ENERGIE, BEWEGLICHKEIT UND INNERE BALANCE (S267840108) 
LOCATION:VHS Mehrzweckraum 2, Singergasse 14-16, 2700 Wiener Neustadt
END:VEVENT
END:VCALENDAR