BEGIN:VCALENDAR
VERSION:2.0
PRODID:https://www.kufer.de/kuferweb / DE
METHOD:PUBLISH
CALSCALE:GREGORIAN
X-WR-TIMEZONE:Europe/Berlin
BEGIN:VTIMEZONE
TZID:Europe/Berlin
X-LIC-LOCATION:Europe/Berlin
BEGIN:DAYLIGHT
TZOFFSETFROM:+0100
TZOFFSETTO:+0200
TZNAME:CEST
DTSTART:19700329T020000
RRULE:FREQ=YEARLY;INTERVAL=1;BYDAY=-1SU;BYMONTH=3
END:DAYLIGHT
BEGIN:STANDARD
TZOFFSETFROM:+0200
TZOFFSETTO:+0100
TZNAME:CET
DTSTART:19701025T030000
RRULE:FREQ=YEARLY;INTERVAL=1;BYDAY=-1SU;BYMONTH=10
END:STANDARD
END:VTIMEZONE
BEGIN:VEVENT
DTSTAMP:20260423T155728
DTSTART;TZID=Europe/Berlin:20260212T191000
DTEND;TZID=Europe/Berlin:20260212T201000
UID:S267830109-20260212T191000@VHSWIENER NEUSTADT
SUMMARY:RÜCKENSCHULE (S267830109) 
LOCATION:VHS Mehrzweckraum 1, Singergasse 14-16, 2700 Wiener Neustadt
END:VEVENT
BEGIN:VEVENT
DTSTAMP:20260423T155728
DTSTART;TZID=Europe/Berlin:20260219T191000
DTEND;TZID=Europe/Berlin:20260219T201000
UID:S267830109-20260219T191000@VHSWIENER NEUSTADT
SUMMARY:RÜCKENSCHULE (S267830109) 
LOCATION:VHS Mehrzweckraum 1, Singergasse 14-16, 2700 Wiener Neustadt
END:VEVENT
BEGIN:VEVENT
DTSTAMP:20260423T155728
DTSTART;TZID=Europe/Berlin:20260226T191000
DTEND;TZID=Europe/Berlin:20260226T201000
UID:S267830109-20260226T191000@VHSWIENER NEUSTADT
SUMMARY:RÜCKENSCHULE (S267830109) 
LOCATION:VHS Mehrzweckraum 1, Singergasse 14-16, 2700 Wiener Neustadt
END:VEVENT
BEGIN:VEVENT
DTSTAMP:20260423T155728
DTSTART;TZID=Europe/Berlin:20260305T191000
DTEND;TZID=Europe/Berlin:20260305T201000
UID:S267830109-20260305T191000@VHSWIENER NEUSTADT
SUMMARY:RÜCKENSCHULE (S267830109) 
LOCATION:VHS Mehrzweckraum 1, Singergasse 14-16, 2700 Wiener Neustadt
END:VEVENT
BEGIN:VEVENT
DTSTAMP:20260423T155728
DTSTART;TZID=Europe/Berlin:20260312T191000
DTEND;TZID=Europe/Berlin:20260312T201000
UID:S267830109-20260312T191000@VHSWIENER NEUSTADT
SUMMARY:RÜCKENSCHULE (S267830109) 
LOCATION:VHS Mehrzweckraum 1, Singergasse 14-16, 2700 Wiener Neustadt
END:VEVENT
BEGIN:VEVENT
DTSTAMP:20260423T155728
DTSTART;TZID=Europe/Berlin:20260319T191000
DTEND;TZID=Europe/Berlin:20260319T201000
UID:S267830109-20260319T191000@VHSWIENER NEUSTADT
SUMMARY:RÜCKENSCHULE (S267830109) 
LOCATION:VHS Mehrzweckraum 1, Singergasse 14-16, 2700 Wiener Neustadt
END:VEVENT
BEGIN:VEVENT
DTSTAMP:20260423T155728
DTSTART;TZID=Europe/Berlin:20260326T191000
DTEND;TZID=Europe/Berlin:20260326T201000
UID:S267830109-20260326T191000@VHSWIENER NEUSTADT
SUMMARY:RÜCKENSCHULE (S267830109) 
LOCATION:VHS Mehrzweckraum 1, Singergasse 14-16, 2700 Wiener Neustadt
END:VEVENT
BEGIN:VEVENT
DTSTAMP:20260423T155728
DTSTART;TZID=Europe/Berlin:20260409T191000
DTEND;TZID=Europe/Berlin:20260409T201000
UID:S267830109-20260409T191000@VHSWIENER NEUSTADT
SUMMARY:RÜCKENSCHULE (S267830109) 
LOCATION:VHS Mehrzweckraum 1, Singergasse 14-16, 2700 Wiener Neustadt
END:VEVENT
BEGIN:VEVENT
DTSTAMP:20260423T155728
DTSTART;TZID=Europe/Berlin:20260416T191000
DTEND;TZID=Europe/Berlin:20260416T201000
UID:S267830109-20260416T191000@VHSWIENER NEUSTADT
SUMMARY:RÜCKENSCHULE (S267830109) 
LOCATION:VHS Mehrzweckraum 1, Singergasse 14-16, 2700 Wiener Neustadt
END:VEVENT
BEGIN:VEVENT
DTSTAMP:20260423T155728
DTSTART;TZID=Europe/Berlin:20260423T191000
DTEND;TZID=Europe/Berlin:20260423T201000
UID:S267830109-20260423T191000@VHSWIENER NEUSTADT
SUMMARY:RÜCKENSCHULE (S267830109) 
LOCATION:VHS Mehrzweckraum 1, Singergasse 14-16, 2700 Wiener Neustadt
END:VEVENT
BEGIN:VEVENT
DTSTAMP:20260423T155728
DTSTART;TZID=Europe/Berlin:20260430T191000
DTEND;TZID=Europe/Berlin:20260430T201000
UID:S267830109-20260430T191000@VHSWIENER NEUSTADT
SUMMARY:RÜCKENSCHULE (S267830109) 
LOCATION:VHS Mehrzweckraum 1, Singergasse 14-16, 2700 Wiener Neustadt
END:VEVENT
BEGIN:VEVENT
DTSTAMP:20260423T155728
DTSTART;TZID=Europe/Berlin:20260507T191000
DTEND;TZID=Europe/Berlin:20260507T201000
UID:S267830109-20260507T191000@VHSWIENER NEUSTADT
SUMMARY:RÜCKENSCHULE (S267830109) 
LOCATION:VHS Mehrzweckraum 1, Singergasse 14-16, 2700 Wiener Neustadt
END:VEVENT
BEGIN:VEVENT
DTSTAMP:20260423T155728
DTSTART;TZID=Europe/Berlin:20260521T191000
DTEND;TZID=Europe/Berlin:20260521T201000
UID:S267830109-20260521T191000@VHSWIENER NEUSTADT
SUMMARY:RÜCKENSCHULE (S267830109) 
LOCATION:VHS Mehrzweckraum 1, Singergasse 14-16, 2700 Wiener Neustadt
END:VEVENT
BEGIN:VEVENT
DTSTAMP:20260423T155728
DTSTART;TZID=Europe/Berlin:20260528T191000
DTEND;TZID=Europe/Berlin:20260528T201000
UID:S267830109-20260528T191000@VHSWIENER NEUSTADT
SUMMARY:RÜCKENSCHULE (S267830109) 
LOCATION:VHS Mehrzweckraum 1, Singergasse 14-16, 2700 Wiener Neustadt
END:VEVENT
BEGIN:VEVENT
DTSTAMP:20260423T155728
DTSTART;TZID=Europe/Berlin:20260611T191000
DTEND;TZID=Europe/Berlin:20260611T201000
UID:S267830109-20260611T191000@VHSWIENER NEUSTADT
SUMMARY:RÜCKENSCHULE (S267830109) 
LOCATION:VHS Mehrzweckraum 1, Singergasse 14-16, 2700 Wiener Neustadt
END:VEVENT
END:VCALENDAR