BEGIN:VCALENDAR
VERSION:2.0
PRODID:https://www.kufer.de/kuferweb / DE
METHOD:PUBLISH
CALSCALE:GREGORIAN
X-WR-TIMEZONE:Europe/Berlin
BEGIN:VTIMEZONE
TZID:Europe/Berlin
X-LIC-LOCATION:Europe/Berlin
BEGIN:DAYLIGHT
TZOFFSETFROM:+0100
TZOFFSETTO:+0200
TZNAME:CEST
DTSTART:19700329T020000
RRULE:FREQ=YEARLY;INTERVAL=1;BYDAY=-1SU;BYMONTH=3
END:DAYLIGHT
BEGIN:STANDARD
TZOFFSETFROM:+0200
TZOFFSETTO:+0100
TZNAME:CET
DTSTART:19701025T030000
RRULE:FREQ=YEARLY;INTERVAL=1;BYDAY=-1SU;BYMONTH=10
END:STANDARD
END:VTIMEZONE
BEGIN:VEVENT
DTSTAMP:20260425T145927
DTSTART;TZID=Europe/Berlin:20260212T190000
DTEND;TZID=Europe/Berlin:20260212T200000
UID:S267830107-20260212T190000@VHSWIENER NEUSTADT
SUMMARY:FELDENKRAIS® KÖRPER IN BEWEGUNG (S267830107) 
LOCATION:VHS Mehrzweckraum 2, Singergasse 14-16, 2700 Wiener Neustadt
END:VEVENT
BEGIN:VEVENT
DTSTAMP:20260425T145927
DTSTART;TZID=Europe/Berlin:20260219T190000
DTEND;TZID=Europe/Berlin:20260219T200000
UID:S267830107-20260219T190000@VHSWIENER NEUSTADT
SUMMARY:FELDENKRAIS® KÖRPER IN BEWEGUNG (S267830107) 
LOCATION:VHS Mehrzweckraum 2, Singergasse 14-16, 2700 Wiener Neustadt
END:VEVENT
BEGIN:VEVENT
DTSTAMP:20260425T145927
DTSTART;TZID=Europe/Berlin:20260226T190000
DTEND;TZID=Europe/Berlin:20260226T200000
UID:S267830107-20260226T190000@VHSWIENER NEUSTADT
SUMMARY:FELDENKRAIS® KÖRPER IN BEWEGUNG (S267830107) 
LOCATION:VHS Mehrzweckraum 2, Singergasse 14-16, 2700 Wiener Neustadt
END:VEVENT
BEGIN:VEVENT
DTSTAMP:20260425T145927
DTSTART;TZID=Europe/Berlin:20260305T190000
DTEND;TZID=Europe/Berlin:20260305T200000
UID:S267830107-20260305T190000@VHSWIENER NEUSTADT
SUMMARY:FELDENKRAIS® KÖRPER IN BEWEGUNG (S267830107) 
LOCATION:VHS Mehrzweckraum 2, Singergasse 14-16, 2700 Wiener Neustadt
END:VEVENT
BEGIN:VEVENT
DTSTAMP:20260425T145927
DTSTART;TZID=Europe/Berlin:20260312T190000
DTEND;TZID=Europe/Berlin:20260312T200000
UID:S267830107-20260312T190000@VHSWIENER NEUSTADT
SUMMARY:FELDENKRAIS® KÖRPER IN BEWEGUNG (S267830107) 
LOCATION:VHS Mehrzweckraum 2, Singergasse 14-16, 2700 Wiener Neustadt
END:VEVENT
BEGIN:VEVENT
DTSTAMP:20260425T145927
DTSTART;TZID=Europe/Berlin:20260319T190000
DTEND;TZID=Europe/Berlin:20260319T200000
UID:S267830107-20260319T190000@VHSWIENER NEUSTADT
SUMMARY:FELDENKRAIS® KÖRPER IN BEWEGUNG (S267830107) 
LOCATION:VHS Mehrzweckraum 2, Singergasse 14-16, 2700 Wiener Neustadt
END:VEVENT
BEGIN:VEVENT
DTSTAMP:20260425T145927
DTSTART;TZID=Europe/Berlin:20260326T190000
DTEND;TZID=Europe/Berlin:20260326T200000
UID:S267830107-20260326T190000@VHSWIENER NEUSTADT
SUMMARY:FELDENKRAIS® KÖRPER IN BEWEGUNG (S267830107) 
LOCATION:VHS Mehrzweckraum 2, Singergasse 14-16, 2700 Wiener Neustadt
END:VEVENT
BEGIN:VEVENT
DTSTAMP:20260425T145927
DTSTART;TZID=Europe/Berlin:20260416T190000
DTEND;TZID=Europe/Berlin:20260416T200000
UID:S267830107-20260416T190000@VHSWIENER NEUSTADT
SUMMARY:FELDENKRAIS® KÖRPER IN BEWEGUNG (S267830107) 
LOCATION:VHS Mehrzweckraum 2, Singergasse 14-16, 2700 Wiener Neustadt
END:VEVENT
BEGIN:VEVENT
DTSTAMP:20260425T145927
DTSTART;TZID=Europe/Berlin:20260423T190000
DTEND;TZID=Europe/Berlin:20260423T200000
UID:S267830107-20260423T190000@VHSWIENER NEUSTADT
SUMMARY:FELDENKRAIS® KÖRPER IN BEWEGUNG (S267830107) 
LOCATION:VHS Mehrzweckraum 2, Singergasse 14-16, 2700 Wiener Neustadt
END:VEVENT
BEGIN:VEVENT
DTSTAMP:20260425T145927
DTSTART;TZID=Europe/Berlin:20260507T190000
DTEND;TZID=Europe/Berlin:20260507T200000
UID:S267830107-20260507T190000@VHSWIENER NEUSTADT
SUMMARY:FELDENKRAIS® KÖRPER IN BEWEGUNG (S267830107) 
LOCATION:VHS Mehrzweckraum 2, Singergasse 14-16, 2700 Wiener Neustadt
END:VEVENT
BEGIN:VEVENT
DTSTAMP:20260425T145927
DTSTART;TZID=Europe/Berlin:20260521T190000
DTEND;TZID=Europe/Berlin:20260521T200000
UID:S267830107-20260521T190000@VHSWIENER NEUSTADT
SUMMARY:FELDENKRAIS® KÖRPER IN BEWEGUNG (S267830107) 
LOCATION:VHS Mehrzweckraum 2, Singergasse 14-16, 2700 Wiener Neustadt
END:VEVENT
BEGIN:VEVENT
DTSTAMP:20260425T145927
DTSTART;TZID=Europe/Berlin:20260528T190000
DTEND;TZID=Europe/Berlin:20260528T200000
UID:S267830107-20260528T190000@VHSWIENER NEUSTADT
SUMMARY:FELDENKRAIS® KÖRPER IN BEWEGUNG (S267830107) 
LOCATION:VHS Mehrzweckraum 2, Singergasse 14-16, 2700 Wiener Neustadt
END:VEVENT
BEGIN:VEVENT
DTSTAMP:20260425T145927
DTSTART;TZID=Europe/Berlin:20260611T190000
DTEND;TZID=Europe/Berlin:20260611T200000
UID:S267830107-20260611T190000@VHSWIENER NEUSTADT
SUMMARY:FELDENKRAIS® KÖRPER IN BEWEGUNG (S267830107) 
LOCATION:VHS Mehrzweckraum 2, Singergasse 14-16, 2700 Wiener Neustadt
END:VEVENT
BEGIN:VEVENT
DTSTAMP:20260425T145927
DTSTART;TZID=Europe/Berlin:20260618T190000
DTEND;TZID=Europe/Berlin:20260618T200000
UID:S267830107-20260618T190000@VHSWIENER NEUSTADT
SUMMARY:FELDENKRAIS® KÖRPER IN BEWEGUNG (S267830107) 
LOCATION:VHS Mehrzweckraum 2, Singergasse 14-16, 2700 Wiener Neustadt
END:VEVENT
END:VCALENDAR