BEGIN:VCALENDAR
VERSION:2.0
PRODID:https://www.kufer.de/kuferweb / DE
METHOD:PUBLISH
CALSCALE:GREGORIAN
X-WR-TIMEZONE:Europe/Berlin
BEGIN:VTIMEZONE
TZID:Europe/Berlin
X-LIC-LOCATION:Europe/Berlin
BEGIN:DAYLIGHT
TZOFFSETFROM:+0100
TZOFFSETTO:+0200
TZNAME:CEST
DTSTART:19700329T020000
RRULE:FREQ=YEARLY;INTERVAL=1;BYDAY=-1SU;BYMONTH=3
END:DAYLIGHT
BEGIN:STANDARD
TZOFFSETFROM:+0200
TZOFFSETTO:+0100
TZNAME:CET
DTSTART:19701025T030000
RRULE:FREQ=YEARLY;INTERVAL=1;BYDAY=-1SU;BYMONTH=10
END:STANDARD
END:VTIMEZONE
BEGIN:VEVENT
DTSTAMP:20260425T145947
DTSTART;TZID=Europe/Berlin:20260212T181000
DTEND;TZID=Europe/Berlin:20260212T191000
UID:S267830105-20260212T181000@VHSWIENER NEUSTADT
SUMMARY:RÜCKENSCHULE (S267830105) 
LOCATION:VHS Mehrzweckraum 1, Singergasse 14-16, 2700 Wiener Neustadt
END:VEVENT
BEGIN:VEVENT
DTSTAMP:20260425T145947
DTSTART;TZID=Europe/Berlin:20260219T181000
DTEND;TZID=Europe/Berlin:20260219T191000
UID:S267830105-20260219T181000@VHSWIENER NEUSTADT
SUMMARY:RÜCKENSCHULE (S267830105) 
LOCATION:VHS Mehrzweckraum 1, Singergasse 14-16, 2700 Wiener Neustadt
END:VEVENT
BEGIN:VEVENT
DTSTAMP:20260425T145947
DTSTART;TZID=Europe/Berlin:20260226T181000
DTEND;TZID=Europe/Berlin:20260226T191000
UID:S267830105-20260226T181000@VHSWIENER NEUSTADT
SUMMARY:RÜCKENSCHULE (S267830105) 
LOCATION:VHS Mehrzweckraum 1, Singergasse 14-16, 2700 Wiener Neustadt
END:VEVENT
BEGIN:VEVENT
DTSTAMP:20260425T145947
DTSTART;TZID=Europe/Berlin:20260305T181000
DTEND;TZID=Europe/Berlin:20260305T191000
UID:S267830105-20260305T181000@VHSWIENER NEUSTADT
SUMMARY:RÜCKENSCHULE (S267830105) 
LOCATION:VHS Mehrzweckraum 1, Singergasse 14-16, 2700 Wiener Neustadt
END:VEVENT
BEGIN:VEVENT
DTSTAMP:20260425T145947
DTSTART;TZID=Europe/Berlin:20260312T181000
DTEND;TZID=Europe/Berlin:20260312T191000
UID:S267830105-20260312T181000@VHSWIENER NEUSTADT
SUMMARY:RÜCKENSCHULE (S267830105) 
LOCATION:VHS Mehrzweckraum 1, Singergasse 14-16, 2700 Wiener Neustadt
END:VEVENT
BEGIN:VEVENT
DTSTAMP:20260425T145947
DTSTART;TZID=Europe/Berlin:20260319T181000
DTEND;TZID=Europe/Berlin:20260319T191000
UID:S267830105-20260319T181000@VHSWIENER NEUSTADT
SUMMARY:RÜCKENSCHULE (S267830105) 
LOCATION:VHS Mehrzweckraum 1, Singergasse 14-16, 2700 Wiener Neustadt
END:VEVENT
BEGIN:VEVENT
DTSTAMP:20260425T145947
DTSTART;TZID=Europe/Berlin:20260326T181000
DTEND;TZID=Europe/Berlin:20260326T191000
UID:S267830105-20260326T181000@VHSWIENER NEUSTADT
SUMMARY:RÜCKENSCHULE (S267830105) 
LOCATION:VHS Mehrzweckraum 1, Singergasse 14-16, 2700 Wiener Neustadt
END:VEVENT
BEGIN:VEVENT
DTSTAMP:20260425T145947
DTSTART;TZID=Europe/Berlin:20260409T181000
DTEND;TZID=Europe/Berlin:20260409T191000
UID:S267830105-20260409T181000@VHSWIENER NEUSTADT
SUMMARY:RÜCKENSCHULE (S267830105) 
LOCATION:VHS Mehrzweckraum 1, Singergasse 14-16, 2700 Wiener Neustadt
END:VEVENT
BEGIN:VEVENT
DTSTAMP:20260425T145947
DTSTART;TZID=Europe/Berlin:20260416T181000
DTEND;TZID=Europe/Berlin:20260416T191000
UID:S267830105-20260416T181000@VHSWIENER NEUSTADT
SUMMARY:RÜCKENSCHULE (S267830105) 
LOCATION:VHS Mehrzweckraum 1, Singergasse 14-16, 2700 Wiener Neustadt
END:VEVENT
BEGIN:VEVENT
DTSTAMP:20260425T145947
DTSTART;TZID=Europe/Berlin:20260423T181000
DTEND;TZID=Europe/Berlin:20260423T191000
UID:S267830105-20260423T181000@VHSWIENER NEUSTADT
SUMMARY:RÜCKENSCHULE (S267830105) 
LOCATION:VHS Mehrzweckraum 1, Singergasse 14-16, 2700 Wiener Neustadt
END:VEVENT
BEGIN:VEVENT
DTSTAMP:20260425T145947
DTSTART;TZID=Europe/Berlin:20260430T181000
DTEND;TZID=Europe/Berlin:20260430T191000
UID:S267830105-20260430T181000@VHSWIENER NEUSTADT
SUMMARY:RÜCKENSCHULE (S267830105) 
LOCATION:VHS Mehrzweckraum 1, Singergasse 14-16, 2700 Wiener Neustadt
END:VEVENT
BEGIN:VEVENT
DTSTAMP:20260425T145947
DTSTART;TZID=Europe/Berlin:20260507T181000
DTEND;TZID=Europe/Berlin:20260507T191000
UID:S267830105-20260507T181000@VHSWIENER NEUSTADT
SUMMARY:RÜCKENSCHULE (S267830105) 
LOCATION:VHS Mehrzweckraum 1, Singergasse 14-16, 2700 Wiener Neustadt
END:VEVENT
BEGIN:VEVENT
DTSTAMP:20260425T145947
DTSTART;TZID=Europe/Berlin:20260521T181000
DTEND;TZID=Europe/Berlin:20260521T191000
UID:S267830105-20260521T181000@VHSWIENER NEUSTADT
SUMMARY:RÜCKENSCHULE (S267830105) 
LOCATION:VHS Mehrzweckraum 1, Singergasse 14-16, 2700 Wiener Neustadt
END:VEVENT
BEGIN:VEVENT
DTSTAMP:20260425T145947
DTSTART;TZID=Europe/Berlin:20260528T181000
DTEND;TZID=Europe/Berlin:20260528T191000
UID:S267830105-20260528T181000@VHSWIENER NEUSTADT
SUMMARY:RÜCKENSCHULE (S267830105) 
LOCATION:VHS Mehrzweckraum 1, Singergasse 14-16, 2700 Wiener Neustadt
END:VEVENT
BEGIN:VEVENT
DTSTAMP:20260425T145947
DTSTART;TZID=Europe/Berlin:20260611T181000
DTEND;TZID=Europe/Berlin:20260611T191000
UID:S267830105-20260611T181000@VHSWIENER NEUSTADT
SUMMARY:RÜCKENSCHULE (S267830105) 
LOCATION:VHS Mehrzweckraum 1, Singergasse 14-16, 2700 Wiener Neustadt
END:VEVENT
BEGIN:VEVENT
DTSTAMP:20260425T145947
DTSTART;TZID=Europe/Berlin:20260618T181000
DTEND;TZID=Europe/Berlin:20260618T191000
UID:S267830105-20260618T181000@VHSWIENER NEUSTADT
SUMMARY:RÜCKENSCHULE (S267830105) 
LOCATION:VHS Mehrzweckraum 1, Singergasse 14-16, 2700 Wiener Neustadt
END:VEVENT
END:VCALENDAR