BEGIN:VCALENDAR
VERSION:2.0
PRODID:https://www.kufer.de/kuferweb / DE
METHOD:PUBLISH
CALSCALE:GREGORIAN
X-WR-TIMEZONE:Europe/Berlin
BEGIN:VTIMEZONE
TZID:Europe/Berlin
X-LIC-LOCATION:Europe/Berlin
BEGIN:DAYLIGHT
TZOFFSETFROM:+0100
TZOFFSETTO:+0200
TZNAME:CEST
DTSTART:19700329T020000
RRULE:FREQ=YEARLY;INTERVAL=1;BYDAY=-1SU;BYMONTH=3
END:DAYLIGHT
BEGIN:STANDARD
TZOFFSETFROM:+0200
TZOFFSETTO:+0100
TZNAME:CET
DTSTART:19701025T030000
RRULE:FREQ=YEARLY;INTERVAL=1;BYDAY=-1SU;BYMONTH=10
END:STANDARD
END:VTIMEZONE
BEGIN:VEVENT
DTSTAMP:20260425T163905
DTSTART;TZID=Europe/Berlin:20260211T181000
DTEND;TZID=Europe/Berlin:20260211T191000
UID:S267810107-20260211T181000@VHSWIENER NEUSTADT
SUMMARY:RÜCKENSCHULE, WIRBELSÄULENGYMNASTIK (S267810107) 
LOCATION:VHS Mehrzweckraum 1, Singergasse 14-16, 2700 Wiener Neustadt
END:VEVENT
BEGIN:VEVENT
DTSTAMP:20260425T163905
DTSTART;TZID=Europe/Berlin:20260225T181000
DTEND;TZID=Europe/Berlin:20260225T191000
UID:S267810107-20260225T181000@VHSWIENER NEUSTADT
SUMMARY:RÜCKENSCHULE, WIRBELSÄULENGYMNASTIK (S267810107) 
LOCATION:VHS Mehrzweckraum 1, Singergasse 14-16, 2700 Wiener Neustadt
END:VEVENT
BEGIN:VEVENT
DTSTAMP:20260425T163905
DTSTART;TZID=Europe/Berlin:20260304T181000
DTEND;TZID=Europe/Berlin:20260304T191000
UID:S267810107-20260304T181000@VHSWIENER NEUSTADT
SUMMARY:RÜCKENSCHULE, WIRBELSÄULENGYMNASTIK (S267810107) 
LOCATION:VHS Mehrzweckraum 1, Singergasse 14-16, 2700 Wiener Neustadt
END:VEVENT
BEGIN:VEVENT
DTSTAMP:20260425T163905
DTSTART;TZID=Europe/Berlin:20260311T181000
DTEND;TZID=Europe/Berlin:20260311T191000
UID:S267810107-20260311T181000@VHSWIENER NEUSTADT
SUMMARY:RÜCKENSCHULE, WIRBELSÄULENGYMNASTIK (S267810107) 
LOCATION:VHS Mehrzweckraum 1, Singergasse 14-16, 2700 Wiener Neustadt
END:VEVENT
BEGIN:VEVENT
DTSTAMP:20260425T163905
DTSTART;TZID=Europe/Berlin:20260318T181000
DTEND;TZID=Europe/Berlin:20260318T191000
UID:S267810107-20260318T181000@VHSWIENER NEUSTADT
SUMMARY:RÜCKENSCHULE, WIRBELSÄULENGYMNASTIK (S267810107) 
LOCATION:VHS Mehrzweckraum 1, Singergasse 14-16, 2700 Wiener Neustadt
END:VEVENT
BEGIN:VEVENT
DTSTAMP:20260425T163905
DTSTART;TZID=Europe/Berlin:20260325T181000
DTEND;TZID=Europe/Berlin:20260325T191000
UID:S267810107-20260325T181000@VHSWIENER NEUSTADT
SUMMARY:RÜCKENSCHULE, WIRBELSÄULENGYMNASTIK (S267810107) 
LOCATION:VHS Mehrzweckraum 1, Singergasse 14-16, 2700 Wiener Neustadt
END:VEVENT
BEGIN:VEVENT
DTSTAMP:20260425T163905
DTSTART;TZID=Europe/Berlin:20260408T181000
DTEND;TZID=Europe/Berlin:20260408T191000
UID:S267810107-20260408T181000@VHSWIENER NEUSTADT
SUMMARY:RÜCKENSCHULE, WIRBELSÄULENGYMNASTIK (S267810107) 
LOCATION:VHS Mehrzweckraum 1, Singergasse 14-16, 2700 Wiener Neustadt
END:VEVENT
BEGIN:VEVENT
DTSTAMP:20260425T163905
DTSTART;TZID=Europe/Berlin:20260415T181000
DTEND;TZID=Europe/Berlin:20260415T191000
UID:S267810107-20260415T181000@VHSWIENER NEUSTADT
SUMMARY:RÜCKENSCHULE, WIRBELSÄULENGYMNASTIK (S267810107) 
LOCATION:VHS Mehrzweckraum 1, Singergasse 14-16, 2700 Wiener Neustadt
END:VEVENT
BEGIN:VEVENT
DTSTAMP:20260425T163905
DTSTART;TZID=Europe/Berlin:20260422T181000
DTEND;TZID=Europe/Berlin:20260422T191000
UID:S267810107-20260422T181000@VHSWIENER NEUSTADT
SUMMARY:RÜCKENSCHULE, WIRBELSÄULENGYMNASTIK (S267810107) 
LOCATION:VHS Mehrzweckraum 1, Singergasse 14-16, 2700 Wiener Neustadt
END:VEVENT
BEGIN:VEVENT
DTSTAMP:20260425T163905
DTSTART;TZID=Europe/Berlin:20260429T181000
DTEND;TZID=Europe/Berlin:20260429T191000
UID:S267810107-20260429T181000@VHSWIENER NEUSTADT
SUMMARY:RÜCKENSCHULE, WIRBELSÄULENGYMNASTIK (S267810107) 
LOCATION:VHS Mehrzweckraum 1, Singergasse 14-16, 2700 Wiener Neustadt
END:VEVENT
BEGIN:VEVENT
DTSTAMP:20260425T163905
DTSTART;TZID=Europe/Berlin:20260513T181000
DTEND;TZID=Europe/Berlin:20260513T191000
UID:S267810107-20260513T181000@VHSWIENER NEUSTADT
SUMMARY:RÜCKENSCHULE, WIRBELSÄULENGYMNASTIK (S267810107) 
LOCATION:VHS Mehrzweckraum 1, Singergasse 14-16, 2700 Wiener Neustadt
END:VEVENT
BEGIN:VEVENT
DTSTAMP:20260425T163905
DTSTART;TZID=Europe/Berlin:20260520T181000
DTEND;TZID=Europe/Berlin:20260520T191000
UID:S267810107-20260520T181000@VHSWIENER NEUSTADT
SUMMARY:RÜCKENSCHULE, WIRBELSÄULENGYMNASTIK (S267810107) 
LOCATION:VHS Mehrzweckraum 1, Singergasse 14-16, 2700 Wiener Neustadt
END:VEVENT
BEGIN:VEVENT
DTSTAMP:20260425T163905
DTSTART;TZID=Europe/Berlin:20260527T181000
DTEND;TZID=Europe/Berlin:20260527T191000
UID:S267810107-20260527T181000@VHSWIENER NEUSTADT
SUMMARY:RÜCKENSCHULE, WIRBELSÄULENGYMNASTIK (S267810107) 
LOCATION:VHS Mehrzweckraum 1, Singergasse 14-16, 2700 Wiener Neustadt
END:VEVENT
BEGIN:VEVENT
DTSTAMP:20260425T163905
DTSTART;TZID=Europe/Berlin:20260603T181000
DTEND;TZID=Europe/Berlin:20260603T191000
UID:S267810107-20260603T181000@VHSWIENER NEUSTADT
SUMMARY:RÜCKENSCHULE, WIRBELSÄULENGYMNASTIK (S267810107) 
LOCATION:VHS Mehrzweckraum 1, Singergasse 14-16, 2700 Wiener Neustadt
END:VEVENT
BEGIN:VEVENT
DTSTAMP:20260425T163905
DTSTART;TZID=Europe/Berlin:20260610T181000
DTEND;TZID=Europe/Berlin:20260610T191000
UID:S267810107-20260610T181000@VHSWIENER NEUSTADT
SUMMARY:RÜCKENSCHULE, WIRBELSÄULENGYMNASTIK (S267810107) 
LOCATION:VHS Mehrzweckraum 1, Singergasse 14-16, 2700 Wiener Neustadt
END:VEVENT
BEGIN:VEVENT
DTSTAMP:20260425T163905
DTSTART;TZID=Europe/Berlin:20260617T181000
DTEND;TZID=Europe/Berlin:20260617T191000
UID:S267810107-20260617T181000@VHSWIENER NEUSTADT
SUMMARY:RÜCKENSCHULE, WIRBELSÄULENGYMNASTIK (S267810107) 
LOCATION:VHS Mehrzweckraum 1, Singergasse 14-16, 2700 Wiener Neustadt
END:VEVENT
BEGIN:VEVENT
DTSTAMP:20260425T163905
DTSTART;TZID=Europe/Berlin:20260624T181000
DTEND;TZID=Europe/Berlin:20260624T191000
UID:S267810107-20260624T181000@VHSWIENER NEUSTADT
DESCRIPTION:ET f. 06.05. - KL verhindert
SUMMARY:RÜCKENSCHULE, WIRBELSÄULENGYMNASTIK (S267810107) 
LOCATION:VHS Mehrzweckraum 1, Singergasse 14-16, 2700 Wiener Neustadt
END:VEVENT
END:VCALENDAR