BEGIN:VCALENDAR
VERSION:2.0
PRODID:https://www.kufer.de/kuferweb / DE
METHOD:PUBLISH
CALSCALE:GREGORIAN
X-WR-TIMEZONE:Europe/Berlin
BEGIN:VTIMEZONE
TZID:Europe/Berlin
X-LIC-LOCATION:Europe/Berlin
BEGIN:DAYLIGHT
TZOFFSETFROM:+0100
TZOFFSETTO:+0200
TZNAME:CEST
DTSTART:19700329T020000
RRULE:FREQ=YEARLY;INTERVAL=1;BYDAY=-1SU;BYMONTH=3
END:DAYLIGHT
BEGIN:STANDARD
TZOFFSETFROM:+0200
TZOFFSETTO:+0100
TZNAME:CET
DTSTART:19701025T030000
RRULE:FREQ=YEARLY;INTERVAL=1;BYDAY=-1SU;BYMONTH=10
END:STANDARD
END:VTIMEZONE
BEGIN:VEVENT
DTSTAMP:20260425T163152
DTSTART;TZID=Europe/Berlin:20260211T172000
DTEND;TZID=Europe/Berlin:20260211T182000
UID:S267810103-20260211T172000@VHSWIENER NEUSTADT
SUMMARY:ZUMBA® GOLD (S267810103) 
LOCATION:BG Babenbergerring, Doppelturnhalle, Babenbergerring 8, 2700 Wiener Neustadt
END:VEVENT
BEGIN:VEVENT
DTSTAMP:20260425T163152
DTSTART;TZID=Europe/Berlin:20260218T172000
DTEND;TZID=Europe/Berlin:20260218T182000
UID:S267810103-20260218T172000@VHSWIENER NEUSTADT
SUMMARY:ZUMBA® GOLD (S267810103) 
LOCATION:BG Babenbergerring, Doppelturnhalle, Babenbergerring 8, 2700 Wiener Neustadt
END:VEVENT
BEGIN:VEVENT
DTSTAMP:20260425T163152
DTSTART;TZID=Europe/Berlin:20260225T172000
DTEND;TZID=Europe/Berlin:20260225T182000
UID:S267810103-20260225T172000@VHSWIENER NEUSTADT
SUMMARY:ZUMBA® GOLD (S267810103) 
LOCATION:BG Babenbergerring, Doppelturnhalle, Babenbergerring 8, 2700 Wiener Neustadt
END:VEVENT
BEGIN:VEVENT
DTSTAMP:20260425T163152
DTSTART;TZID=Europe/Berlin:20260304T172000
DTEND;TZID=Europe/Berlin:20260304T182000
UID:S267810103-20260304T172000@VHSWIENER NEUSTADT
SUMMARY:ZUMBA® GOLD (S267810103) 
LOCATION:BG Babenbergerring, Doppelturnhalle, Babenbergerring 8, 2700 Wiener Neustadt
END:VEVENT
BEGIN:VEVENT
DTSTAMP:20260425T163152
DTSTART;TZID=Europe/Berlin:20260311T172000
DTEND;TZID=Europe/Berlin:20260311T182000
UID:S267810103-20260311T172000@VHSWIENER NEUSTADT
SUMMARY:ZUMBA® GOLD (S267810103) 
LOCATION:BG Babenbergerring, Doppelturnhalle, Babenbergerring 8, 2700 Wiener Neustadt
END:VEVENT
BEGIN:VEVENT
DTSTAMP:20260425T163152
DTSTART;TZID=Europe/Berlin:20260318T172000
DTEND;TZID=Europe/Berlin:20260318T182000
UID:S267810103-20260318T172000@VHSWIENER NEUSTADT
SUMMARY:ZUMBA® GOLD (S267810103) 
LOCATION:BG Babenbergerring, Doppelturnhalle, Babenbergerring 8, 2700 Wiener Neustadt
END:VEVENT
BEGIN:VEVENT
DTSTAMP:20260425T163152
DTSTART;TZID=Europe/Berlin:20260325T172000
DTEND;TZID=Europe/Berlin:20260325T182000
UID:S267810103-20260325T172000@VHSWIENER NEUSTADT
SUMMARY:ZUMBA® GOLD (S267810103) 
LOCATION:BG Babenbergerring, Doppelturnhalle, Babenbergerring 8, 2700 Wiener Neustadt
END:VEVENT
BEGIN:VEVENT
DTSTAMP:20260425T163152
DTSTART;TZID=Europe/Berlin:20260408T172000
DTEND;TZID=Europe/Berlin:20260408T182000
UID:S267810103-20260408T172000@VHSWIENER NEUSTADT
SUMMARY:ZUMBA® GOLD (S267810103) 
LOCATION:BG Babenbergerring, Doppelturnhalle, Babenbergerring 8, 2700 Wiener Neustadt
END:VEVENT
BEGIN:VEVENT
DTSTAMP:20260425T163152
DTSTART;TZID=Europe/Berlin:20260415T172000
DTEND;TZID=Europe/Berlin:20260415T182000
UID:S267810103-20260415T172000@VHSWIENER NEUSTADT
SUMMARY:ZUMBA® GOLD (S267810103) 
LOCATION:BG Babenbergerring, Doppelturnhalle, Babenbergerring 8, 2700 Wiener Neustadt
END:VEVENT
BEGIN:VEVENT
DTSTAMP:20260425T163152
DTSTART;TZID=Europe/Berlin:20260422T172000
DTEND;TZID=Europe/Berlin:20260422T182000
UID:S267810103-20260422T172000@VHSWIENER NEUSTADT
SUMMARY:ZUMBA® GOLD (S267810103) 
LOCATION:BG Babenbergerring, Doppelturnhalle, Babenbergerring 8, 2700 Wiener Neustadt
END:VEVENT
BEGIN:VEVENT
DTSTAMP:20260425T163152
DTSTART;TZID=Europe/Berlin:20260429T172000
DTEND;TZID=Europe/Berlin:20260429T182000
UID:S267810103-20260429T172000@VHSWIENER NEUSTADT
SUMMARY:ZUMBA® GOLD (S267810103) 
LOCATION:BG Babenbergerring, Doppelturnhalle, Babenbergerring 8, 2700 Wiener Neustadt
END:VEVENT
BEGIN:VEVENT
DTSTAMP:20260425T163152
DTSTART;TZID=Europe/Berlin:20260506T172000
DTEND;TZID=Europe/Berlin:20260506T182000
UID:S267810103-20260506T172000@VHSWIENER NEUSTADT
SUMMARY:ZUMBA® GOLD (S267810103) 
LOCATION:BG Babenbergerring, Doppelturnhalle, Babenbergerring 8, 2700 Wiener Neustadt
END:VEVENT
BEGIN:VEVENT
DTSTAMP:20260425T163152
DTSTART;TZID=Europe/Berlin:20260513T172000
DTEND;TZID=Europe/Berlin:20260513T182000
UID:S267810103-20260513T172000@VHSWIENER NEUSTADT
SUMMARY:ZUMBA® GOLD (S267810103) 
LOCATION:BG Babenbergerring, Doppelturnhalle, Babenbergerring 8, 2700 Wiener Neustadt
END:VEVENT
BEGIN:VEVENT
DTSTAMP:20260425T163152
DTSTART;TZID=Europe/Berlin:20260520T172000
DTEND;TZID=Europe/Berlin:20260520T182000
UID:S267810103-20260520T172000@VHSWIENER NEUSTADT
SUMMARY:ZUMBA® GOLD (S267810103) 
LOCATION:BG Babenbergerring, Doppelturnhalle, Babenbergerring 8, 2700 Wiener Neustadt
END:VEVENT
BEGIN:VEVENT
DTSTAMP:20260425T163152
DTSTART;TZID=Europe/Berlin:20260527T172000
DTEND;TZID=Europe/Berlin:20260527T182000
UID:S267810103-20260527T172000@VHSWIENER NEUSTADT
SUMMARY:ZUMBA® GOLD (S267810103) 
LOCATION:BG Babenbergerring, Doppelturnhalle, Babenbergerring 8, 2700 Wiener Neustadt
END:VEVENT
BEGIN:VEVENT
DTSTAMP:20260425T163152
DTSTART;TZID=Europe/Berlin:20260603T172000
DTEND;TZID=Europe/Berlin:20260603T182000
UID:S267810103-20260603T172000@VHSWIENER NEUSTADT
SUMMARY:ZUMBA® GOLD (S267810103) 
LOCATION:BG Babenbergerring, Doppelturnhalle, Babenbergerring 8, 2700 Wiener Neustadt
END:VEVENT
BEGIN:VEVENT
DTSTAMP:20260425T163152
DTSTART;TZID=Europe/Berlin:20260610T172000
DTEND;TZID=Europe/Berlin:20260610T182000
UID:S267810103-20260610T172000@VHSWIENER NEUSTADT
SUMMARY:ZUMBA® GOLD (S267810103) 
LOCATION:BG Babenbergerring, Doppelturnhalle, Babenbergerring 8, 2700 Wiener Neustadt
END:VEVENT
END:VCALENDAR