BEGIN:VCALENDAR
VERSION:2.0
PRODID:https://www.kufer.de/kuferweb / DE
METHOD:PUBLISH
CALSCALE:GREGORIAN
X-WR-TIMEZONE:Europe/Berlin
BEGIN:VTIMEZONE
TZID:Europe/Berlin
X-LIC-LOCATION:Europe/Berlin
BEGIN:DAYLIGHT
TZOFFSETFROM:+0100
TZOFFSETTO:+0200
TZNAME:CEST
DTSTART:19700329T020000
RRULE:FREQ=YEARLY;INTERVAL=1;BYDAY=-1SU;BYMONTH=3
END:DAYLIGHT
BEGIN:STANDARD
TZOFFSETFROM:+0200
TZOFFSETTO:+0100
TZNAME:CET
DTSTART:19701025T030000
RRULE:FREQ=YEARLY;INTERVAL=1;BYDAY=-1SU;BYMONTH=10
END:STANDARD
END:VTIMEZONE
BEGIN:VEVENT
DTSTAMP:20260421T140124
DTSTART;TZID=Europe/Berlin:20260210T190000
DTEND;TZID=Europe/Berlin:20260210T200000
UID:S267790119-20260210T190000@VHSWIENER NEUSTADT
SUMMARY:BODYFIT (S267790119) 
LOCATION:Volksschule Josefstadt, Turnsaal, Sonnleitnergasse 1 (linker Eingang), 2700 Wiener Neustadt
END:VEVENT
BEGIN:VEVENT
DTSTAMP:20260421T140124
DTSTART;TZID=Europe/Berlin:20260217T190000
DTEND;TZID=Europe/Berlin:20260217T200000
UID:S267790119-20260217T190000@VHSWIENER NEUSTADT
SUMMARY:BODYFIT (S267790119) 
LOCATION:Volksschule Josefstadt, Turnsaal, Sonnleitnergasse 1 (linker Eingang), 2700 Wiener Neustadt
END:VEVENT
BEGIN:VEVENT
DTSTAMP:20260421T140124
DTSTART;TZID=Europe/Berlin:20260224T190000
DTEND;TZID=Europe/Berlin:20260224T200000
UID:S267790119-20260224T190000@VHSWIENER NEUSTADT
SUMMARY:BODYFIT (S267790119) 
LOCATION:Volksschule Josefstadt, Turnsaal, Sonnleitnergasse 1 (linker Eingang), 2700 Wiener Neustadt
END:VEVENT
BEGIN:VEVENT
DTSTAMP:20260421T140124
DTSTART;TZID=Europe/Berlin:20260303T190000
DTEND;TZID=Europe/Berlin:20260303T200000
UID:S267790119-20260303T190000@VHSWIENER NEUSTADT
SUMMARY:BODYFIT (S267790119) 
LOCATION:Volksschule Josefstadt, Turnsaal, Sonnleitnergasse 1 (linker Eingang), 2700 Wiener Neustadt
END:VEVENT
BEGIN:VEVENT
DTSTAMP:20260421T140124
DTSTART;TZID=Europe/Berlin:20260310T190000
DTEND;TZID=Europe/Berlin:20260310T200000
UID:S267790119-20260310T190000@VHSWIENER NEUSTADT
SUMMARY:BODYFIT (S267790119) 
LOCATION:Volksschule Josefstadt, Turnsaal, Sonnleitnergasse 1 (linker Eingang), 2700 Wiener Neustadt
END:VEVENT
BEGIN:VEVENT
DTSTAMP:20260421T140124
DTSTART;TZID=Europe/Berlin:20260317T190000
DTEND;TZID=Europe/Berlin:20260317T200000
UID:S267790119-20260317T190000@VHSWIENER NEUSTADT
SUMMARY:BODYFIT (S267790119) 
LOCATION:Volksschule Josefstadt, Turnsaal, Sonnleitnergasse 1 (linker Eingang), 2700 Wiener Neustadt
END:VEVENT
BEGIN:VEVENT
DTSTAMP:20260421T140124
DTSTART;TZID=Europe/Berlin:20260324T190000
DTEND;TZID=Europe/Berlin:20260324T200000
UID:S267790119-20260324T190000@VHSWIENER NEUSTADT
SUMMARY:BODYFIT (S267790119) 
LOCATION:Volksschule Josefstadt, Turnsaal, Sonnleitnergasse 1 (linker Eingang), 2700 Wiener Neustadt
END:VEVENT
BEGIN:VEVENT
DTSTAMP:20260421T140124
DTSTART;TZID=Europe/Berlin:20260407T190000
DTEND;TZID=Europe/Berlin:20260407T200000
UID:S267790119-20260407T190000@VHSWIENER NEUSTADT
SUMMARY:BODYFIT (S267790119) 
LOCATION:Volksschule Josefstadt, Turnsaal, Sonnleitnergasse 1 (linker Eingang), 2700 Wiener Neustadt
END:VEVENT
BEGIN:VEVENT
DTSTAMP:20260421T140124
DTSTART;TZID=Europe/Berlin:20260414T190000
DTEND;TZID=Europe/Berlin:20260414T200000
UID:S267790119-20260414T190000@VHSWIENER NEUSTADT
SUMMARY:BODYFIT (S267790119) 
LOCATION:Volksschule Josefstadt, Turnsaal, Sonnleitnergasse 1 (linker Eingang), 2700 Wiener Neustadt
END:VEVENT
BEGIN:VEVENT
DTSTAMP:20260421T140124
DTSTART;TZID=Europe/Berlin:20260421T190000
DTEND;TZID=Europe/Berlin:20260421T200000
UID:S267790119-20260421T190000@VHSWIENER NEUSTADT
SUMMARY:BODYFIT (S267790119) 
LOCATION:Volksschule Josefstadt, Turnsaal, Sonnleitnergasse 1 (linker Eingang), 2700 Wiener Neustadt
END:VEVENT
BEGIN:VEVENT
DTSTAMP:20260421T140124
DTSTART;TZID=Europe/Berlin:20260428T190000
DTEND;TZID=Europe/Berlin:20260428T200000
UID:S267790119-20260428T190000@VHSWIENER NEUSTADT
SUMMARY:BODYFIT (S267790119) 
LOCATION:Volksschule Josefstadt, Turnsaal, Sonnleitnergasse 1 (linker Eingang), 2700 Wiener Neustadt
END:VEVENT
BEGIN:VEVENT
DTSTAMP:20260421T140124
DTSTART;TZID=Europe/Berlin:20260505T190000
DTEND;TZID=Europe/Berlin:20260505T200000
UID:S267790119-20260505T190000@VHSWIENER NEUSTADT
SUMMARY:BODYFIT (S267790119) 
LOCATION:Volksschule Josefstadt, Turnsaal, Sonnleitnergasse 1 (linker Eingang), 2700 Wiener Neustadt
END:VEVENT
BEGIN:VEVENT
DTSTAMP:20260421T140124
DTSTART;TZID=Europe/Berlin:20260512T190000
DTEND;TZID=Europe/Berlin:20260512T200000
UID:S267790119-20260512T190000@VHSWIENER NEUSTADT
SUMMARY:BODYFIT (S267790119) 
LOCATION:Volksschule Josefstadt, Turnsaal, Sonnleitnergasse 1 (linker Eingang), 2700 Wiener Neustadt
END:VEVENT
BEGIN:VEVENT
DTSTAMP:20260421T140124
DTSTART;TZID=Europe/Berlin:20260519T190000
DTEND;TZID=Europe/Berlin:20260519T200000
UID:S267790119-20260519T190000@VHSWIENER NEUSTADT
SUMMARY:BODYFIT (S267790119) 
LOCATION:Volksschule Josefstadt, Turnsaal, Sonnleitnergasse 1 (linker Eingang), 2700 Wiener Neustadt
END:VEVENT
BEGIN:VEVENT
DTSTAMP:20260421T140124
DTSTART;TZID=Europe/Berlin:20260526T190000
DTEND;TZID=Europe/Berlin:20260526T200000
UID:S267790119-20260526T190000@VHSWIENER NEUSTADT
SUMMARY:BODYFIT (S267790119) 
LOCATION:Volksschule Josefstadt, Turnsaal, Sonnleitnergasse 1 (linker Eingang), 2700 Wiener Neustadt
END:VEVENT
BEGIN:VEVENT
DTSTAMP:20260421T140124
DTSTART;TZID=Europe/Berlin:20260602T190000
DTEND;TZID=Europe/Berlin:20260602T200000
UID:S267790119-20260602T190000@VHSWIENER NEUSTADT
SUMMARY:BODYFIT (S267790119) 
LOCATION:Volksschule Josefstadt, Turnsaal, Sonnleitnergasse 1 (linker Eingang), 2700 Wiener Neustadt
END:VEVENT
BEGIN:VEVENT
DTSTAMP:20260421T140124
DTSTART;TZID=Europe/Berlin:20260609T190000
DTEND;TZID=Europe/Berlin:20260609T200000
UID:S267790119-20260609T190000@VHSWIENER NEUSTADT
SUMMARY:BODYFIT (S267790119) 
LOCATION:Volksschule Josefstadt, Turnsaal, Sonnleitnergasse 1 (linker Eingang), 2700 Wiener Neustadt
END:VEVENT
BEGIN:VEVENT
DTSTAMP:20260421T140124
DTSTART;TZID=Europe/Berlin:20260616T190000
DTEND;TZID=Europe/Berlin:20260616T200000
UID:S267790119-20260616T190000@VHSWIENER NEUSTADT
SUMMARY:BODYFIT (S267790119) 
LOCATION:Volksschule Josefstadt, Turnsaal, Sonnleitnergasse 1 (linker Eingang), 2700 Wiener Neustadt
END:VEVENT
BEGIN:VEVENT
DTSTAMP:20260421T140124
DTSTART;TZID=Europe/Berlin:20260623T190000
DTEND;TZID=Europe/Berlin:20260623T200000
UID:S267790119-20260623T190000@VHSWIENER NEUSTADT
SUMMARY:BODYFIT (S267790119) 
LOCATION:Volksschule Josefstadt, Turnsaal, Sonnleitnergasse 1 (linker Eingang), 2700 Wiener Neustadt
END:VEVENT
END:VCALENDAR