BEGIN:VCALENDAR
VERSION:2.0
PRODID:https://www.kufer.de/kuferweb / DE
METHOD:PUBLISH
CALSCALE:GREGORIAN
X-WR-TIMEZONE:Europe/Berlin
BEGIN:VTIMEZONE
TZID:Europe/Berlin
X-LIC-LOCATION:Europe/Berlin
BEGIN:DAYLIGHT
TZOFFSETFROM:+0100
TZOFFSETTO:+0200
TZNAME:CEST
DTSTART:19700329T020000
RRULE:FREQ=YEARLY;INTERVAL=1;BYDAY=-1SU;BYMONTH=3
END:DAYLIGHT
BEGIN:STANDARD
TZOFFSETFROM:+0200
TZOFFSETTO:+0100
TZNAME:CET
DTSTART:19701025T030000
RRULE:FREQ=YEARLY;INTERVAL=1;BYDAY=-1SU;BYMONTH=10
END:STANDARD
END:VTIMEZONE
BEGIN:VEVENT
DTSTAMP:20260423T140948
DTSTART;TZID=Europe/Berlin:20260210T185000
DTEND;TZID=Europe/Berlin:20260210T195000
UID:S267790115-20260210T185000@VHSWIENER NEUSTADT
SUMMARY:PILATES - ANFÄNGER:INNEN UND FORTGESCHRITTENE (S267790115) 
LOCATION:VHS Mehrzweckraum 1, Singergasse 14-16, 2700 Wiener Neustadt
END:VEVENT
BEGIN:VEVENT
DTSTAMP:20260423T140948
DTSTART;TZID=Europe/Berlin:20260217T185000
DTEND;TZID=Europe/Berlin:20260217T195000
UID:S267790115-20260217T185000@VHSWIENER NEUSTADT
SUMMARY:PILATES - ANFÄNGER:INNEN UND FORTGESCHRITTENE (S267790115) 
LOCATION:VHS Mehrzweckraum 1, Singergasse 14-16, 2700 Wiener Neustadt
END:VEVENT
BEGIN:VEVENT
DTSTAMP:20260423T140948
DTSTART;TZID=Europe/Berlin:20260224T185000
DTEND;TZID=Europe/Berlin:20260224T195000
UID:S267790115-20260224T185000@VHSWIENER NEUSTADT
SUMMARY:PILATES - ANFÄNGER:INNEN UND FORTGESCHRITTENE (S267790115) 
LOCATION:VHS Mehrzweckraum 1, Singergasse 14-16, 2700 Wiener Neustadt
END:VEVENT
BEGIN:VEVENT
DTSTAMP:20260423T140948
DTSTART;TZID=Europe/Berlin:20260303T185000
DTEND;TZID=Europe/Berlin:20260303T195000
UID:S267790115-20260303T185000@VHSWIENER NEUSTADT
SUMMARY:PILATES - ANFÄNGER:INNEN UND FORTGESCHRITTENE (S267790115) 
LOCATION:VHS Mehrzweckraum 1, Singergasse 14-16, 2700 Wiener Neustadt
END:VEVENT
BEGIN:VEVENT
DTSTAMP:20260423T140948
DTSTART;TZID=Europe/Berlin:20260310T185000
DTEND;TZID=Europe/Berlin:20260310T195000
UID:S267790115-20260310T185000@VHSWIENER NEUSTADT
SUMMARY:PILATES - ANFÄNGER:INNEN UND FORTGESCHRITTENE (S267790115) 
LOCATION:VHS Mehrzweckraum 1, Singergasse 14-16, 2700 Wiener Neustadt
END:VEVENT
BEGIN:VEVENT
DTSTAMP:20260423T140948
DTSTART;TZID=Europe/Berlin:20260317T185000
DTEND;TZID=Europe/Berlin:20260317T195000
UID:S267790115-20260317T185000@VHSWIENER NEUSTADT
SUMMARY:PILATES - ANFÄNGER:INNEN UND FORTGESCHRITTENE (S267790115) 
LOCATION:VHS Mehrzweckraum 1, Singergasse 14-16, 2700 Wiener Neustadt
END:VEVENT
BEGIN:VEVENT
DTSTAMP:20260423T140948
DTSTART;TZID=Europe/Berlin:20260324T185000
DTEND;TZID=Europe/Berlin:20260324T195000
UID:S267790115-20260324T185000@VHSWIENER NEUSTADT
SUMMARY:PILATES - ANFÄNGER:INNEN UND FORTGESCHRITTENE (S267790115) 
LOCATION:VHS Mehrzweckraum 1, Singergasse 14-16, 2700 Wiener Neustadt
END:VEVENT
BEGIN:VEVENT
DTSTAMP:20260423T140948
DTSTART;TZID=Europe/Berlin:20260407T185000
DTEND;TZID=Europe/Berlin:20260407T195000
UID:S267790115-20260407T185000@VHSWIENER NEUSTADT
SUMMARY:PILATES - ANFÄNGER:INNEN UND FORTGESCHRITTENE (S267790115) 
LOCATION:VHS Mehrzweckraum 1, Singergasse 14-16, 2700 Wiener Neustadt
END:VEVENT
BEGIN:VEVENT
DTSTAMP:20260423T140948
DTSTART;TZID=Europe/Berlin:20260414T185000
DTEND;TZID=Europe/Berlin:20260414T195000
UID:S267790115-20260414T185000@VHSWIENER NEUSTADT
SUMMARY:PILATES - ANFÄNGER:INNEN UND FORTGESCHRITTENE (S267790115) 
LOCATION:VHS Mehrzweckraum 1, Singergasse 14-16, 2700 Wiener Neustadt
END:VEVENT
BEGIN:VEVENT
DTSTAMP:20260423T140948
DTSTART;TZID=Europe/Berlin:20260421T185000
DTEND;TZID=Europe/Berlin:20260421T195000
UID:S267790115-20260421T185000@VHSWIENER NEUSTADT
SUMMARY:PILATES - ANFÄNGER:INNEN UND FORTGESCHRITTENE (S267790115) 
LOCATION:VHS Mehrzweckraum 1, Singergasse 14-16, 2700 Wiener Neustadt
END:VEVENT
BEGIN:VEVENT
DTSTAMP:20260423T140948
DTSTART;TZID=Europe/Berlin:20260428T185000
DTEND;TZID=Europe/Berlin:20260428T195000
UID:S267790115-20260428T185000@VHSWIENER NEUSTADT
SUMMARY:PILATES - ANFÄNGER:INNEN UND FORTGESCHRITTENE (S267790115) 
LOCATION:VHS Mehrzweckraum 1, Singergasse 14-16, 2700 Wiener Neustadt
END:VEVENT
BEGIN:VEVENT
DTSTAMP:20260423T140948
DTSTART;TZID=Europe/Berlin:20260505T185000
DTEND;TZID=Europe/Berlin:20260505T195000
UID:S267790115-20260505T185000@VHSWIENER NEUSTADT
SUMMARY:PILATES - ANFÄNGER:INNEN UND FORTGESCHRITTENE (S267790115) 
LOCATION:VHS Mehrzweckraum 1, Singergasse 14-16, 2700 Wiener Neustadt
END:VEVENT
BEGIN:VEVENT
DTSTAMP:20260423T140948
DTSTART;TZID=Europe/Berlin:20260512T185000
DTEND;TZID=Europe/Berlin:20260512T195000
UID:S267790115-20260512T185000@VHSWIENER NEUSTADT
SUMMARY:PILATES - ANFÄNGER:INNEN UND FORTGESCHRITTENE (S267790115) 
LOCATION:VHS Mehrzweckraum 1, Singergasse 14-16, 2700 Wiener Neustadt
END:VEVENT
BEGIN:VEVENT
DTSTAMP:20260423T140948
DTSTART;TZID=Europe/Berlin:20260519T185000
DTEND;TZID=Europe/Berlin:20260519T195000
UID:S267790115-20260519T185000@VHSWIENER NEUSTADT
SUMMARY:PILATES - ANFÄNGER:INNEN UND FORTGESCHRITTENE (S267790115) 
LOCATION:VHS Mehrzweckraum 1, Singergasse 14-16, 2700 Wiener Neustadt
END:VEVENT
BEGIN:VEVENT
DTSTAMP:20260423T140948
DTSTART;TZID=Europe/Berlin:20260526T185000
DTEND;TZID=Europe/Berlin:20260526T195000
UID:S267790115-20260526T185000@VHSWIENER NEUSTADT
SUMMARY:PILATES - ANFÄNGER:INNEN UND FORTGESCHRITTENE (S267790115) 
LOCATION:VHS Mehrzweckraum 1, Singergasse 14-16, 2700 Wiener Neustadt
END:VEVENT
BEGIN:VEVENT
DTSTAMP:20260423T140948
DTSTART;TZID=Europe/Berlin:20260602T185000
DTEND;TZID=Europe/Berlin:20260602T195000
UID:S267790115-20260602T185000@VHSWIENER NEUSTADT
SUMMARY:PILATES - ANFÄNGER:INNEN UND FORTGESCHRITTENE (S267790115) 
LOCATION:VHS Mehrzweckraum 1, Singergasse 14-16, 2700 Wiener Neustadt
END:VEVENT
BEGIN:VEVENT
DTSTAMP:20260423T140948
DTSTART;TZID=Europe/Berlin:20260609T185000
DTEND;TZID=Europe/Berlin:20260609T195000
UID:S267790115-20260609T185000@VHSWIENER NEUSTADT
SUMMARY:PILATES - ANFÄNGER:INNEN UND FORTGESCHRITTENE (S267790115) 
LOCATION:VHS Mehrzweckraum 1, Singergasse 14-16, 2700 Wiener Neustadt
END:VEVENT
BEGIN:VEVENT
DTSTAMP:20260423T140948
DTSTART;TZID=Europe/Berlin:20260616T185000
DTEND;TZID=Europe/Berlin:20260616T195000
UID:S267790115-20260616T185000@VHSWIENER NEUSTADT
SUMMARY:PILATES - ANFÄNGER:INNEN UND FORTGESCHRITTENE (S267790115) 
LOCATION:VHS Mehrzweckraum 1, Singergasse 14-16, 2700 Wiener Neustadt
END:VEVENT
END:VCALENDAR