BEGIN:VCALENDAR
VERSION:2.0
PRODID:https://www.kufer.de/kuferweb / DE
METHOD:PUBLISH
CALSCALE:GREGORIAN
X-WR-TIMEZONE:Europe/Berlin
BEGIN:VTIMEZONE
TZID:Europe/Berlin
X-LIC-LOCATION:Europe/Berlin
BEGIN:DAYLIGHT
TZOFFSETFROM:+0100
TZOFFSETTO:+0200
TZNAME:CEST
DTSTART:19700329T020000
RRULE:FREQ=YEARLY;INTERVAL=1;BYDAY=-1SU;BYMONTH=3
END:DAYLIGHT
BEGIN:STANDARD
TZOFFSETFROM:+0200
TZOFFSETTO:+0100
TZNAME:CET
DTSTART:19701025T030000
RRULE:FREQ=YEARLY;INTERVAL=1;BYDAY=-1SU;BYMONTH=10
END:STANDARD
END:VTIMEZONE
BEGIN:VEVENT
DTSTAMP:20260421T140328
DTSTART;TZID=Europe/Berlin:20260217T183000
DTEND;TZID=Europe/Berlin:20260217T193000
UID:S267790113-20260217T183000@VHSWIENER NEUSTADT
SUMMARY:GANZHEITLICHES YOGA – GRUNDKURS FÜR ANFÄNGER:INNEN UND LEICHT FORTGESCHRITTENE (S267790113) 
LOCATION:VHS Mehrzweckraum 2, Singergasse 14-16, 2700 Wiener Neustadt
END:VEVENT
BEGIN:VEVENT
DTSTAMP:20260421T140328
DTSTART;TZID=Europe/Berlin:20260224T183000
DTEND;TZID=Europe/Berlin:20260224T193000
UID:S267790113-20260224T183000@VHSWIENER NEUSTADT
SUMMARY:GANZHEITLICHES YOGA – GRUNDKURS FÜR ANFÄNGER:INNEN UND LEICHT FORTGESCHRITTENE (S267790113) 
LOCATION:VHS Mehrzweckraum 2, Singergasse 14-16, 2700 Wiener Neustadt
END:VEVENT
BEGIN:VEVENT
DTSTAMP:20260421T140328
DTSTART;TZID=Europe/Berlin:20260303T183000
DTEND;TZID=Europe/Berlin:20260303T193000
UID:S267790113-20260303T183000@VHSWIENER NEUSTADT
SUMMARY:GANZHEITLICHES YOGA – GRUNDKURS FÜR ANFÄNGER:INNEN UND LEICHT FORTGESCHRITTENE (S267790113) 
LOCATION:VHS Mehrzweckraum 2, Singergasse 14-16, 2700 Wiener Neustadt
END:VEVENT
BEGIN:VEVENT
DTSTAMP:20260421T140328
DTSTART;TZID=Europe/Berlin:20260310T183000
DTEND;TZID=Europe/Berlin:20260310T193000
UID:S267790113-20260310T183000@VHSWIENER NEUSTADT
SUMMARY:GANZHEITLICHES YOGA – GRUNDKURS FÜR ANFÄNGER:INNEN UND LEICHT FORTGESCHRITTENE (S267790113) 
LOCATION:VHS Mehrzweckraum 2, Singergasse 14-16, 2700 Wiener Neustadt
END:VEVENT
BEGIN:VEVENT
DTSTAMP:20260421T140328
DTSTART;TZID=Europe/Berlin:20260317T183000
DTEND;TZID=Europe/Berlin:20260317T193000
UID:S267790113-20260317T183000@VHSWIENER NEUSTADT
SUMMARY:GANZHEITLICHES YOGA – GRUNDKURS FÜR ANFÄNGER:INNEN UND LEICHT FORTGESCHRITTENE (S267790113) 
LOCATION:VHS Mehrzweckraum 2, Singergasse 14-16, 2700 Wiener Neustadt
END:VEVENT
BEGIN:VEVENT
DTSTAMP:20260421T140328
DTSTART;TZID=Europe/Berlin:20260324T183000
DTEND;TZID=Europe/Berlin:20260324T193000
UID:S267790113-20260324T183000@VHSWIENER NEUSTADT
SUMMARY:GANZHEITLICHES YOGA – GRUNDKURS FÜR ANFÄNGER:INNEN UND LEICHT FORTGESCHRITTENE (S267790113) 
LOCATION:VHS Mehrzweckraum 2, Singergasse 14-16, 2700 Wiener Neustadt
END:VEVENT
BEGIN:VEVENT
DTSTAMP:20260421T140328
DTSTART;TZID=Europe/Berlin:20260407T183000
DTEND;TZID=Europe/Berlin:20260407T193000
UID:S267790113-20260407T183000@VHSWIENER NEUSTADT
SUMMARY:GANZHEITLICHES YOGA – GRUNDKURS FÜR ANFÄNGER:INNEN UND LEICHT FORTGESCHRITTENE (S267790113) 
LOCATION:VHS Mehrzweckraum 2, Singergasse 14-16, 2700 Wiener Neustadt
END:VEVENT
BEGIN:VEVENT
DTSTAMP:20260421T140328
DTSTART;TZID=Europe/Berlin:20260414T183000
DTEND;TZID=Europe/Berlin:20260414T193000
UID:S267790113-20260414T183000@VHSWIENER NEUSTADT
SUMMARY:GANZHEITLICHES YOGA – GRUNDKURS FÜR ANFÄNGER:INNEN UND LEICHT FORTGESCHRITTENE (S267790113) 
LOCATION:VHS Mehrzweckraum 2, Singergasse 14-16, 2700 Wiener Neustadt
END:VEVENT
BEGIN:VEVENT
DTSTAMP:20260421T140328
DTSTART;TZID=Europe/Berlin:20260421T183000
DTEND;TZID=Europe/Berlin:20260421T193000
UID:S267790113-20260421T183000@VHSWIENER NEUSTADT
SUMMARY:GANZHEITLICHES YOGA – GRUNDKURS FÜR ANFÄNGER:INNEN UND LEICHT FORTGESCHRITTENE (S267790113) 
LOCATION:VHS Mehrzweckraum 2, Singergasse 14-16, 2700 Wiener Neustadt
END:VEVENT
BEGIN:VEVENT
DTSTAMP:20260421T140328
DTSTART;TZID=Europe/Berlin:20260428T183000
DTEND;TZID=Europe/Berlin:20260428T193000
UID:S267790113-20260428T183000@VHSWIENER NEUSTADT
SUMMARY:GANZHEITLICHES YOGA – GRUNDKURS FÜR ANFÄNGER:INNEN UND LEICHT FORTGESCHRITTENE (S267790113) 
LOCATION:VHS Mehrzweckraum 2, Singergasse 14-16, 2700 Wiener Neustadt
END:VEVENT
BEGIN:VEVENT
DTSTAMP:20260421T140328
DTSTART;TZID=Europe/Berlin:20260505T183000
DTEND;TZID=Europe/Berlin:20260505T193000
UID:S267790113-20260505T183000@VHSWIENER NEUSTADT
SUMMARY:GANZHEITLICHES YOGA – GRUNDKURS FÜR ANFÄNGER:INNEN UND LEICHT FORTGESCHRITTENE (S267790113) 
LOCATION:VHS Mehrzweckraum 2, Singergasse 14-16, 2700 Wiener Neustadt
END:VEVENT
BEGIN:VEVENT
DTSTAMP:20260421T140328
DTSTART;TZID=Europe/Berlin:20260512T183000
DTEND;TZID=Europe/Berlin:20260512T193000
UID:S267790113-20260512T183000@VHSWIENER NEUSTADT
SUMMARY:GANZHEITLICHES YOGA – GRUNDKURS FÜR ANFÄNGER:INNEN UND LEICHT FORTGESCHRITTENE (S267790113) 
LOCATION:VHS Mehrzweckraum 2, Singergasse 14-16, 2700 Wiener Neustadt
END:VEVENT
BEGIN:VEVENT
DTSTAMP:20260421T140328
DTSTART;TZID=Europe/Berlin:20260519T183000
DTEND;TZID=Europe/Berlin:20260519T193000
UID:S267790113-20260519T183000@VHSWIENER NEUSTADT
SUMMARY:GANZHEITLICHES YOGA – GRUNDKURS FÜR ANFÄNGER:INNEN UND LEICHT FORTGESCHRITTENE (S267790113) 
LOCATION:VHS Mehrzweckraum 2, Singergasse 14-16, 2700 Wiener Neustadt
END:VEVENT
BEGIN:VEVENT
DTSTAMP:20260421T140328
DTSTART;TZID=Europe/Berlin:20260526T183000
DTEND;TZID=Europe/Berlin:20260526T193000
UID:S267790113-20260526T183000@VHSWIENER NEUSTADT
SUMMARY:GANZHEITLICHES YOGA – GRUNDKURS FÜR ANFÄNGER:INNEN UND LEICHT FORTGESCHRITTENE (S267790113) 
LOCATION:VHS Mehrzweckraum 2, Singergasse 14-16, 2700 Wiener Neustadt
END:VEVENT
BEGIN:VEVENT
DTSTAMP:20260421T140328
DTSTART;TZID=Europe/Berlin:20260602T183000
DTEND;TZID=Europe/Berlin:20260602T193000
UID:S267790113-20260602T183000@VHSWIENER NEUSTADT
SUMMARY:GANZHEITLICHES YOGA – GRUNDKURS FÜR ANFÄNGER:INNEN UND LEICHT FORTGESCHRITTENE (S267790113) 
LOCATION:VHS Mehrzweckraum 2, Singergasse 14-16, 2700 Wiener Neustadt
END:VEVENT
BEGIN:VEVENT
DTSTAMP:20260421T140328
DTSTART;TZID=Europe/Berlin:20260609T183000
DTEND;TZID=Europe/Berlin:20260609T193000
UID:S267790113-20260609T183000@VHSWIENER NEUSTADT
SUMMARY:GANZHEITLICHES YOGA – GRUNDKURS FÜR ANFÄNGER:INNEN UND LEICHT FORTGESCHRITTENE (S267790113) 
LOCATION:VHS Mehrzweckraum 2, Singergasse 14-16, 2700 Wiener Neustadt
END:VEVENT
BEGIN:VEVENT
DTSTAMP:20260421T140328
DTSTART;TZID=Europe/Berlin:20260616T183000
DTEND;TZID=Europe/Berlin:20260616T193000
UID:S267790113-20260616T183000@VHSWIENER NEUSTADT
SUMMARY:GANZHEITLICHES YOGA – GRUNDKURS FÜR ANFÄNGER:INNEN UND LEICHT FORTGESCHRITTENE (S267790113) 
LOCATION:VHS Mehrzweckraum 2, Singergasse 14-16, 2700 Wiener Neustadt
END:VEVENT
BEGIN:VEVENT
DTSTAMP:20260421T140328
DTSTART;TZID=Europe/Berlin:20260623T183000
DTEND;TZID=Europe/Berlin:20260623T193000
UID:S267790113-20260623T183000@VHSWIENER NEUSTADT
DESCRIPTION:ET f. 10.02. KL auf Kur
SUMMARY:GANZHEITLICHES YOGA – GRUNDKURS FÜR ANFÄNGER:INNEN UND LEICHT FORTGESCHRITTENE (S267790113) 
LOCATION:VHS Mehrzweckraum 2, Singergasse 14-16, 2700 Wiener Neustadt
END:VEVENT
END:VCALENDAR