BEGIN:VCALENDAR
VERSION:2.0
PRODID:https://www.kufer.de/kuferweb / DE
METHOD:PUBLISH
CALSCALE:GREGORIAN
X-WR-TIMEZONE:Europe/Berlin
BEGIN:VTIMEZONE
TZID:Europe/Berlin
X-LIC-LOCATION:Europe/Berlin
BEGIN:DAYLIGHT
TZOFFSETFROM:+0100
TZOFFSETTO:+0200
TZNAME:CEST
DTSTART:19700329T020000
RRULE:FREQ=YEARLY;INTERVAL=1;BYDAY=-1SU;BYMONTH=3
END:DAYLIGHT
BEGIN:STANDARD
TZOFFSETFROM:+0200
TZOFFSETTO:+0100
TZNAME:CET
DTSTART:19701025T030000
RRULE:FREQ=YEARLY;INTERVAL=1;BYDAY=-1SU;BYMONTH=10
END:STANDARD
END:VTIMEZONE
BEGIN:VEVENT
DTSTAMP:20260423T140911
DTSTART;TZID=Europe/Berlin:20260210T164000
DTEND;TZID=Europe/Berlin:20260210T174000
UID:S267790101-20260210T164000@VHSWIENER NEUSTADT
SUMMARY:TRAINING FÜR DEN BECKENBODEN MIT DO-IN ÜBUNGEN (S267790101) 
LOCATION:VHS Mehrzweckraum 1, Singergasse 14-16, 2700 Wiener Neustadt
END:VEVENT
BEGIN:VEVENT
DTSTAMP:20260423T140911
DTSTART;TZID=Europe/Berlin:20260217T164000
DTEND;TZID=Europe/Berlin:20260217T174000
UID:S267790101-20260217T164000@VHSWIENER NEUSTADT
SUMMARY:TRAINING FÜR DEN BECKENBODEN MIT DO-IN ÜBUNGEN (S267790101) 
LOCATION:VHS Mehrzweckraum 1, Singergasse 14-16, 2700 Wiener Neustadt
END:VEVENT
BEGIN:VEVENT
DTSTAMP:20260423T140911
DTSTART;TZID=Europe/Berlin:20260224T164000
DTEND;TZID=Europe/Berlin:20260224T174000
UID:S267790101-20260224T164000@VHSWIENER NEUSTADT
SUMMARY:TRAINING FÜR DEN BECKENBODEN MIT DO-IN ÜBUNGEN (S267790101) 
LOCATION:VHS Mehrzweckraum 1, Singergasse 14-16, 2700 Wiener Neustadt
END:VEVENT
BEGIN:VEVENT
DTSTAMP:20260423T140911
DTSTART;TZID=Europe/Berlin:20260303T164000
DTEND;TZID=Europe/Berlin:20260303T174000
UID:S267790101-20260303T164000@VHSWIENER NEUSTADT
SUMMARY:TRAINING FÜR DEN BECKENBODEN MIT DO-IN ÜBUNGEN (S267790101) 
LOCATION:VHS Mehrzweckraum 1, Singergasse 14-16, 2700 Wiener Neustadt
END:VEVENT
BEGIN:VEVENT
DTSTAMP:20260423T140911
DTSTART;TZID=Europe/Berlin:20260310T164000
DTEND;TZID=Europe/Berlin:20260310T174000
UID:S267790101-20260310T164000@VHSWIENER NEUSTADT
SUMMARY:TRAINING FÜR DEN BECKENBODEN MIT DO-IN ÜBUNGEN (S267790101) 
LOCATION:VHS Mehrzweckraum 1, Singergasse 14-16, 2700 Wiener Neustadt
END:VEVENT
BEGIN:VEVENT
DTSTAMP:20260423T140911
DTSTART;TZID=Europe/Berlin:20260317T164000
DTEND;TZID=Europe/Berlin:20260317T174000
UID:S267790101-20260317T164000@VHSWIENER NEUSTADT
SUMMARY:TRAINING FÜR DEN BECKENBODEN MIT DO-IN ÜBUNGEN (S267790101) 
LOCATION:VHS Mehrzweckraum 1, Singergasse 14-16, 2700 Wiener Neustadt
END:VEVENT
BEGIN:VEVENT
DTSTAMP:20260423T140911
DTSTART;TZID=Europe/Berlin:20260324T164000
DTEND;TZID=Europe/Berlin:20260324T174000
UID:S267790101-20260324T164000@VHSWIENER NEUSTADT
SUMMARY:TRAINING FÜR DEN BECKENBODEN MIT DO-IN ÜBUNGEN (S267790101) 
LOCATION:VHS Mehrzweckraum 1, Singergasse 14-16, 2700 Wiener Neustadt
END:VEVENT
BEGIN:VEVENT
DTSTAMP:20260423T140911
DTSTART;TZID=Europe/Berlin:20260407T164000
DTEND;TZID=Europe/Berlin:20260407T174000
UID:S267790101-20260407T164000@VHSWIENER NEUSTADT
SUMMARY:TRAINING FÜR DEN BECKENBODEN MIT DO-IN ÜBUNGEN (S267790101) 
LOCATION:VHS Mehrzweckraum 1, Singergasse 14-16, 2700 Wiener Neustadt
END:VEVENT
BEGIN:VEVENT
DTSTAMP:20260423T140911
DTSTART;TZID=Europe/Berlin:20260414T164000
DTEND;TZID=Europe/Berlin:20260414T174000
UID:S267790101-20260414T164000@VHSWIENER NEUSTADT
SUMMARY:TRAINING FÜR DEN BECKENBODEN MIT DO-IN ÜBUNGEN (S267790101) 
LOCATION:VHS Mehrzweckraum 1, Singergasse 14-16, 2700 Wiener Neustadt
END:VEVENT
BEGIN:VEVENT
DTSTAMP:20260423T140911
DTSTART;TZID=Europe/Berlin:20260421T164000
DTEND;TZID=Europe/Berlin:20260421T174000
UID:S267790101-20260421T164000@VHSWIENER NEUSTADT
SUMMARY:TRAINING FÜR DEN BECKENBODEN MIT DO-IN ÜBUNGEN (S267790101) 
LOCATION:VHS Mehrzweckraum 1, Singergasse 14-16, 2700 Wiener Neustadt
END:VEVENT
BEGIN:VEVENT
DTSTAMP:20260423T140911
DTSTART;TZID=Europe/Berlin:20260428T164000
DTEND;TZID=Europe/Berlin:20260428T174000
UID:S267790101-20260428T164000@VHSWIENER NEUSTADT
SUMMARY:TRAINING FÜR DEN BECKENBODEN MIT DO-IN ÜBUNGEN (S267790101) 
LOCATION:VHS Mehrzweckraum 1, Singergasse 14-16, 2700 Wiener Neustadt
END:VEVENT
BEGIN:VEVENT
DTSTAMP:20260423T140911
DTSTART;TZID=Europe/Berlin:20260505T164000
DTEND;TZID=Europe/Berlin:20260505T174000
UID:S267790101-20260505T164000@VHSWIENER NEUSTADT
SUMMARY:TRAINING FÜR DEN BECKENBODEN MIT DO-IN ÜBUNGEN (S267790101) 
LOCATION:VHS Mehrzweckraum 1, Singergasse 14-16, 2700 Wiener Neustadt
END:VEVENT
BEGIN:VEVENT
DTSTAMP:20260423T140911
DTSTART;TZID=Europe/Berlin:20260512T164000
DTEND;TZID=Europe/Berlin:20260512T174000
UID:S267790101-20260512T164000@VHSWIENER NEUSTADT
SUMMARY:TRAINING FÜR DEN BECKENBODEN MIT DO-IN ÜBUNGEN (S267790101) 
LOCATION:VHS Mehrzweckraum 1, Singergasse 14-16, 2700 Wiener Neustadt
END:VEVENT
BEGIN:VEVENT
DTSTAMP:20260423T140911
DTSTART;TZID=Europe/Berlin:20260519T164000
DTEND;TZID=Europe/Berlin:20260519T174000
UID:S267790101-20260519T164000@VHSWIENER NEUSTADT
SUMMARY:TRAINING FÜR DEN BECKENBODEN MIT DO-IN ÜBUNGEN (S267790101) 
LOCATION:VHS Mehrzweckraum 1, Singergasse 14-16, 2700 Wiener Neustadt
END:VEVENT
BEGIN:VEVENT
DTSTAMP:20260423T140911
DTSTART;TZID=Europe/Berlin:20260526T164000
DTEND;TZID=Europe/Berlin:20260526T174000
UID:S267790101-20260526T164000@VHSWIENER NEUSTADT
SUMMARY:TRAINING FÜR DEN BECKENBODEN MIT DO-IN ÜBUNGEN (S267790101) 
LOCATION:VHS Mehrzweckraum 1, Singergasse 14-16, 2700 Wiener Neustadt
END:VEVENT
BEGIN:VEVENT
DTSTAMP:20260423T140911
DTSTART;TZID=Europe/Berlin:20260602T164000
DTEND;TZID=Europe/Berlin:20260602T174000
UID:S267790101-20260602T164000@VHSWIENER NEUSTADT
SUMMARY:TRAINING FÜR DEN BECKENBODEN MIT DO-IN ÜBUNGEN (S267790101) 
LOCATION:VHS Mehrzweckraum 1, Singergasse 14-16, 2700 Wiener Neustadt
END:VEVENT
BEGIN:VEVENT
DTSTAMP:20260423T140911
DTSTART;TZID=Europe/Berlin:20260609T164000
DTEND;TZID=Europe/Berlin:20260609T174000
UID:S267790101-20260609T164000@VHSWIENER NEUSTADT
SUMMARY:TRAINING FÜR DEN BECKENBODEN MIT DO-IN ÜBUNGEN (S267790101) 
LOCATION:VHS Mehrzweckraum 1, Singergasse 14-16, 2700 Wiener Neustadt
END:VEVENT
BEGIN:VEVENT
DTSTAMP:20260423T140911
DTSTART;TZID=Europe/Berlin:20260616T164000
DTEND;TZID=Europe/Berlin:20260616T174000
UID:S267790101-20260616T164000@VHSWIENER NEUSTADT
SUMMARY:TRAINING FÜR DEN BECKENBODEN MIT DO-IN ÜBUNGEN (S267790101) 
LOCATION:VHS Mehrzweckraum 1, Singergasse 14-16, 2700 Wiener Neustadt
END:VEVENT
END:VCALENDAR