BEGIN:VCALENDAR
VERSION:2.0
PRODID:https://www.kufer.de/kuferweb / DE
METHOD:PUBLISH
CALSCALE:GREGORIAN
X-WR-TIMEZONE:Europe/Berlin
BEGIN:VTIMEZONE
TZID:Europe/Berlin
X-LIC-LOCATION:Europe/Berlin
BEGIN:DAYLIGHT
TZOFFSETFROM:+0100
TZOFFSETTO:+0200
TZNAME:CEST
DTSTART:19700329T020000
RRULE:FREQ=YEARLY;INTERVAL=1;BYDAY=-1SU;BYMONTH=3
END:DAYLIGHT
BEGIN:STANDARD
TZOFFSETFROM:+0200
TZOFFSETTO:+0100
TZNAME:CET
DTSTART:19701025T030000
RRULE:FREQ=YEARLY;INTERVAL=1;BYDAY=-1SU;BYMONTH=10
END:STANDARD
END:VTIMEZONE
BEGIN:VEVENT
DTSTAMP:20260421T134127
DTSTART;TZID=Europe/Berlin:20260210T113000
DTEND;TZID=Europe/Berlin:20260210T123000
UID:S267780107-20260210T113000@VHSWIENER NEUSTADT
SUMMARY:OSTEOPOROSE-RÜCKEN-GYMNASTIK (S267780107) 
LOCATION:VHS Mehrzweckraum 1, Singergasse 14-16, 2700 Wiener Neustadt
END:VEVENT
BEGIN:VEVENT
DTSTAMP:20260421T134127
DTSTART;TZID=Europe/Berlin:20260217T113000
DTEND;TZID=Europe/Berlin:20260217T123000
UID:S267780107-20260217T113000@VHSWIENER NEUSTADT
SUMMARY:OSTEOPOROSE-RÜCKEN-GYMNASTIK (S267780107) 
LOCATION:VHS Mehrzweckraum 1, Singergasse 14-16, 2700 Wiener Neustadt
END:VEVENT
BEGIN:VEVENT
DTSTAMP:20260421T134127
DTSTART;TZID=Europe/Berlin:20260224T113000
DTEND;TZID=Europe/Berlin:20260224T123000
UID:S267780107-20260224T113000@VHSWIENER NEUSTADT
SUMMARY:OSTEOPOROSE-RÜCKEN-GYMNASTIK (S267780107) 
LOCATION:VHS Mehrzweckraum 1, Singergasse 14-16, 2700 Wiener Neustadt
END:VEVENT
BEGIN:VEVENT
DTSTAMP:20260421T134127
DTSTART;TZID=Europe/Berlin:20260303T113000
DTEND;TZID=Europe/Berlin:20260303T123000
UID:S267780107-20260303T113000@VHSWIENER NEUSTADT
SUMMARY:OSTEOPOROSE-RÜCKEN-GYMNASTIK (S267780107) 
LOCATION:VHS Mehrzweckraum 1, Singergasse 14-16, 2700 Wiener Neustadt
END:VEVENT
BEGIN:VEVENT
DTSTAMP:20260421T134127
DTSTART;TZID=Europe/Berlin:20260310T113000
DTEND;TZID=Europe/Berlin:20260310T123000
UID:S267780107-20260310T113000@VHSWIENER NEUSTADT
SUMMARY:OSTEOPOROSE-RÜCKEN-GYMNASTIK (S267780107) 
LOCATION:VHS Mehrzweckraum 1, Singergasse 14-16, 2700 Wiener Neustadt
END:VEVENT
BEGIN:VEVENT
DTSTAMP:20260421T134127
DTSTART;TZID=Europe/Berlin:20260317T113000
DTEND;TZID=Europe/Berlin:20260317T123000
UID:S267780107-20260317T113000@VHSWIENER NEUSTADT
SUMMARY:OSTEOPOROSE-RÜCKEN-GYMNASTIK (S267780107) 
LOCATION:VHS Mehrzweckraum 1, Singergasse 14-16, 2700 Wiener Neustadt
END:VEVENT
BEGIN:VEVENT
DTSTAMP:20260421T134127
DTSTART;TZID=Europe/Berlin:20260324T113000
DTEND;TZID=Europe/Berlin:20260324T123000
UID:S267780107-20260324T113000@VHSWIENER NEUSTADT
DESCRIPTION:hält KL Jandl
SUMMARY:OSTEOPOROSE-RÜCKEN-GYMNASTIK (S267780107) 
LOCATION:VHS Mehrzweckraum 1, Singergasse 14-16, 2700 Wiener Neustadt
END:VEVENT
BEGIN:VEVENT
DTSTAMP:20260421T134127
DTSTART;TZID=Europe/Berlin:20260407T113000
DTEND;TZID=Europe/Berlin:20260407T123000
UID:S267780107-20260407T113000@VHSWIENER NEUSTADT
DESCRIPTION:hält KL Jandl
SUMMARY:OSTEOPOROSE-RÜCKEN-GYMNASTIK (S267780107) 
LOCATION:VHS Mehrzweckraum 1, Singergasse 14-16, 2700 Wiener Neustadt
END:VEVENT
BEGIN:VEVENT
DTSTAMP:20260421T134127
DTSTART;TZID=Europe/Berlin:20260414T113000
DTEND;TZID=Europe/Berlin:20260414T123000
UID:S267780107-20260414T113000@VHSWIENER NEUSTADT
SUMMARY:OSTEOPOROSE-RÜCKEN-GYMNASTIK (S267780107) 
LOCATION:VHS Mehrzweckraum 1, Singergasse 14-16, 2700 Wiener Neustadt
END:VEVENT
BEGIN:VEVENT
DTSTAMP:20260421T134127
DTSTART;TZID=Europe/Berlin:20260421T113000
DTEND;TZID=Europe/Berlin:20260421T123000
UID:S267780107-20260421T113000@VHSWIENER NEUSTADT
SUMMARY:OSTEOPOROSE-RÜCKEN-GYMNASTIK (S267780107) 
LOCATION:VHS Mehrzweckraum 1, Singergasse 14-16, 2700 Wiener Neustadt
END:VEVENT
BEGIN:VEVENT
DTSTAMP:20260421T134127
DTSTART;TZID=Europe/Berlin:20260428T113000
DTEND;TZID=Europe/Berlin:20260428T123000
UID:S267780107-20260428T113000@VHSWIENER NEUSTADT
SUMMARY:OSTEOPOROSE-RÜCKEN-GYMNASTIK (S267780107) 
LOCATION:VHS Mehrzweckraum 1, Singergasse 14-16, 2700 Wiener Neustadt
END:VEVENT
BEGIN:VEVENT
DTSTAMP:20260421T134127
DTSTART;TZID=Europe/Berlin:20260505T113000
DTEND;TZID=Europe/Berlin:20260505T123000
UID:S267780107-20260505T113000@VHSWIENER NEUSTADT
SUMMARY:OSTEOPOROSE-RÜCKEN-GYMNASTIK (S267780107) 
LOCATION:VHS Mehrzweckraum 1, Singergasse 14-16, 2700 Wiener Neustadt
END:VEVENT
BEGIN:VEVENT
DTSTAMP:20260421T134127
DTSTART;TZID=Europe/Berlin:20260512T113000
DTEND;TZID=Europe/Berlin:20260512T123000
UID:S267780107-20260512T113000@VHSWIENER NEUSTADT
DESCRIPTION:hält KL Jandl
SUMMARY:OSTEOPOROSE-RÜCKEN-GYMNASTIK (S267780107) 
LOCATION:VHS Mehrzweckraum 1, Singergasse 14-16, 2700 Wiener Neustadt
END:VEVENT
BEGIN:VEVENT
DTSTAMP:20260421T134127
DTSTART;TZID=Europe/Berlin:20260519T113000
DTEND;TZID=Europe/Berlin:20260519T123000
UID:S267780107-20260519T113000@VHSWIENER NEUSTADT
SUMMARY:OSTEOPOROSE-RÜCKEN-GYMNASTIK (S267780107) 
LOCATION:VHS Mehrzweckraum 1, Singergasse 14-16, 2700 Wiener Neustadt
END:VEVENT
BEGIN:VEVENT
DTSTAMP:20260421T134127
DTSTART;TZID=Europe/Berlin:20260526T113000
DTEND;TZID=Europe/Berlin:20260526T123000
UID:S267780107-20260526T113000@VHSWIENER NEUSTADT
SUMMARY:OSTEOPOROSE-RÜCKEN-GYMNASTIK (S267780107) 
LOCATION:VHS Mehrzweckraum 1, Singergasse 14-16, 2700 Wiener Neustadt
END:VEVENT
BEGIN:VEVENT
DTSTAMP:20260421T134127
DTSTART;TZID=Europe/Berlin:20260602T113000
DTEND;TZID=Europe/Berlin:20260602T123000
UID:S267780107-20260602T113000@VHSWIENER NEUSTADT
SUMMARY:OSTEOPOROSE-RÜCKEN-GYMNASTIK (S267780107) 
LOCATION:VHS Mehrzweckraum 1, Singergasse 14-16, 2700 Wiener Neustadt
END:VEVENT
BEGIN:VEVENT
DTSTAMP:20260421T134127
DTSTART;TZID=Europe/Berlin:20260609T113000
DTEND;TZID=Europe/Berlin:20260609T123000
UID:S267780107-20260609T113000@VHSWIENER NEUSTADT
SUMMARY:OSTEOPOROSE-RÜCKEN-GYMNASTIK (S267780107) 
LOCATION:VHS Mehrzweckraum 1, Singergasse 14-16, 2700 Wiener Neustadt
END:VEVENT
BEGIN:VEVENT
DTSTAMP:20260421T134127
DTSTART;TZID=Europe/Berlin:20260616T113000
DTEND;TZID=Europe/Berlin:20260616T123000
UID:S267780107-20260616T113000@VHSWIENER NEUSTADT
SUMMARY:OSTEOPOROSE-RÜCKEN-GYMNASTIK (S267780107) 
LOCATION:VHS Mehrzweckraum 1, Singergasse 14-16, 2700 Wiener Neustadt
END:VEVENT
BEGIN:VEVENT
DTSTAMP:20260421T134127
DTSTART;TZID=Europe/Berlin:20260623T113000
DTEND;TZID=Europe/Berlin:20260623T123000
UID:S267780107-20260623T113000@VHSWIENER NEUSTADT
SUMMARY:OSTEOPOROSE-RÜCKEN-GYMNASTIK (S267780107) 
LOCATION:VHS Mehrzweckraum 1, Singergasse 14-16, 2700 Wiener Neustadt
END:VEVENT
BEGIN:VEVENT
DTSTAMP:20260421T134127
DTSTART;TZID=Europe/Berlin:20260630T113000
DTEND;TZID=Europe/Berlin:20260630T123000
UID:S267780107-20260630T113000@VHSWIENER NEUSTADT
SUMMARY:OSTEOPOROSE-RÜCKEN-GYMNASTIK (S267780107) 
LOCATION:VHS Mehrzweckraum 1, Singergasse 14-16, 2700 Wiener Neustadt
END:VEVENT
END:VCALENDAR