BEGIN:VCALENDAR
VERSION:2.0
PRODID:https://www.kufer.de/kuferweb / DE
METHOD:PUBLISH
CALSCALE:GREGORIAN
X-WR-TIMEZONE:Europe/Berlin
BEGIN:VTIMEZONE
TZID:Europe/Berlin
X-LIC-LOCATION:Europe/Berlin
BEGIN:DAYLIGHT
TZOFFSETFROM:+0100
TZOFFSETTO:+0200
TZNAME:CEST
DTSTART:19700329T020000
RRULE:FREQ=YEARLY;INTERVAL=1;BYDAY=-1SU;BYMONTH=3
END:DAYLIGHT
BEGIN:STANDARD
TZOFFSETFROM:+0200
TZOFFSETTO:+0100
TZNAME:CET
DTSTART:19701025T030000
RRULE:FREQ=YEARLY;INTERVAL=1;BYDAY=-1SU;BYMONTH=10
END:STANDARD
END:VTIMEZONE
BEGIN:VEVENT
DTSTAMP:20260423T110417
DTSTART;TZID=Europe/Berlin:20260210T093000
DTEND;TZID=Europe/Berlin:20260210T103000
UID:S267780103-20260210T093000@VHSWIENER NEUSTADT
SUMMARY:GYMNASTIK FÜR RÜCKEN UND WIRBELSÄULE (S267780103) 
LOCATION:VHS Mehrzweckraum 1, Singergasse 14-16, 2700 Wiener Neustadt
END:VEVENT
BEGIN:VEVENT
DTSTAMP:20260423T110417
DTSTART;TZID=Europe/Berlin:20260217T093000
DTEND;TZID=Europe/Berlin:20260217T103000
UID:S267780103-20260217T093000@VHSWIENER NEUSTADT
SUMMARY:GYMNASTIK FÜR RÜCKEN UND WIRBELSÄULE (S267780103) 
LOCATION:VHS Mehrzweckraum 1, Singergasse 14-16, 2700 Wiener Neustadt
END:VEVENT
BEGIN:VEVENT
DTSTAMP:20260423T110417
DTSTART;TZID=Europe/Berlin:20260224T093000
DTEND;TZID=Europe/Berlin:20260224T103000
UID:S267780103-20260224T093000@VHSWIENER NEUSTADT
SUMMARY:GYMNASTIK FÜR RÜCKEN UND WIRBELSÄULE (S267780103) 
LOCATION:VHS Mehrzweckraum 1, Singergasse 14-16, 2700 Wiener Neustadt
END:VEVENT
BEGIN:VEVENT
DTSTAMP:20260423T110417
DTSTART;TZID=Europe/Berlin:20260303T093000
DTEND;TZID=Europe/Berlin:20260303T103000
UID:S267780103-20260303T093000@VHSWIENER NEUSTADT
SUMMARY:GYMNASTIK FÜR RÜCKEN UND WIRBELSÄULE (S267780103) 
LOCATION:VHS Mehrzweckraum 1, Singergasse 14-16, 2700 Wiener Neustadt
END:VEVENT
BEGIN:VEVENT
DTSTAMP:20260423T110417
DTSTART;TZID=Europe/Berlin:20260310T093000
DTEND;TZID=Europe/Berlin:20260310T103000
UID:S267780103-20260310T093000@VHSWIENER NEUSTADT
SUMMARY:GYMNASTIK FÜR RÜCKEN UND WIRBELSÄULE (S267780103) 
LOCATION:VHS Mehrzweckraum 1, Singergasse 14-16, 2700 Wiener Neustadt
END:VEVENT
BEGIN:VEVENT
DTSTAMP:20260423T110417
DTSTART;TZID=Europe/Berlin:20260317T093000
DTEND;TZID=Europe/Berlin:20260317T103000
UID:S267780103-20260317T093000@VHSWIENER NEUSTADT
SUMMARY:GYMNASTIK FÜR RÜCKEN UND WIRBELSÄULE (S267780103) 
LOCATION:VHS Mehrzweckraum 1, Singergasse 14-16, 2700 Wiener Neustadt
END:VEVENT
BEGIN:VEVENT
DTSTAMP:20260423T110417
DTSTART;TZID=Europe/Berlin:20260324T093000
DTEND;TZID=Europe/Berlin:20260324T103000
UID:S267780103-20260324T093000@VHSWIENER NEUSTADT
DESCRIPTION:hält KL Jandl
SUMMARY:GYMNASTIK FÜR RÜCKEN UND WIRBELSÄULE (S267780103) 
LOCATION:VHS Mehrzweckraum 1, Singergasse 14-16, 2700 Wiener Neustadt
END:VEVENT
BEGIN:VEVENT
DTSTAMP:20260423T110417
DTSTART;TZID=Europe/Berlin:20260407T093000
DTEND;TZID=Europe/Berlin:20260407T103000
UID:S267780103-20260407T093000@VHSWIENER NEUSTADT
DESCRIPTION:hält KL Jandl
SUMMARY:GYMNASTIK FÜR RÜCKEN UND WIRBELSÄULE (S267780103) 
LOCATION:VHS Mehrzweckraum 1, Singergasse 14-16, 2700 Wiener Neustadt
END:VEVENT
BEGIN:VEVENT
DTSTAMP:20260423T110417
DTSTART;TZID=Europe/Berlin:20260414T093000
DTEND;TZID=Europe/Berlin:20260414T103000
UID:S267780103-20260414T093000@VHSWIENER NEUSTADT
SUMMARY:GYMNASTIK FÜR RÜCKEN UND WIRBELSÄULE (S267780103) 
LOCATION:VHS Mehrzweckraum 1, Singergasse 14-16, 2700 Wiener Neustadt
END:VEVENT
BEGIN:VEVENT
DTSTAMP:20260423T110417
DTSTART;TZID=Europe/Berlin:20260421T093000
DTEND;TZID=Europe/Berlin:20260421T103000
UID:S267780103-20260421T093000@VHSWIENER NEUSTADT
SUMMARY:GYMNASTIK FÜR RÜCKEN UND WIRBELSÄULE (S267780103) 
LOCATION:VHS Mehrzweckraum 1, Singergasse 14-16, 2700 Wiener Neustadt
END:VEVENT
BEGIN:VEVENT
DTSTAMP:20260423T110417
DTSTART;TZID=Europe/Berlin:20260428T093000
DTEND;TZID=Europe/Berlin:20260428T103000
UID:S267780103-20260428T093000@VHSWIENER NEUSTADT
SUMMARY:GYMNASTIK FÜR RÜCKEN UND WIRBELSÄULE (S267780103) 
LOCATION:VHS Mehrzweckraum 1, Singergasse 14-16, 2700 Wiener Neustadt
END:VEVENT
BEGIN:VEVENT
DTSTAMP:20260423T110417
DTSTART;TZID=Europe/Berlin:20260505T093000
DTEND;TZID=Europe/Berlin:20260505T103000
UID:S267780103-20260505T093000@VHSWIENER NEUSTADT
SUMMARY:GYMNASTIK FÜR RÜCKEN UND WIRBELSÄULE (S267780103) 
LOCATION:VHS Mehrzweckraum 1, Singergasse 14-16, 2700 Wiener Neustadt
END:VEVENT
BEGIN:VEVENT
DTSTAMP:20260423T110417
DTSTART;TZID=Europe/Berlin:20260512T093000
DTEND;TZID=Europe/Berlin:20260512T103000
UID:S267780103-20260512T093000@VHSWIENER NEUSTADT
DESCRIPTION:hält KL Jandl
SUMMARY:GYMNASTIK FÜR RÜCKEN UND WIRBELSÄULE (S267780103) 
LOCATION:VHS Mehrzweckraum 1, Singergasse 14-16, 2700 Wiener Neustadt
END:VEVENT
BEGIN:VEVENT
DTSTAMP:20260423T110417
DTSTART;TZID=Europe/Berlin:20260519T093000
DTEND;TZID=Europe/Berlin:20260519T103000
UID:S267780103-20260519T093000@VHSWIENER NEUSTADT
SUMMARY:GYMNASTIK FÜR RÜCKEN UND WIRBELSÄULE (S267780103) 
LOCATION:VHS Mehrzweckraum 1, Singergasse 14-16, 2700 Wiener Neustadt
END:VEVENT
BEGIN:VEVENT
DTSTAMP:20260423T110417
DTSTART;TZID=Europe/Berlin:20260526T093000
DTEND;TZID=Europe/Berlin:20260526T103000
UID:S267780103-20260526T093000@VHSWIENER NEUSTADT
SUMMARY:GYMNASTIK FÜR RÜCKEN UND WIRBELSÄULE (S267780103) 
LOCATION:VHS Mehrzweckraum 1, Singergasse 14-16, 2700 Wiener Neustadt
END:VEVENT
BEGIN:VEVENT
DTSTAMP:20260423T110417
DTSTART;TZID=Europe/Berlin:20260602T093000
DTEND;TZID=Europe/Berlin:20260602T103000
UID:S267780103-20260602T093000@VHSWIENER NEUSTADT
SUMMARY:GYMNASTIK FÜR RÜCKEN UND WIRBELSÄULE (S267780103) 
LOCATION:VHS Mehrzweckraum 1, Singergasse 14-16, 2700 Wiener Neustadt
END:VEVENT
BEGIN:VEVENT
DTSTAMP:20260423T110417
DTSTART;TZID=Europe/Berlin:20260609T093000
DTEND;TZID=Europe/Berlin:20260609T103000
UID:S267780103-20260609T093000@VHSWIENER NEUSTADT
SUMMARY:GYMNASTIK FÜR RÜCKEN UND WIRBELSÄULE (S267780103) 
LOCATION:VHS Mehrzweckraum 1, Singergasse 14-16, 2700 Wiener Neustadt
END:VEVENT
BEGIN:VEVENT
DTSTAMP:20260423T110417
DTSTART;TZID=Europe/Berlin:20260616T093000
DTEND;TZID=Europe/Berlin:20260616T103000
UID:S267780103-20260616T093000@VHSWIENER NEUSTADT
SUMMARY:GYMNASTIK FÜR RÜCKEN UND WIRBELSÄULE (S267780103) 
LOCATION:VHS Mehrzweckraum 1, Singergasse 14-16, 2700 Wiener Neustadt
END:VEVENT
BEGIN:VEVENT
DTSTAMP:20260423T110417
DTSTART;TZID=Europe/Berlin:20260623T093000
DTEND;TZID=Europe/Berlin:20260623T103000
UID:S267780103-20260623T093000@VHSWIENER NEUSTADT
SUMMARY:GYMNASTIK FÜR RÜCKEN UND WIRBELSÄULE (S267780103) 
LOCATION:VHS Mehrzweckraum 1, Singergasse 14-16, 2700 Wiener Neustadt
END:VEVENT
BEGIN:VEVENT
DTSTAMP:20260423T110417
DTSTART;TZID=Europe/Berlin:20260630T093000
DTEND;TZID=Europe/Berlin:20260630T103000
UID:S267780103-20260630T093000@VHSWIENER NEUSTADT
SUMMARY:GYMNASTIK FÜR RÜCKEN UND WIRBELSÄULE (S267780103) 
LOCATION:VHS Mehrzweckraum 1, Singergasse 14-16, 2700 Wiener Neustadt
END:VEVENT
END:VCALENDAR