BEGIN:VCALENDAR
VERSION:2.0
PRODID:https://www.kufer.de/kuferweb / DE
METHOD:PUBLISH
CALSCALE:GREGORIAN
X-WR-TIMEZONE:Europe/Berlin
BEGIN:VTIMEZONE
TZID:Europe/Berlin
X-LIC-LOCATION:Europe/Berlin
BEGIN:DAYLIGHT
TZOFFSETFROM:+0100
TZOFFSETTO:+0200
TZNAME:CEST
DTSTART:19700329T020000
RRULE:FREQ=YEARLY;INTERVAL=1;BYDAY=-1SU;BYMONTH=3
END:DAYLIGHT
BEGIN:STANDARD
TZOFFSETFROM:+0200
TZOFFSETTO:+0100
TZNAME:CET
DTSTART:19701025T030000
RRULE:FREQ=YEARLY;INTERVAL=1;BYDAY=-1SU;BYMONTH=10
END:STANDARD
END:VTIMEZONE
BEGIN:VEVENT
DTSTAMP:20260423T155736
DTSTART;TZID=Europe/Berlin:20260209T191000
DTEND;TZID=Europe/Berlin:20260209T201000
UID:S267770117-20260209T191000@VHSWIENER NEUSTADT
SUMMARY:GANZHEITLICHE RÜCKENGYMNASTIK (S267770117) 
LOCATION:VHS Mehrzweckraum 1, Singergasse 14-16, 2700 Wiener Neustadt
END:VEVENT
BEGIN:VEVENT
DTSTAMP:20260423T155736
DTSTART;TZID=Europe/Berlin:20260216T191000
DTEND;TZID=Europe/Berlin:20260216T201000
UID:S267770117-20260216T191000@VHSWIENER NEUSTADT
DESCRIPTION:ET f. 15.06. - Wunsch KL
SUMMARY:GANZHEITLICHE RÜCKENGYMNASTIK (S267770117) 
LOCATION:VHS Mehrzweckraum 1, Singergasse 14-16, 2700 Wiener Neustadt
END:VEVENT
BEGIN:VEVENT
DTSTAMP:20260423T155736
DTSTART;TZID=Europe/Berlin:20260223T191000
DTEND;TZID=Europe/Berlin:20260223T201000
UID:S267770117-20260223T191000@VHSWIENER NEUSTADT
SUMMARY:GANZHEITLICHE RÜCKENGYMNASTIK (S267770117) 
LOCATION:VHS Mehrzweckraum 1, Singergasse 14-16, 2700 Wiener Neustadt
END:VEVENT
BEGIN:VEVENT
DTSTAMP:20260423T155736
DTSTART;TZID=Europe/Berlin:20260302T191000
DTEND;TZID=Europe/Berlin:20260302T201000
UID:S267770117-20260302T191000@VHSWIENER NEUSTADT
SUMMARY:GANZHEITLICHE RÜCKENGYMNASTIK (S267770117) 
LOCATION:VHS Mehrzweckraum 1, Singergasse 14-16, 2700 Wiener Neustadt
END:VEVENT
BEGIN:VEVENT
DTSTAMP:20260423T155736
DTSTART;TZID=Europe/Berlin:20260309T191000
DTEND;TZID=Europe/Berlin:20260309T201000
UID:S267770117-20260309T191000@VHSWIENER NEUSTADT
DESCRIPTION:hält KL Stankovic
SUMMARY:GANZHEITLICHE RÜCKENGYMNASTIK (S267770117) 
LOCATION:VHS Mehrzweckraum 1, Singergasse 14-16, 2700 Wiener Neustadt
END:VEVENT
BEGIN:VEVENT
DTSTAMP:20260423T155736
DTSTART;TZID=Europe/Berlin:20260316T191000
DTEND;TZID=Europe/Berlin:20260316T201000
UID:S267770117-20260316T191000@VHSWIENER NEUSTADT
SUMMARY:GANZHEITLICHE RÜCKENGYMNASTIK (S267770117) 
LOCATION:VHS Mehrzweckraum 1, Singergasse 14-16, 2700 Wiener Neustadt
END:VEVENT
BEGIN:VEVENT
DTSTAMP:20260423T155736
DTSTART;TZID=Europe/Berlin:20260413T191000
DTEND;TZID=Europe/Berlin:20260413T201000
UID:S267770117-20260413T191000@VHSWIENER NEUSTADT
SUMMARY:GANZHEITLICHE RÜCKENGYMNASTIK (S267770117) 
LOCATION:VHS Mehrzweckraum 1, Singergasse 14-16, 2700 Wiener Neustadt
END:VEVENT
BEGIN:VEVENT
DTSTAMP:20260423T155736
DTSTART;TZID=Europe/Berlin:20260420T191000
DTEND;TZID=Europe/Berlin:20260420T201000
UID:S267770117-20260420T191000@VHSWIENER NEUSTADT
SUMMARY:GANZHEITLICHE RÜCKENGYMNASTIK (S267770117) 
LOCATION:VHS Mehrzweckraum 1, Singergasse 14-16, 2700 Wiener Neustadt
END:VEVENT
BEGIN:VEVENT
DTSTAMP:20260423T155736
DTSTART;TZID=Europe/Berlin:20260427T191000
DTEND;TZID=Europe/Berlin:20260427T201000
UID:S267770117-20260427T191000@VHSWIENER NEUSTADT
SUMMARY:GANZHEITLICHE RÜCKENGYMNASTIK (S267770117) 
LOCATION:VHS Mehrzweckraum 1, Singergasse 14-16, 2700 Wiener Neustadt
END:VEVENT
BEGIN:VEVENT
DTSTAMP:20260423T155736
DTSTART;TZID=Europe/Berlin:20260504T191000
DTEND;TZID=Europe/Berlin:20260504T201000
UID:S267770117-20260504T191000@VHSWIENER NEUSTADT
SUMMARY:GANZHEITLICHE RÜCKENGYMNASTIK (S267770117) 
LOCATION:VHS Mehrzweckraum 1, Singergasse 14-16, 2700 Wiener Neustadt
END:VEVENT
BEGIN:VEVENT
DTSTAMP:20260423T155736
DTSTART;TZID=Europe/Berlin:20260511T191000
DTEND;TZID=Europe/Berlin:20260511T201000
UID:S267770117-20260511T191000@VHSWIENER NEUSTADT
SUMMARY:GANZHEITLICHE RÜCKENGYMNASTIK (S267770117) 
LOCATION:VHS Mehrzweckraum 1, Singergasse 14-16, 2700 Wiener Neustadt
END:VEVENT
BEGIN:VEVENT
DTSTAMP:20260423T155736
DTSTART;TZID=Europe/Berlin:20260518T191000
DTEND;TZID=Europe/Berlin:20260518T201000
UID:S267770117-20260518T191000@VHSWIENER NEUSTADT
SUMMARY:GANZHEITLICHE RÜCKENGYMNASTIK (S267770117) 
LOCATION:VHS Mehrzweckraum 1, Singergasse 14-16, 2700 Wiener Neustadt
END:VEVENT
BEGIN:VEVENT
DTSTAMP:20260423T155736
DTSTART;TZID=Europe/Berlin:20260601T191000
DTEND;TZID=Europe/Berlin:20260601T201000
UID:S267770117-20260601T191000@VHSWIENER NEUSTADT
SUMMARY:GANZHEITLICHE RÜCKENGYMNASTIK (S267770117) 
LOCATION:VHS Mehrzweckraum 1, Singergasse 14-16, 2700 Wiener Neustadt
END:VEVENT
BEGIN:VEVENT
DTSTAMP:20260423T155736
DTSTART;TZID=Europe/Berlin:20260608T191000
DTEND;TZID=Europe/Berlin:20260608T201000
UID:S267770117-20260608T191000@VHSWIENER NEUSTADT
SUMMARY:GANZHEITLICHE RÜCKENGYMNASTIK (S267770117) 
LOCATION:VHS Mehrzweckraum 1, Singergasse 14-16, 2700 Wiener Neustadt
END:VEVENT
BEGIN:VEVENT
DTSTAMP:20260423T155736
DTSTART;TZID=Europe/Berlin:20260615T191000
DTEND;TZID=Europe/Berlin:20260615T201000
UID:S267770117-20260615T191000@VHSWIENER NEUSTADT
DESCRIPTION:ET f. 23.03., da KL krank
SUMMARY:GANZHEITLICHE RÜCKENGYMNASTIK (S267770117) 
LOCATION:VHS Mehrzweckraum 1, Singergasse 14-16, 2700 Wiener Neustadt
END:VEVENT
END:VCALENDAR