BEGIN:VCALENDAR
VERSION:2.0
PRODID:https://www.kufer.de/kuferweb / DE
METHOD:PUBLISH
CALSCALE:GREGORIAN
X-WR-TIMEZONE:Europe/Berlin
BEGIN:VTIMEZONE
TZID:Europe/Berlin
X-LIC-LOCATION:Europe/Berlin
BEGIN:DAYLIGHT
TZOFFSETFROM:+0100
TZOFFSETTO:+0200
TZNAME:CEST
DTSTART:19700329T020000
RRULE:FREQ=YEARLY;INTERVAL=1;BYDAY=-1SU;BYMONTH=3
END:DAYLIGHT
BEGIN:STANDARD
TZOFFSETFROM:+0200
TZOFFSETTO:+0100
TZNAME:CET
DTSTART:19701025T030000
RRULE:FREQ=YEARLY;INTERVAL=1;BYDAY=-1SU;BYMONTH=10
END:STANDARD
END:VTIMEZONE
BEGIN:VEVENT
DTSTAMP:20260421T132043
DTSTART;TZID=Europe/Berlin:20260209T164500
DTEND;TZID=Europe/Berlin:20260209T174500
UID:S267770105-20260209T164500@VHSWIENER NEUSTADT
SUMMARY:GYMNASTIK SPEZIELL FÜR FRAUEN (S267770105) 
LOCATION:VHS Mehrzweckraum 1, Singergasse 14-16, 2700 Wiener Neustadt
END:VEVENT
BEGIN:VEVENT
DTSTAMP:20260421T132043
DTSTART;TZID=Europe/Berlin:20260216T164500
DTEND;TZID=Europe/Berlin:20260216T174500
UID:S267770105-20260216T164500@VHSWIENER NEUSTADT
SUMMARY:GYMNASTIK SPEZIELL FÜR FRAUEN (S267770105) 
LOCATION:VHS Mehrzweckraum 1, Singergasse 14-16, 2700 Wiener Neustadt
END:VEVENT
BEGIN:VEVENT
DTSTAMP:20260421T132043
DTSTART;TZID=Europe/Berlin:20260223T164500
DTEND;TZID=Europe/Berlin:20260223T174500
UID:S267770105-20260223T164500@VHSWIENER NEUSTADT
SUMMARY:GYMNASTIK SPEZIELL FÜR FRAUEN (S267770105) 
LOCATION:VHS Mehrzweckraum 1, Singergasse 14-16, 2700 Wiener Neustadt
END:VEVENT
BEGIN:VEVENT
DTSTAMP:20260421T132043
DTSTART;TZID=Europe/Berlin:20260302T164500
DTEND;TZID=Europe/Berlin:20260302T174500
UID:S267770105-20260302T164500@VHSWIENER NEUSTADT
SUMMARY:GYMNASTIK SPEZIELL FÜR FRAUEN (S267770105) 
LOCATION:VHS Mehrzweckraum 1, Singergasse 14-16, 2700 Wiener Neustadt
END:VEVENT
BEGIN:VEVENT
DTSTAMP:20260421T132043
DTSTART;TZID=Europe/Berlin:20260309T164500
DTEND;TZID=Europe/Berlin:20260309T174500
UID:S267770105-20260309T164500@VHSWIENER NEUSTADT
SUMMARY:GYMNASTIK SPEZIELL FÜR FRAUEN (S267770105) 
LOCATION:VHS Mehrzweckraum 1, Singergasse 14-16, 2700 Wiener Neustadt
END:VEVENT
BEGIN:VEVENT
DTSTAMP:20260421T132043
DTSTART;TZID=Europe/Berlin:20260316T164500
DTEND;TZID=Europe/Berlin:20260316T174500
UID:S267770105-20260316T164500@VHSWIENER NEUSTADT
SUMMARY:GYMNASTIK SPEZIELL FÜR FRAUEN (S267770105) 
LOCATION:VHS Mehrzweckraum 1, Singergasse 14-16, 2700 Wiener Neustadt
END:VEVENT
BEGIN:VEVENT
DTSTAMP:20260421T132043
DTSTART;TZID=Europe/Berlin:20260413T164500
DTEND;TZID=Europe/Berlin:20260413T174500
UID:S267770105-20260413T164500@VHSWIENER NEUSTADT
SUMMARY:GYMNASTIK SPEZIELL FÜR FRAUEN (S267770105) 
LOCATION:VHS Mehrzweckraum 1, Singergasse 14-16, 2700 Wiener Neustadt
END:VEVENT
BEGIN:VEVENT
DTSTAMP:20260421T132043
DTSTART;TZID=Europe/Berlin:20260420T164500
DTEND;TZID=Europe/Berlin:20260420T174500
UID:S267770105-20260420T164500@VHSWIENER NEUSTADT
SUMMARY:GYMNASTIK SPEZIELL FÜR FRAUEN (S267770105) 
LOCATION:VHS Mehrzweckraum 1, Singergasse 14-16, 2700 Wiener Neustadt
END:VEVENT
BEGIN:VEVENT
DTSTAMP:20260421T132043
DTSTART;TZID=Europe/Berlin:20260427T164500
DTEND;TZID=Europe/Berlin:20260427T174500
UID:S267770105-20260427T164500@VHSWIENER NEUSTADT
SUMMARY:GYMNASTIK SPEZIELL FÜR FRAUEN (S267770105) 
LOCATION:VHS Mehrzweckraum 1, Singergasse 14-16, 2700 Wiener Neustadt
END:VEVENT
BEGIN:VEVENT
DTSTAMP:20260421T132043
DTSTART;TZID=Europe/Berlin:20260504T164500
DTEND;TZID=Europe/Berlin:20260504T174500
UID:S267770105-20260504T164500@VHSWIENER NEUSTADT
SUMMARY:GYMNASTIK SPEZIELL FÜR FRAUEN (S267770105) 
LOCATION:VHS Mehrzweckraum 1, Singergasse 14-16, 2700 Wiener Neustadt
END:VEVENT
BEGIN:VEVENT
DTSTAMP:20260421T132043
DTSTART;TZID=Europe/Berlin:20260601T164500
DTEND;TZID=Europe/Berlin:20260601T174500
UID:S267770105-20260601T164500@VHSWIENER NEUSTADT
SUMMARY:GYMNASTIK SPEZIELL FÜR FRAUEN (S267770105) 
LOCATION:VHS Mehrzweckraum 1, Singergasse 14-16, 2700 Wiener Neustadt
END:VEVENT
BEGIN:VEVENT
DTSTAMP:20260421T132043
DTSTART;TZID=Europe/Berlin:20260608T164500
DTEND;TZID=Europe/Berlin:20260608T174500
UID:S267770105-20260608T164500@VHSWIENER NEUSTADT
SUMMARY:GYMNASTIK SPEZIELL FÜR FRAUEN (S267770105) 
LOCATION:VHS Mehrzweckraum 1, Singergasse 14-16, 2700 Wiener Neustadt
END:VEVENT
BEGIN:VEVENT
DTSTAMP:20260421T132043
DTSTART;TZID=Europe/Berlin:20260615T164500
DTEND;TZID=Europe/Berlin:20260615T174500
UID:S267770105-20260615T164500@VHSWIENER NEUSTADT
SUMMARY:GYMNASTIK SPEZIELL FÜR FRAUEN (S267770105) 
LOCATION:VHS Mehrzweckraum 1, Singergasse 14-16, 2700 Wiener Neustadt
END:VEVENT
BEGIN:VEVENT
DTSTAMP:20260421T132043
DTSTART;TZID=Europe/Berlin:20260622T164500
DTEND;TZID=Europe/Berlin:20260622T174500
UID:S267770105-20260622T164500@VHSWIENER NEUSTADT
SUMMARY:GYMNASTIK SPEZIELL FÜR FRAUEN (S267770105) 
LOCATION:VHS Mehrzweckraum 1, Singergasse 14-16, 2700 Wiener Neustadt
END:VEVENT
BEGIN:VEVENT
DTSTAMP:20260421T132043
DTSTART;TZID=Europe/Berlin:20260629T164500
DTEND;TZID=Europe/Berlin:20260629T174500
UID:S267770105-20260629T164500@VHSWIENER NEUSTADT
SUMMARY:GYMNASTIK SPEZIELL FÜR FRAUEN (S267770105) 
LOCATION:VHS Mehrzweckraum 1, Singergasse 14-16, 2700 Wiener Neustadt
END:VEVENT
END:VCALENDAR