BEGIN:VCALENDAR
VERSION:2.0
PRODID:https://www.kufer.de/kuferweb / DE
METHOD:PUBLISH
CALSCALE:GREGORIAN
X-WR-TIMEZONE:Europe/Berlin
BEGIN:VTIMEZONE
TZID:Europe/Berlin
X-LIC-LOCATION:Europe/Berlin
BEGIN:DAYLIGHT
TZOFFSETFROM:+0100
TZOFFSETTO:+0200
TZNAME:CEST
DTSTART:19700329T020000
RRULE:FREQ=YEARLY;INTERVAL=1;BYDAY=-1SU;BYMONTH=3
END:DAYLIGHT
BEGIN:STANDARD
TZOFFSETFROM:+0200
TZOFFSETTO:+0100
TZNAME:CET
DTSTART:19701025T030000
RRULE:FREQ=YEARLY;INTERVAL=1;BYDAY=-1SU;BYMONTH=10
END:STANDARD
END:VTIMEZONE
BEGIN:VEVENT
DTSTAMP:20260421T131953
DTSTART;TZID=Europe/Berlin:20260216T163000
DTEND;TZID=Europe/Berlin:20260216T173000
UID:S267770103-20260216T163000@VHSWIENER NEUSTADT
SUMMARY:GANZHEITLICHES YOGA - GRUNDKURS (S267770103) 
LOCATION:VHS Mehrzweckraum 2, Singergasse 14-16, 2700 Wiener Neustadt
END:VEVENT
BEGIN:VEVENT
DTSTAMP:20260421T131953
DTSTART;TZID=Europe/Berlin:20260302T163000
DTEND;TZID=Europe/Berlin:20260302T173000
UID:S267770103-20260302T163000@VHSWIENER NEUSTADT
SUMMARY:GANZHEITLICHES YOGA - GRUNDKURS (S267770103) 
LOCATION:VHS Mehrzweckraum 2, Singergasse 14-16, 2700 Wiener Neustadt
END:VEVENT
BEGIN:VEVENT
DTSTAMP:20260421T131953
DTSTART;TZID=Europe/Berlin:20260309T163000
DTEND;TZID=Europe/Berlin:20260309T173000
UID:S267770103-20260309T163000@VHSWIENER NEUSTADT
SUMMARY:GANZHEITLICHES YOGA - GRUNDKURS (S267770103) 
LOCATION:VHS Mehrzweckraum 2, Singergasse 14-16, 2700 Wiener Neustadt
END:VEVENT
BEGIN:VEVENT
DTSTAMP:20260421T131953
DTSTART;TZID=Europe/Berlin:20260316T163000
DTEND;TZID=Europe/Berlin:20260316T173000
UID:S267770103-20260316T163000@VHSWIENER NEUSTADT
SUMMARY:GANZHEITLICHES YOGA - GRUNDKURS (S267770103) 
LOCATION:VHS Mehrzweckraum 2, Singergasse 14-16, 2700 Wiener Neustadt
END:VEVENT
BEGIN:VEVENT
DTSTAMP:20260421T131953
DTSTART;TZID=Europe/Berlin:20260323T163000
DTEND;TZID=Europe/Berlin:20260323T173000
UID:S267770103-20260323T163000@VHSWIENER NEUSTADT
SUMMARY:GANZHEITLICHES YOGA - GRUNDKURS (S267770103) 
LOCATION:VHS Mehrzweckraum 2, Singergasse 14-16, 2700 Wiener Neustadt
END:VEVENT
BEGIN:VEVENT
DTSTAMP:20260421T131953
DTSTART;TZID=Europe/Berlin:20260413T163000
DTEND;TZID=Europe/Berlin:20260413T173000
UID:S267770103-20260413T163000@VHSWIENER NEUSTADT
SUMMARY:GANZHEITLICHES YOGA - GRUNDKURS (S267770103) 
LOCATION:VHS Mehrzweckraum 2, Singergasse 14-16, 2700 Wiener Neustadt
END:VEVENT
BEGIN:VEVENT
DTSTAMP:20260421T131953
DTSTART;TZID=Europe/Berlin:20260420T163000
DTEND;TZID=Europe/Berlin:20260420T173000
UID:S267770103-20260420T163000@VHSWIENER NEUSTADT
SUMMARY:GANZHEITLICHES YOGA - GRUNDKURS (S267770103) 
LOCATION:VHS Mehrzweckraum 2, Singergasse 14-16, 2700 Wiener Neustadt
END:VEVENT
BEGIN:VEVENT
DTSTAMP:20260421T131953
DTSTART;TZID=Europe/Berlin:20260427T163000
DTEND;TZID=Europe/Berlin:20260427T173000
UID:S267770103-20260427T163000@VHSWIENER NEUSTADT
SUMMARY:GANZHEITLICHES YOGA - GRUNDKURS (S267770103) 
LOCATION:VHS Mehrzweckraum 2, Singergasse 14-16, 2700 Wiener Neustadt
END:VEVENT
BEGIN:VEVENT
DTSTAMP:20260421T131953
DTSTART;TZID=Europe/Berlin:20260504T163000
DTEND;TZID=Europe/Berlin:20260504T173000
UID:S267770103-20260504T163000@VHSWIENER NEUSTADT
SUMMARY:GANZHEITLICHES YOGA - GRUNDKURS (S267770103) 
LOCATION:VHS Mehrzweckraum 2, Singergasse 14-16, 2700 Wiener Neustadt
END:VEVENT
BEGIN:VEVENT
DTSTAMP:20260421T131953
DTSTART;TZID=Europe/Berlin:20260511T163000
DTEND;TZID=Europe/Berlin:20260511T173000
UID:S267770103-20260511T163000@VHSWIENER NEUSTADT
SUMMARY:GANZHEITLICHES YOGA - GRUNDKURS (S267770103) 
LOCATION:VHS Mehrzweckraum 2, Singergasse 14-16, 2700 Wiener Neustadt
END:VEVENT
BEGIN:VEVENT
DTSTAMP:20260421T131953
DTSTART;TZID=Europe/Berlin:20260518T163000
DTEND;TZID=Europe/Berlin:20260518T173000
UID:S267770103-20260518T163000@VHSWIENER NEUSTADT
SUMMARY:GANZHEITLICHES YOGA - GRUNDKURS (S267770103) 
LOCATION:VHS Mehrzweckraum 2, Singergasse 14-16, 2700 Wiener Neustadt
END:VEVENT
BEGIN:VEVENT
DTSTAMP:20260421T131953
DTSTART;TZID=Europe/Berlin:20260601T163000
DTEND;TZID=Europe/Berlin:20260601T173000
UID:S267770103-20260601T163000@VHSWIENER NEUSTADT
SUMMARY:GANZHEITLICHES YOGA - GRUNDKURS (S267770103) 
LOCATION:VHS Mehrzweckraum 2, Singergasse 14-16, 2700 Wiener Neustadt
END:VEVENT
BEGIN:VEVENT
DTSTAMP:20260421T131953
DTSTART;TZID=Europe/Berlin:20260608T163000
DTEND;TZID=Europe/Berlin:20260608T173000
UID:S267770103-20260608T163000@VHSWIENER NEUSTADT
SUMMARY:GANZHEITLICHES YOGA - GRUNDKURS (S267770103) 
LOCATION:VHS Mehrzweckraum 2, Singergasse 14-16, 2700 Wiener Neustadt
END:VEVENT
BEGIN:VEVENT
DTSTAMP:20260421T131953
DTSTART;TZID=Europe/Berlin:20260615T163000
DTEND;TZID=Europe/Berlin:20260615T173000
UID:S267770103-20260615T163000@VHSWIENER NEUSTADT
SUMMARY:GANZHEITLICHES YOGA - GRUNDKURS (S267770103) 
LOCATION:VHS Mehrzweckraum 2, Singergasse 14-16, 2700 Wiener Neustadt
END:VEVENT
BEGIN:VEVENT
DTSTAMP:20260421T131953
DTSTART;TZID=Europe/Berlin:20260622T163000
DTEND;TZID=Europe/Berlin:20260622T173000
UID:S267770103-20260622T163000@VHSWIENER NEUSTADT
DESCRIPTION:ET f. 09.02., KL auf Kur
SUMMARY:GANZHEITLICHES YOGA - GRUNDKURS (S267770103) 
LOCATION:VHS Mehrzweckraum 2, Singergasse 14-16, 2700 Wiener Neustadt
END:VEVENT
BEGIN:VEVENT
DTSTAMP:20260421T131953
DTSTART;TZID=Europe/Berlin:20260629T163000
DTEND;TZID=Europe/Berlin:20260629T173000
UID:S267770103-20260629T163000@VHSWIENER NEUSTADT
DESCRIPTION:ET f. 23.02. da KL verhindert
SUMMARY:GANZHEITLICHES YOGA - GRUNDKURS (S267770103) 
LOCATION:VHS Mehrzweckraum 2, Singergasse 14-16, 2700 Wiener Neustadt
END:VEVENT
END:VCALENDAR