BEGIN:VCALENDAR
VERSION:2.0
PRODID:https://www.kufer.de/kuferweb / DE
METHOD:PUBLISH
CALSCALE:GREGORIAN
X-WR-TIMEZONE:Europe/Berlin
BEGIN:VTIMEZONE
TZID:Europe/Berlin
X-LIC-LOCATION:Europe/Berlin
BEGIN:DAYLIGHT
TZOFFSETFROM:+0100
TZOFFSETTO:+0200
TZNAME:CEST
DTSTART:19700329T020000
RRULE:FREQ=YEARLY;INTERVAL=1;BYDAY=-1SU;BYMONTH=3
END:DAYLIGHT
BEGIN:STANDARD
TZOFFSETFROM:+0200
TZOFFSETTO:+0100
TZNAME:CET
DTSTART:19701025T030000
RRULE:FREQ=YEARLY;INTERVAL=1;BYDAY=-1SU;BYMONTH=10
END:STANDARD
END:VTIMEZONE
BEGIN:VEVENT
DTSTAMP:20260421T131953
DTSTART;TZID=Europe/Berlin:20260216T153000
DTEND;TZID=Europe/Berlin:20260216T163000
UID:S267770101-20260216T153000@VHSWIENER NEUSTADT
SUMMARY:SESSEL-YOGA (S267770101) 
LOCATION:VHS Mehrzweckraum 2, Singergasse 14-16, 2700 Wiener Neustadt
END:VEVENT
BEGIN:VEVENT
DTSTAMP:20260421T131953
DTSTART;TZID=Europe/Berlin:20260302T153000
DTEND;TZID=Europe/Berlin:20260302T163000
UID:S267770101-20260302T153000@VHSWIENER NEUSTADT
SUMMARY:SESSEL-YOGA (S267770101) 
LOCATION:VHS Mehrzweckraum 2, Singergasse 14-16, 2700 Wiener Neustadt
END:VEVENT
BEGIN:VEVENT
DTSTAMP:20260421T131953
DTSTART;TZID=Europe/Berlin:20260309T153000
DTEND;TZID=Europe/Berlin:20260309T163000
UID:S267770101-20260309T153000@VHSWIENER NEUSTADT
SUMMARY:SESSEL-YOGA (S267770101) 
LOCATION:VHS Mehrzweckraum 2, Singergasse 14-16, 2700 Wiener Neustadt
END:VEVENT
BEGIN:VEVENT
DTSTAMP:20260421T131953
DTSTART;TZID=Europe/Berlin:20260316T153000
DTEND;TZID=Europe/Berlin:20260316T163000
UID:S267770101-20260316T153000@VHSWIENER NEUSTADT
SUMMARY:SESSEL-YOGA (S267770101) 
LOCATION:VHS Mehrzweckraum 2, Singergasse 14-16, 2700 Wiener Neustadt
END:VEVENT
BEGIN:VEVENT
DTSTAMP:20260421T131953
DTSTART;TZID=Europe/Berlin:20260323T153000
DTEND;TZID=Europe/Berlin:20260323T163000
UID:S267770101-20260323T153000@VHSWIENER NEUSTADT
SUMMARY:SESSEL-YOGA (S267770101) 
LOCATION:VHS Mehrzweckraum 2, Singergasse 14-16, 2700 Wiener Neustadt
END:VEVENT
BEGIN:VEVENT
DTSTAMP:20260421T131953
DTSTART;TZID=Europe/Berlin:20260413T153000
DTEND;TZID=Europe/Berlin:20260413T163000
UID:S267770101-20260413T153000@VHSWIENER NEUSTADT
SUMMARY:SESSEL-YOGA (S267770101) 
LOCATION:VHS Mehrzweckraum 2, Singergasse 14-16, 2700 Wiener Neustadt
END:VEVENT
BEGIN:VEVENT
DTSTAMP:20260421T131953
DTSTART;TZID=Europe/Berlin:20260420T153000
DTEND;TZID=Europe/Berlin:20260420T163000
UID:S267770101-20260420T153000@VHSWIENER NEUSTADT
SUMMARY:SESSEL-YOGA (S267770101) 
LOCATION:VHS Mehrzweckraum 2, Singergasse 14-16, 2700 Wiener Neustadt
END:VEVENT
BEGIN:VEVENT
DTSTAMP:20260421T131953
DTSTART;TZID=Europe/Berlin:20260427T153000
DTEND;TZID=Europe/Berlin:20260427T163000
UID:S267770101-20260427T153000@VHSWIENER NEUSTADT
SUMMARY:SESSEL-YOGA (S267770101) 
LOCATION:VHS Mehrzweckraum 2, Singergasse 14-16, 2700 Wiener Neustadt
END:VEVENT
BEGIN:VEVENT
DTSTAMP:20260421T131953
DTSTART;TZID=Europe/Berlin:20260504T153000
DTEND;TZID=Europe/Berlin:20260504T163000
UID:S267770101-20260504T153000@VHSWIENER NEUSTADT
SUMMARY:SESSEL-YOGA (S267770101) 
LOCATION:VHS Mehrzweckraum 2, Singergasse 14-16, 2700 Wiener Neustadt
END:VEVENT
BEGIN:VEVENT
DTSTAMP:20260421T131953
DTSTART;TZID=Europe/Berlin:20260511T153000
DTEND;TZID=Europe/Berlin:20260511T163000
UID:S267770101-20260511T153000@VHSWIENER NEUSTADT
SUMMARY:SESSEL-YOGA (S267770101) 
LOCATION:VHS Mehrzweckraum 2, Singergasse 14-16, 2700 Wiener Neustadt
END:VEVENT
BEGIN:VEVENT
DTSTAMP:20260421T131953
DTSTART;TZID=Europe/Berlin:20260518T153000
DTEND;TZID=Europe/Berlin:20260518T163000
UID:S267770101-20260518T153000@VHSWIENER NEUSTADT
SUMMARY:SESSEL-YOGA (S267770101) 
LOCATION:VHS Mehrzweckraum 2, Singergasse 14-16, 2700 Wiener Neustadt
END:VEVENT
BEGIN:VEVENT
DTSTAMP:20260421T131953
DTSTART;TZID=Europe/Berlin:20260601T153000
DTEND;TZID=Europe/Berlin:20260601T163000
UID:S267770101-20260601T153000@VHSWIENER NEUSTADT
SUMMARY:SESSEL-YOGA (S267770101) 
LOCATION:VHS Mehrzweckraum 2, Singergasse 14-16, 2700 Wiener Neustadt
END:VEVENT
BEGIN:VEVENT
DTSTAMP:20260421T131953
DTSTART;TZID=Europe/Berlin:20260608T153000
DTEND;TZID=Europe/Berlin:20260608T163000
UID:S267770101-20260608T153000@VHSWIENER NEUSTADT
SUMMARY:SESSEL-YOGA (S267770101) 
LOCATION:VHS Mehrzweckraum 2, Singergasse 14-16, 2700 Wiener Neustadt
END:VEVENT
BEGIN:VEVENT
DTSTAMP:20260421T131953
DTSTART;TZID=Europe/Berlin:20260615T153000
DTEND;TZID=Europe/Berlin:20260615T163000
UID:S267770101-20260615T153000@VHSWIENER NEUSTADT
SUMMARY:SESSEL-YOGA (S267770101) 
LOCATION:VHS Mehrzweckraum 2, Singergasse 14-16, 2700 Wiener Neustadt
END:VEVENT
BEGIN:VEVENT
DTSTAMP:20260421T131953
DTSTART;TZID=Europe/Berlin:20260622T153000
DTEND;TZID=Europe/Berlin:20260622T163000
UID:S267770101-20260622T153000@VHSWIENER NEUSTADT
DESCRIPTION:ET f. 09.02., KL auf Kur
SUMMARY:SESSEL-YOGA (S267770101) 
LOCATION:VHS Mehrzweckraum 2, Singergasse 14-16, 2700 Wiener Neustadt
END:VEVENT
BEGIN:VEVENT
DTSTAMP:20260421T131953
DTSTART;TZID=Europe/Berlin:20260629T153000
DTEND;TZID=Europe/Berlin:20260629T163000
UID:S267770101-20260629T153000@VHSWIENER NEUSTADT
DESCRIPTION:ET f. 23.02. da KL verhindert
SUMMARY:SESSEL-YOGA (S267770101) 
LOCATION:VHS Mehrzweckraum 2, Singergasse 14-16, 2700 Wiener Neustadt
END:VEVENT
END:VCALENDAR