BEGIN:VCALENDAR
VERSION:2.0
PRODID:https://www.kufer.de/kuferweb / DE
METHOD:PUBLISH
CALSCALE:GREGORIAN
X-WR-TIMEZONE:Europe/Berlin
BEGIN:VTIMEZONE
TZID:Europe/Berlin
X-LIC-LOCATION:Europe/Berlin
BEGIN:DAYLIGHT
TZOFFSETFROM:+0100
TZOFFSETTO:+0200
TZNAME:CEST
DTSTART:19700329T020000
RRULE:FREQ=YEARLY;INTERVAL=1;BYDAY=-1SU;BYMONTH=3
END:DAYLIGHT
BEGIN:STANDARD
TZOFFSETFROM:+0200
TZOFFSETTO:+0100
TZNAME:CET
DTSTART:19701025T030000
RRULE:FREQ=YEARLY;INTERVAL=1;BYDAY=-1SU;BYMONTH=10
END:STANDARD
END:VTIMEZONE
BEGIN:VEVENT
DTSTAMP:20260421T131901
DTSTART;TZID=Europe/Berlin:20260209T113000
DTEND;TZID=Europe/Berlin:20260209T123000
UID:S267760107-20260209T113000@VHSWIENER NEUSTADT
SUMMARY:GYMNASTIK FÜR RÜCKEN UND WIRBELSÄULE (S267760107) 
LOCATION:VHS Mehrzweckraum 1, Singergasse 14-16, 2700 Wiener Neustadt
END:VEVENT
BEGIN:VEVENT
DTSTAMP:20260421T131901
DTSTART;TZID=Europe/Berlin:20260216T113000
DTEND;TZID=Europe/Berlin:20260216T123000
UID:S267760107-20260216T113000@VHSWIENER NEUSTADT
SUMMARY:GYMNASTIK FÜR RÜCKEN UND WIRBELSÄULE (S267760107) 
LOCATION:VHS Mehrzweckraum 1, Singergasse 14-16, 2700 Wiener Neustadt
END:VEVENT
BEGIN:VEVENT
DTSTAMP:20260421T131901
DTSTART;TZID=Europe/Berlin:20260223T113000
DTEND;TZID=Europe/Berlin:20260223T123000
UID:S267760107-20260223T113000@VHSWIENER NEUSTADT
SUMMARY:GYMNASTIK FÜR RÜCKEN UND WIRBELSÄULE (S267760107) 
LOCATION:VHS Mehrzweckraum 1, Singergasse 14-16, 2700 Wiener Neustadt
END:VEVENT
BEGIN:VEVENT
DTSTAMP:20260421T131901
DTSTART;TZID=Europe/Berlin:20260302T113000
DTEND;TZID=Europe/Berlin:20260302T123000
UID:S267760107-20260302T113000@VHSWIENER NEUSTADT
SUMMARY:GYMNASTIK FÜR RÜCKEN UND WIRBELSÄULE (S267760107) 
LOCATION:VHS Mehrzweckraum 1, Singergasse 14-16, 2700 Wiener Neustadt
END:VEVENT
BEGIN:VEVENT
DTSTAMP:20260421T131901
DTSTART;TZID=Europe/Berlin:20260309T113000
DTEND;TZID=Europe/Berlin:20260309T123000
UID:S267760107-20260309T113000@VHSWIENER NEUSTADT
SUMMARY:GYMNASTIK FÜR RÜCKEN UND WIRBELSÄULE (S267760107) 
LOCATION:VHS Mehrzweckraum 1, Singergasse 14-16, 2700 Wiener Neustadt
END:VEVENT
BEGIN:VEVENT
DTSTAMP:20260421T131901
DTSTART;TZID=Europe/Berlin:20260316T113000
DTEND;TZID=Europe/Berlin:20260316T123000
UID:S267760107-20260316T113000@VHSWIENER NEUSTADT
SUMMARY:GYMNASTIK FÜR RÜCKEN UND WIRBELSÄULE (S267760107) 
LOCATION:VHS Mehrzweckraum 1, Singergasse 14-16, 2700 Wiener Neustadt
END:VEVENT
BEGIN:VEVENT
DTSTAMP:20260421T131901
DTSTART;TZID=Europe/Berlin:20260323T113000
DTEND;TZID=Europe/Berlin:20260323T123000
UID:S267760107-20260323T113000@VHSWIENER NEUSTADT
DESCRIPTION:hält KL Jandl
SUMMARY:GYMNASTIK FÜR RÜCKEN UND WIRBELSÄULE (S267760107) 
LOCATION:VHS Mehrzweckraum 1, Singergasse 14-16, 2700 Wiener Neustadt
END:VEVENT
BEGIN:VEVENT
DTSTAMP:20260421T131901
DTSTART;TZID=Europe/Berlin:20260413T113000
DTEND;TZID=Europe/Berlin:20260413T123000
UID:S267760107-20260413T113000@VHSWIENER NEUSTADT
SUMMARY:GYMNASTIK FÜR RÜCKEN UND WIRBELSÄULE (S267760107) 
LOCATION:VHS Mehrzweckraum 1, Singergasse 14-16, 2700 Wiener Neustadt
END:VEVENT
BEGIN:VEVENT
DTSTAMP:20260421T131901
DTSTART;TZID=Europe/Berlin:20260420T113000
DTEND;TZID=Europe/Berlin:20260420T123000
UID:S267760107-20260420T113000@VHSWIENER NEUSTADT
SUMMARY:GYMNASTIK FÜR RÜCKEN UND WIRBELSÄULE (S267760107) 
LOCATION:VHS Mehrzweckraum 1, Singergasse 14-16, 2700 Wiener Neustadt
END:VEVENT
BEGIN:VEVENT
DTSTAMP:20260421T131901
DTSTART;TZID=Europe/Berlin:20260427T113000
DTEND;TZID=Europe/Berlin:20260427T123000
UID:S267760107-20260427T113000@VHSWIENER NEUSTADT
SUMMARY:GYMNASTIK FÜR RÜCKEN UND WIRBELSÄULE (S267760107) 
LOCATION:VHS Mehrzweckraum 1, Singergasse 14-16, 2700 Wiener Neustadt
END:VEVENT
BEGIN:VEVENT
DTSTAMP:20260421T131901
DTSTART;TZID=Europe/Berlin:20260504T113000
DTEND;TZID=Europe/Berlin:20260504T123000
UID:S267760107-20260504T113000@VHSWIENER NEUSTADT
SUMMARY:GYMNASTIK FÜR RÜCKEN UND WIRBELSÄULE (S267760107) 
LOCATION:VHS Mehrzweckraum 1, Singergasse 14-16, 2700 Wiener Neustadt
END:VEVENT
BEGIN:VEVENT
DTSTAMP:20260421T131901
DTSTART;TZID=Europe/Berlin:20260511T113000
DTEND;TZID=Europe/Berlin:20260511T123000
UID:S267760107-20260511T113000@VHSWIENER NEUSTADT
SUMMARY:GYMNASTIK FÜR RÜCKEN UND WIRBELSÄULE (S267760107) 
LOCATION:VHS Mehrzweckraum 1, Singergasse 14-16, 2700 Wiener Neustadt
END:VEVENT
BEGIN:VEVENT
DTSTAMP:20260421T131901
DTSTART;TZID=Europe/Berlin:20260518T113000
DTEND;TZID=Europe/Berlin:20260518T123000
UID:S267760107-20260518T113000@VHSWIENER NEUSTADT
DESCRIPTION:hält KL Jandl
SUMMARY:GYMNASTIK FÜR RÜCKEN UND WIRBELSÄULE (S267760107) 
LOCATION:VHS Mehrzweckraum 1, Singergasse 14-16, 2700 Wiener Neustadt
END:VEVENT
BEGIN:VEVENT
DTSTAMP:20260421T131901
DTSTART;TZID=Europe/Berlin:20260601T113000
DTEND;TZID=Europe/Berlin:20260601T123000
UID:S267760107-20260601T113000@VHSWIENER NEUSTADT
SUMMARY:GYMNASTIK FÜR RÜCKEN UND WIRBELSÄULE (S267760107) 
LOCATION:VHS Mehrzweckraum 1, Singergasse 14-16, 2700 Wiener Neustadt
END:VEVENT
BEGIN:VEVENT
DTSTAMP:20260421T131901
DTSTART;TZID=Europe/Berlin:20260608T113000
DTEND;TZID=Europe/Berlin:20260608T123000
UID:S267760107-20260608T113000@VHSWIENER NEUSTADT
SUMMARY:GYMNASTIK FÜR RÜCKEN UND WIRBELSÄULE (S267760107) 
LOCATION:VHS Mehrzweckraum 1, Singergasse 14-16, 2700 Wiener Neustadt
END:VEVENT
BEGIN:VEVENT
DTSTAMP:20260421T131901
DTSTART;TZID=Europe/Berlin:20260615T113000
DTEND;TZID=Europe/Berlin:20260615T123000
UID:S267760107-20260615T113000@VHSWIENER NEUSTADT
SUMMARY:GYMNASTIK FÜR RÜCKEN UND WIRBELSÄULE (S267760107) 
LOCATION:VHS Mehrzweckraum 1, Singergasse 14-16, 2700 Wiener Neustadt
END:VEVENT
BEGIN:VEVENT
DTSTAMP:20260421T131901
DTSTART;TZID=Europe/Berlin:20260622T113000
DTEND;TZID=Europe/Berlin:20260622T123000
UID:S267760107-20260622T113000@VHSWIENER NEUSTADT
SUMMARY:GYMNASTIK FÜR RÜCKEN UND WIRBELSÄULE (S267760107) 
LOCATION:VHS Mehrzweckraum 1, Singergasse 14-16, 2700 Wiener Neustadt
END:VEVENT
BEGIN:VEVENT
DTSTAMP:20260421T131901
DTSTART;TZID=Europe/Berlin:20260629T113000
DTEND;TZID=Europe/Berlin:20260629T123000
UID:S267760107-20260629T113000@VHSWIENER NEUSTADT
SUMMARY:GYMNASTIK FÜR RÜCKEN UND WIRBELSÄULE (S267760107) 
LOCATION:VHS Mehrzweckraum 1, Singergasse 14-16, 2700 Wiener Neustadt
END:VEVENT
END:VCALENDAR