BEGIN:VCALENDAR
VERSION:2.0
PRODID:https://www.kufer.de/kuferweb / DE
METHOD:PUBLISH
CALSCALE:GREGORIAN
X-WR-TIMEZONE:Europe/Berlin
BEGIN:VTIMEZONE
TZID:Europe/Berlin
X-LIC-LOCATION:Europe/Berlin
BEGIN:DAYLIGHT
TZOFFSETFROM:+0100
TZOFFSETTO:+0200
TZNAME:CEST
DTSTART:19700329T020000
RRULE:FREQ=YEARLY;INTERVAL=1;BYDAY=-1SU;BYMONTH=3
END:DAYLIGHT
BEGIN:STANDARD
TZOFFSETFROM:+0200
TZOFFSETTO:+0100
TZNAME:CET
DTSTART:19701025T030000
RRULE:FREQ=YEARLY;INTERVAL=1;BYDAY=-1SU;BYMONTH=10
END:STANDARD
END:VTIMEZONE
BEGIN:VEVENT
DTSTAMP:20260425T145847
DTSTART;TZID=Europe/Berlin:20260226T181500
DTEND;TZID=Europe/Berlin:20260226T194500
UID:S265450101-20260226T181500@VHSWIENER NEUSTADT
SUMMARY:SPANISCH I/00 - ANFÄNGER:INNEN - A1 (S265450101) 
LOCATION:Volksschule Baumkirchnerring; Raum 2, Baumkirchnerring 18, 2700 Wiener Neustadt
END:VEVENT
BEGIN:VEVENT
DTSTAMP:20260425T145847
DTSTART;TZID=Europe/Berlin:20260305T181500
DTEND;TZID=Europe/Berlin:20260305T194500
UID:S265450101-20260305T181500@VHSWIENER NEUSTADT
SUMMARY:SPANISCH I/00 - ANFÄNGER:INNEN - A1 (S265450101) 
LOCATION:Volksschule Baumkirchnerring; Raum 2, Baumkirchnerring 18, 2700 Wiener Neustadt
END:VEVENT
BEGIN:VEVENT
DTSTAMP:20260425T145847
DTSTART;TZID=Europe/Berlin:20260312T181500
DTEND;TZID=Europe/Berlin:20260312T194500
UID:S265450101-20260312T181500@VHSWIENER NEUSTADT
SUMMARY:SPANISCH I/00 - ANFÄNGER:INNEN - A1 (S265450101) 
LOCATION:Volksschule Baumkirchnerring; Raum 2, Baumkirchnerring 18, 2700 Wiener Neustadt
END:VEVENT
BEGIN:VEVENT
DTSTAMP:20260425T145847
DTSTART;TZID=Europe/Berlin:20260319T181500
DTEND;TZID=Europe/Berlin:20260319T194500
UID:S265450101-20260319T181500@VHSWIENER NEUSTADT
SUMMARY:SPANISCH I/00 - ANFÄNGER:INNEN - A1 (S265450101) 
LOCATION:Volksschule Baumkirchnerring; Raum 2, Baumkirchnerring 18, 2700 Wiener Neustadt
END:VEVENT
BEGIN:VEVENT
DTSTAMP:20260425T145847
DTSTART;TZID=Europe/Berlin:20260326T181500
DTEND;TZID=Europe/Berlin:20260326T194500
UID:S265450101-20260326T181500@VHSWIENER NEUSTADT
SUMMARY:SPANISCH I/00 - ANFÄNGER:INNEN - A1 (S265450101) 
LOCATION:Volksschule Baumkirchnerring; Raum 2, Baumkirchnerring 18, 2700 Wiener Neustadt
END:VEVENT
BEGIN:VEVENT
DTSTAMP:20260425T145847
DTSTART;TZID=Europe/Berlin:20260409T181500
DTEND;TZID=Europe/Berlin:20260409T194500
UID:S265450101-20260409T181500@VHSWIENER NEUSTADT
SUMMARY:SPANISCH I/00 - ANFÄNGER:INNEN - A1 (S265450101) 
LOCATION:Volksschule Baumkirchnerring; Raum 2, Baumkirchnerring 18, 2700 Wiener Neustadt
END:VEVENT
BEGIN:VEVENT
DTSTAMP:20260425T145847
DTSTART;TZID=Europe/Berlin:20260416T181500
DTEND;TZID=Europe/Berlin:20260416T194500
UID:S265450101-20260416T181500@VHSWIENER NEUSTADT
SUMMARY:SPANISCH I/00 - ANFÄNGER:INNEN - A1 (S265450101) 
LOCATION:Volksschule Baumkirchnerring; Raum 2, Baumkirchnerring 18, 2700 Wiener Neustadt
END:VEVENT
BEGIN:VEVENT
DTSTAMP:20260425T145847
DTSTART;TZID=Europe/Berlin:20260430T181500
DTEND;TZID=Europe/Berlin:20260430T194500
UID:S265450101-20260430T181500@VHSWIENER NEUSTADT
SUMMARY:SPANISCH I/00 - ANFÄNGER:INNEN - A1 (S265450101) 
LOCATION:Volksschule Baumkirchnerring; Raum 2, Baumkirchnerring 18, 2700 Wiener Neustadt
END:VEVENT
BEGIN:VEVENT
DTSTAMP:20260425T145847
DTSTART;TZID=Europe/Berlin:20260507T181500
DTEND;TZID=Europe/Berlin:20260507T194500
UID:S265450101-20260507T181500@VHSWIENER NEUSTADT
SUMMARY:SPANISCH I/00 - ANFÄNGER:INNEN - A1 (S265450101) 
LOCATION:Volksschule Baumkirchnerring; Raum 2, Baumkirchnerring 18, 2700 Wiener Neustadt
END:VEVENT
BEGIN:VEVENT
DTSTAMP:20260425T145847
DTSTART;TZID=Europe/Berlin:20260521T181500
DTEND;TZID=Europe/Berlin:20260521T194500
UID:S265450101-20260521T181500@VHSWIENER NEUSTADT
SUMMARY:SPANISCH I/00 - ANFÄNGER:INNEN - A1 (S265450101) 
LOCATION:Volksschule Baumkirchnerring; Raum 2, Baumkirchnerring 18, 2700 Wiener Neustadt
END:VEVENT
BEGIN:VEVENT
DTSTAMP:20260425T145847
DTSTART;TZID=Europe/Berlin:20260528T181500
DTEND;TZID=Europe/Berlin:20260528T194500
UID:S265450101-20260528T181500@VHSWIENER NEUSTADT
SUMMARY:SPANISCH I/00 - ANFÄNGER:INNEN - A1 (S265450101) 
LOCATION:Volksschule Baumkirchnerring; Raum 2, Baumkirchnerring 18, 2700 Wiener Neustadt
END:VEVENT
BEGIN:VEVENT
DTSTAMP:20260425T145847
DTSTART;TZID=Europe/Berlin:20260611T181500
DTEND;TZID=Europe/Berlin:20260611T194500
UID:S265450101-20260611T181500@VHSWIENER NEUSTADT
SUMMARY:SPANISCH I/00 - ANFÄNGER:INNEN - A1 (S265450101) 
LOCATION:Volksschule Baumkirchnerring; Raum 2, Baumkirchnerring 18, 2700 Wiener Neustadt
END:VEVENT
BEGIN:VEVENT
DTSTAMP:20260425T145847
DTSTART;TZID=Europe/Berlin:20260618T181500
DTEND;TZID=Europe/Berlin:20260618T194500
UID:S265450101-20260618T181500@VHSWIENER NEUSTADT
DESCRIPTION:ET f. 23.04. - KL verhindert
SUMMARY:SPANISCH I/00 - ANFÄNGER:INNEN - A1 (S265450101) 
LOCATION:Volksschule Baumkirchnerring; Raum 2, Baumkirchnerring 18, 2700 Wiener Neustadt
END:VEVENT
END:VCALENDAR