BEGIN:VCALENDAR
VERSION:2.0
PRODID:https://www.kufer.de/kuferweb / DE
METHOD:PUBLISH
CALSCALE:GREGORIAN
X-WR-TIMEZONE:Europe/Berlin
BEGIN:VTIMEZONE
TZID:Europe/Berlin
X-LIC-LOCATION:Europe/Berlin
BEGIN:DAYLIGHT
TZOFFSETFROM:+0100
TZOFFSETTO:+0200
TZNAME:CEST
DTSTART:19700329T020000
RRULE:FREQ=YEARLY;INTERVAL=1;BYDAY=-1SU;BYMONTH=3
END:DAYLIGHT
BEGIN:STANDARD
TZOFFSETFROM:+0200
TZOFFSETTO:+0100
TZNAME:CET
DTSTART:19701025T030000
RRULE:FREQ=YEARLY;INTERVAL=1;BYDAY=-1SU;BYMONTH=10
END:STANDARD
END:VTIMEZONE
BEGIN:VEVENT
DTSTAMP:20260423T155642
DTSTART;TZID=Europe/Berlin:20260210T091500
DTEND;TZID=Europe/Berlin:20260210T104500
UID:S265444401-20260210T091500@VHSWIENER NEUSTADT
SUMMARY:ITALIENISCH IV/21 - FORTGESCHRITTEN PLUS - B2 (S265444401) 
LOCATION:Volksschule Baumkirchnerring; Raum 1, Baumkirchnerring 18, 2700 Wiener Neustadt
END:VEVENT
BEGIN:VEVENT
DTSTAMP:20260423T155642
DTSTART;TZID=Europe/Berlin:20260217T091500
DTEND;TZID=Europe/Berlin:20260217T104500
UID:S265444401-20260217T091500@VHSWIENER NEUSTADT
SUMMARY:ITALIENISCH IV/21 - FORTGESCHRITTEN PLUS - B2 (S265444401) 
LOCATION:Volksschule Baumkirchnerring; Raum 1, Baumkirchnerring 18, 2700 Wiener Neustadt
END:VEVENT
BEGIN:VEVENT
DTSTAMP:20260423T155642
DTSTART;TZID=Europe/Berlin:20260224T091500
DTEND;TZID=Europe/Berlin:20260224T104500
UID:S265444401-20260224T091500@VHSWIENER NEUSTADT
SUMMARY:ITALIENISCH IV/21 - FORTGESCHRITTEN PLUS - B2 (S265444401) 
LOCATION:Volksschule Baumkirchnerring; Raum 1, Baumkirchnerring 18, 2700 Wiener Neustadt
END:VEVENT
BEGIN:VEVENT
DTSTAMP:20260423T155642
DTSTART;TZID=Europe/Berlin:20260303T091500
DTEND;TZID=Europe/Berlin:20260303T104500
UID:S265444401-20260303T091500@VHSWIENER NEUSTADT
SUMMARY:ITALIENISCH IV/21 - FORTGESCHRITTEN PLUS - B2 (S265444401) 
LOCATION:Volksschule Baumkirchnerring; Raum 1, Baumkirchnerring 18, 2700 Wiener Neustadt
END:VEVENT
BEGIN:VEVENT
DTSTAMP:20260423T155642
DTSTART;TZID=Europe/Berlin:20260310T091500
DTEND;TZID=Europe/Berlin:20260310T104500
UID:S265444401-20260310T091500@VHSWIENER NEUSTADT
SUMMARY:ITALIENISCH IV/21 - FORTGESCHRITTEN PLUS - B2 (S265444401) 
LOCATION:Volksschule Baumkirchnerring; Raum 1, Baumkirchnerring 18, 2700 Wiener Neustadt
END:VEVENT
BEGIN:VEVENT
DTSTAMP:20260423T155642
DTSTART;TZID=Europe/Berlin:20260317T091500
DTEND;TZID=Europe/Berlin:20260317T104500
UID:S265444401-20260317T091500@VHSWIENER NEUSTADT
SUMMARY:ITALIENISCH IV/21 - FORTGESCHRITTEN PLUS - B2 (S265444401) 
LOCATION:Volksschule Baumkirchnerring; Raum 1, Baumkirchnerring 18, 2700 Wiener Neustadt
END:VEVENT
BEGIN:VEVENT
DTSTAMP:20260423T155642
DTSTART;TZID=Europe/Berlin:20260324T091500
DTEND;TZID=Europe/Berlin:20260324T104500
UID:S265444401-20260324T091500@VHSWIENER NEUSTADT
SUMMARY:ITALIENISCH IV/21 - FORTGESCHRITTEN PLUS - B2 (S265444401) 
LOCATION:Volksschule Baumkirchnerring; Raum 1, Baumkirchnerring 18, 2700 Wiener Neustadt
END:VEVENT
BEGIN:VEVENT
DTSTAMP:20260423T155642
DTSTART;TZID=Europe/Berlin:20260407T091500
DTEND;TZID=Europe/Berlin:20260407T104500
UID:S265444401-20260407T091500@VHSWIENER NEUSTADT
SUMMARY:ITALIENISCH IV/21 - FORTGESCHRITTEN PLUS - B2 (S265444401) 
LOCATION:Volksschule Baumkirchnerring; Raum 1, Baumkirchnerring 18, 2700 Wiener Neustadt
END:VEVENT
BEGIN:VEVENT
DTSTAMP:20260423T155642
DTSTART;TZID=Europe/Berlin:20260414T091500
DTEND;TZID=Europe/Berlin:20260414T104500
UID:S265444401-20260414T091500@VHSWIENER NEUSTADT
SUMMARY:ITALIENISCH IV/21 - FORTGESCHRITTEN PLUS - B2 (S265444401) 
LOCATION:Volksschule Baumkirchnerring; Raum 1, Baumkirchnerring 18, 2700 Wiener Neustadt
END:VEVENT
BEGIN:VEVENT
DTSTAMP:20260423T155642
DTSTART;TZID=Europe/Berlin:20260421T091500
DTEND;TZID=Europe/Berlin:20260421T104500
UID:S265444401-20260421T091500@VHSWIENER NEUSTADT
SUMMARY:ITALIENISCH IV/21 - FORTGESCHRITTEN PLUS - B2 (S265444401) 
LOCATION:Volksschule Baumkirchnerring; Raum 1, Baumkirchnerring 18, 2700 Wiener Neustadt
END:VEVENT
BEGIN:VEVENT
DTSTAMP:20260423T155642
DTSTART;TZID=Europe/Berlin:20260428T091500
DTEND;TZID=Europe/Berlin:20260428T104500
UID:S265444401-20260428T091500@VHSWIENER NEUSTADT
SUMMARY:ITALIENISCH IV/21 - FORTGESCHRITTEN PLUS - B2 (S265444401) 
LOCATION:Volksschule Baumkirchnerring; Raum 1, Baumkirchnerring 18, 2700 Wiener Neustadt
END:VEVENT
BEGIN:VEVENT
DTSTAMP:20260423T155642
DTSTART;TZID=Europe/Berlin:20260505T091500
DTEND;TZID=Europe/Berlin:20260505T104500
UID:S265444401-20260505T091500@VHSWIENER NEUSTADT
SUMMARY:ITALIENISCH IV/21 - FORTGESCHRITTEN PLUS - B2 (S265444401) 
LOCATION:Volksschule Baumkirchnerring; Raum 1, Baumkirchnerring 18, 2700 Wiener Neustadt
END:VEVENT
BEGIN:VEVENT
DTSTAMP:20260423T155642
DTSTART;TZID=Europe/Berlin:20260512T091500
DTEND;TZID=Europe/Berlin:20260512T104500
UID:S265444401-20260512T091500@VHSWIENER NEUSTADT
SUMMARY:ITALIENISCH IV/21 - FORTGESCHRITTEN PLUS - B2 (S265444401) 
LOCATION:Volksschule Baumkirchnerring; Raum 1, Baumkirchnerring 18, 2700 Wiener Neustadt
END:VEVENT
BEGIN:VEVENT
DTSTAMP:20260423T155642
DTSTART;TZID=Europe/Berlin:20260519T091500
DTEND;TZID=Europe/Berlin:20260519T104500
UID:S265444401-20260519T091500@VHSWIENER NEUSTADT
SUMMARY:ITALIENISCH IV/21 - FORTGESCHRITTEN PLUS - B2 (S265444401) 
LOCATION:Volksschule Baumkirchnerring; Raum 1, Baumkirchnerring 18, 2700 Wiener Neustadt
END:VEVENT
BEGIN:VEVENT
DTSTAMP:20260423T155642
DTSTART;TZID=Europe/Berlin:20260526T091500
DTEND;TZID=Europe/Berlin:20260526T104500
UID:S265444401-20260526T091500@VHSWIENER NEUSTADT
SUMMARY:ITALIENISCH IV/21 - FORTGESCHRITTEN PLUS - B2 (S265444401) 
LOCATION:Volksschule Baumkirchnerring; Raum 1, Baumkirchnerring 18, 2700 Wiener Neustadt
END:VEVENT
BEGIN:VEVENT
DTSTAMP:20260423T155642
DTSTART;TZID=Europe/Berlin:20260602T091500
DTEND;TZID=Europe/Berlin:20260602T104500
UID:S265444401-20260602T091500@VHSWIENER NEUSTADT
SUMMARY:ITALIENISCH IV/21 - FORTGESCHRITTEN PLUS - B2 (S265444401) 
LOCATION:Volksschule Baumkirchnerring; Raum 1, Baumkirchnerring 18, 2700 Wiener Neustadt
END:VEVENT
BEGIN:VEVENT
DTSTAMP:20260423T155642
DTSTART;TZID=Europe/Berlin:20260609T091500
DTEND;TZID=Europe/Berlin:20260609T104500
UID:S265444401-20260609T091500@VHSWIENER NEUSTADT
SUMMARY:ITALIENISCH IV/21 - FORTGESCHRITTEN PLUS - B2 (S265444401) 
LOCATION:Volksschule Baumkirchnerring; Raum 1, Baumkirchnerring 18, 2700 Wiener Neustadt
END:VEVENT
END:VCALENDAR