BEGIN:VCALENDAR
VERSION:2.0
PRODID:https://www.kufer.de/kuferweb / DE
METHOD:PUBLISH
CALSCALE:GREGORIAN
X-WR-TIMEZONE:Europe/Berlin
BEGIN:VTIMEZONE
TZID:Europe/Berlin
X-LIC-LOCATION:Europe/Berlin
BEGIN:DAYLIGHT
TZOFFSETFROM:+0100
TZOFFSETTO:+0200
TZNAME:CEST
DTSTART:19700329T020000
RRULE:FREQ=YEARLY;INTERVAL=1;BYDAY=-1SU;BYMONTH=3
END:DAYLIGHT
BEGIN:STANDARD
TZOFFSETFROM:+0200
TZOFFSETTO:+0100
TZNAME:CET
DTSTART:19701025T030000
RRULE:FREQ=YEARLY;INTERVAL=1;BYDAY=-1SU;BYMONTH=10
END:STANDARD
END:VTIMEZONE
BEGIN:VEVENT
DTSTAMP:20260423T155643
DTSTART;TZID=Europe/Berlin:20260210T131500
DTEND;TZID=Europe/Berlin:20260210T144500
UID:S265444101-20260210T131500@VHSWIENER NEUSTADT
SUMMARY:Italienisch IV/04 - Fortgeschritten Plus - B2  - KLEINGRUPPE (S265444101) 
LOCATION:Volksschule Baumkirchnerring; Raum 1, Baumkirchnerring 18, 2700 Wiener Neustadt
END:VEVENT
BEGIN:VEVENT
DTSTAMP:20260423T155643
DTSTART;TZID=Europe/Berlin:20260217T131500
DTEND;TZID=Europe/Berlin:20260217T144500
UID:S265444101-20260217T131500@VHSWIENER NEUSTADT
SUMMARY:Italienisch IV/04 - Fortgeschritten Plus - B2  - KLEINGRUPPE (S265444101) 
LOCATION:Volksschule Baumkirchnerring; Raum 1, Baumkirchnerring 18, 2700 Wiener Neustadt
END:VEVENT
BEGIN:VEVENT
DTSTAMP:20260423T155643
DTSTART;TZID=Europe/Berlin:20260224T131500
DTEND;TZID=Europe/Berlin:20260224T144500
UID:S265444101-20260224T131500@VHSWIENER NEUSTADT
SUMMARY:Italienisch IV/04 - Fortgeschritten Plus - B2  - KLEINGRUPPE (S265444101) 
LOCATION:Volksschule Baumkirchnerring; Raum 1, Baumkirchnerring 18, 2700 Wiener Neustadt
END:VEVENT
BEGIN:VEVENT
DTSTAMP:20260423T155643
DTSTART;TZID=Europe/Berlin:20260303T131500
DTEND;TZID=Europe/Berlin:20260303T144500
UID:S265444101-20260303T131500@VHSWIENER NEUSTADT
SUMMARY:Italienisch IV/04 - Fortgeschritten Plus - B2  - KLEINGRUPPE (S265444101) 
LOCATION:Volksschule Baumkirchnerring; Raum 1, Baumkirchnerring 18, 2700 Wiener Neustadt
END:VEVENT
BEGIN:VEVENT
DTSTAMP:20260423T155643
DTSTART;TZID=Europe/Berlin:20260310T131500
DTEND;TZID=Europe/Berlin:20260310T144500
UID:S265444101-20260310T131500@VHSWIENER NEUSTADT
SUMMARY:Italienisch IV/04 - Fortgeschritten Plus - B2  - KLEINGRUPPE (S265444101) 
LOCATION:Volksschule Baumkirchnerring; Raum 1, Baumkirchnerring 18, 2700 Wiener Neustadt
END:VEVENT
BEGIN:VEVENT
DTSTAMP:20260423T155643
DTSTART;TZID=Europe/Berlin:20260317T131500
DTEND;TZID=Europe/Berlin:20260317T144500
UID:S265444101-20260317T131500@VHSWIENER NEUSTADT
SUMMARY:Italienisch IV/04 - Fortgeschritten Plus - B2  - KLEINGRUPPE (S265444101) 
LOCATION:Volksschule Baumkirchnerring; Raum 1, Baumkirchnerring 18, 2700 Wiener Neustadt
END:VEVENT
BEGIN:VEVENT
DTSTAMP:20260423T155643
DTSTART;TZID=Europe/Berlin:20260324T131500
DTEND;TZID=Europe/Berlin:20260324T144500
UID:S265444101-20260324T131500@VHSWIENER NEUSTADT
SUMMARY:Italienisch IV/04 - Fortgeschritten Plus - B2  - KLEINGRUPPE (S265444101) 
LOCATION:Volksschule Baumkirchnerring; Raum 1, Baumkirchnerring 18, 2700 Wiener Neustadt
END:VEVENT
BEGIN:VEVENT
DTSTAMP:20260423T155643
DTSTART;TZID=Europe/Berlin:20260407T131500
DTEND;TZID=Europe/Berlin:20260407T144500
UID:S265444101-20260407T131500@VHSWIENER NEUSTADT
SUMMARY:Italienisch IV/04 - Fortgeschritten Plus - B2  - KLEINGRUPPE (S265444101) 
LOCATION:Volksschule Baumkirchnerring; Raum 1, Baumkirchnerring 18, 2700 Wiener Neustadt
END:VEVENT
BEGIN:VEVENT
DTSTAMP:20260423T155643
DTSTART;TZID=Europe/Berlin:20260414T131500
DTEND;TZID=Europe/Berlin:20260414T144500
UID:S265444101-20260414T131500@VHSWIENER NEUSTADT
SUMMARY:Italienisch IV/04 - Fortgeschritten Plus - B2  - KLEINGRUPPE (S265444101) 
LOCATION:Volksschule Baumkirchnerring; Raum 1, Baumkirchnerring 18, 2700 Wiener Neustadt
END:VEVENT
BEGIN:VEVENT
DTSTAMP:20260423T155643
DTSTART;TZID=Europe/Berlin:20260421T131500
DTEND;TZID=Europe/Berlin:20260421T144500
UID:S265444101-20260421T131500@VHSWIENER NEUSTADT
SUMMARY:Italienisch IV/04 - Fortgeschritten Plus - B2  - KLEINGRUPPE (S265444101) 
LOCATION:Volksschule Baumkirchnerring; Raum 1, Baumkirchnerring 18, 2700 Wiener Neustadt
END:VEVENT
BEGIN:VEVENT
DTSTAMP:20260423T155643
DTSTART;TZID=Europe/Berlin:20260428T131500
DTEND;TZID=Europe/Berlin:20260428T144500
UID:S265444101-20260428T131500@VHSWIENER NEUSTADT
SUMMARY:Italienisch IV/04 - Fortgeschritten Plus - B2  - KLEINGRUPPE (S265444101) 
LOCATION:Volksschule Baumkirchnerring; Raum 1, Baumkirchnerring 18, 2700 Wiener Neustadt
END:VEVENT
BEGIN:VEVENT
DTSTAMP:20260423T155643
DTSTART;TZID=Europe/Berlin:20260505T131500
DTEND;TZID=Europe/Berlin:20260505T144500
UID:S265444101-20260505T131500@VHSWIENER NEUSTADT
SUMMARY:Italienisch IV/04 - Fortgeschritten Plus - B2  - KLEINGRUPPE (S265444101) 
LOCATION:Volksschule Baumkirchnerring; Raum 1, Baumkirchnerring 18, 2700 Wiener Neustadt
END:VEVENT
BEGIN:VEVENT
DTSTAMP:20260423T155643
DTSTART;TZID=Europe/Berlin:20260512T131500
DTEND;TZID=Europe/Berlin:20260512T144500
UID:S265444101-20260512T131500@VHSWIENER NEUSTADT
SUMMARY:Italienisch IV/04 - Fortgeschritten Plus - B2  - KLEINGRUPPE (S265444101) 
LOCATION:Volksschule Baumkirchnerring; Raum 1, Baumkirchnerring 18, 2700 Wiener Neustadt
END:VEVENT
BEGIN:VEVENT
DTSTAMP:20260423T155643
DTSTART;TZID=Europe/Berlin:20260519T131500
DTEND;TZID=Europe/Berlin:20260519T144500
UID:S265444101-20260519T131500@VHSWIENER NEUSTADT
SUMMARY:Italienisch IV/04 - Fortgeschritten Plus - B2  - KLEINGRUPPE (S265444101) 
LOCATION:Volksschule Baumkirchnerring; Raum 1, Baumkirchnerring 18, 2700 Wiener Neustadt
END:VEVENT
BEGIN:VEVENT
DTSTAMP:20260423T155643
DTSTART;TZID=Europe/Berlin:20260526T131500
DTEND;TZID=Europe/Berlin:20260526T144500
UID:S265444101-20260526T131500@VHSWIENER NEUSTADT
SUMMARY:Italienisch IV/04 - Fortgeschritten Plus - B2  - KLEINGRUPPE (S265444101) 
LOCATION:Volksschule Baumkirchnerring; Raum 1, Baumkirchnerring 18, 2700 Wiener Neustadt
END:VEVENT
BEGIN:VEVENT
DTSTAMP:20260423T155643
DTSTART;TZID=Europe/Berlin:20260602T131500
DTEND;TZID=Europe/Berlin:20260602T144500
UID:S265444101-20260602T131500@VHSWIENER NEUSTADT
SUMMARY:Italienisch IV/04 - Fortgeschritten Plus - B2  - KLEINGRUPPE (S265444101) 
LOCATION:Volksschule Baumkirchnerring; Raum 1, Baumkirchnerring 18, 2700 Wiener Neustadt
END:VEVENT
BEGIN:VEVENT
DTSTAMP:20260423T155643
DTSTART;TZID=Europe/Berlin:20260609T131500
DTEND;TZID=Europe/Berlin:20260609T144500
UID:S265444101-20260609T131500@VHSWIENER NEUSTADT
SUMMARY:Italienisch IV/04 - Fortgeschritten Plus - B2  - KLEINGRUPPE (S265444101) 
LOCATION:Volksschule Baumkirchnerring; Raum 1, Baumkirchnerring 18, 2700 Wiener Neustadt
END:VEVENT
END:VCALENDAR