BEGIN:VCALENDAR
VERSION:2.0
PRODID:https://www.kufer.de/kuferweb / DE
METHOD:PUBLISH
CALSCALE:GREGORIAN
X-WR-TIMEZONE:Europe/Berlin
BEGIN:VTIMEZONE
TZID:Europe/Berlin
X-LIC-LOCATION:Europe/Berlin
BEGIN:DAYLIGHT
TZOFFSETFROM:+0100
TZOFFSETTO:+0200
TZNAME:CEST
DTSTART:19700329T020000
RRULE:FREQ=YEARLY;INTERVAL=1;BYDAY=-1SU;BYMONTH=3
END:DAYLIGHT
BEGIN:STANDARD
TZOFFSETFROM:+0200
TZOFFSETTO:+0100
TZNAME:CET
DTSTART:19701025T030000
RRULE:FREQ=YEARLY;INTERVAL=1;BYDAY=-1SU;BYMONTH=10
END:STANDARD
END:VTIMEZONE
BEGIN:VEVENT
DTSTAMP:20260425T145929
DTSTART;TZID=Europe/Berlin:20260305T163000
DTEND;TZID=Europe/Berlin:20260305T180000
UID:S265440201-20260305T163000@VHSWIENER NEUSTADT
SUMMARY:Italienisch I/01 - Anfänger:innen Fortsetzung - A1 (S265440201) 
LOCATION:Volksschule Baumkirchnerring; Raum 2, Baumkirchnerring 18, 2700 Wiener Neustadt
END:VEVENT
BEGIN:VEVENT
DTSTAMP:20260425T145929
DTSTART;TZID=Europe/Berlin:20260312T163000
DTEND;TZID=Europe/Berlin:20260312T180000
UID:S265440201-20260312T163000@VHSWIENER NEUSTADT
SUMMARY:Italienisch I/01 - Anfänger:innen Fortsetzung - A1 (S265440201) 
LOCATION:Volksschule Baumkirchnerring; Raum 2, Baumkirchnerring 18, 2700 Wiener Neustadt
END:VEVENT
BEGIN:VEVENT
DTSTAMP:20260425T145929
DTSTART;TZID=Europe/Berlin:20260319T163000
DTEND;TZID=Europe/Berlin:20260319T180000
UID:S265440201-20260319T163000@VHSWIENER NEUSTADT
SUMMARY:Italienisch I/01 - Anfänger:innen Fortsetzung - A1 (S265440201) 
LOCATION:Volksschule Baumkirchnerring; Raum 2, Baumkirchnerring 18, 2700 Wiener Neustadt
END:VEVENT
BEGIN:VEVENT
DTSTAMP:20260425T145929
DTSTART;TZID=Europe/Berlin:20260326T163000
DTEND;TZID=Europe/Berlin:20260326T180000
UID:S265440201-20260326T163000@VHSWIENER NEUSTADT
SUMMARY:Italienisch I/01 - Anfänger:innen Fortsetzung - A1 (S265440201) 
LOCATION:Volksschule Baumkirchnerring; Raum 2, Baumkirchnerring 18, 2700 Wiener Neustadt
END:VEVENT
BEGIN:VEVENT
DTSTAMP:20260425T145929
DTSTART;TZID=Europe/Berlin:20260409T163000
DTEND;TZID=Europe/Berlin:20260409T180000
UID:S265440201-20260409T163000@VHSWIENER NEUSTADT
SUMMARY:Italienisch I/01 - Anfänger:innen Fortsetzung - A1 (S265440201) 
LOCATION:Volksschule Baumkirchnerring; Raum 2, Baumkirchnerring 18, 2700 Wiener Neustadt
END:VEVENT
BEGIN:VEVENT
DTSTAMP:20260425T145929
DTSTART;TZID=Europe/Berlin:20260416T163000
DTEND;TZID=Europe/Berlin:20260416T180000
UID:S265440201-20260416T163000@VHSWIENER NEUSTADT
SUMMARY:Italienisch I/01 - Anfänger:innen Fortsetzung - A1 (S265440201) 
LOCATION:Volksschule Baumkirchnerring; Raum 2, Baumkirchnerring 18, 2700 Wiener Neustadt
END:VEVENT
BEGIN:VEVENT
DTSTAMP:20260425T145929
DTSTART;TZID=Europe/Berlin:20260423T163000
DTEND;TZID=Europe/Berlin:20260423T180000
UID:S265440201-20260423T163000@VHSWIENER NEUSTADT
SUMMARY:Italienisch I/01 - Anfänger:innen Fortsetzung - A1 (S265440201) 
LOCATION:Volksschule Baumkirchnerring; Raum 2, Baumkirchnerring 18, 2700 Wiener Neustadt
END:VEVENT
BEGIN:VEVENT
DTSTAMP:20260425T145929
DTSTART;TZID=Europe/Berlin:20260430T163000
DTEND;TZID=Europe/Berlin:20260430T180000
UID:S265440201-20260430T163000@VHSWIENER NEUSTADT
SUMMARY:Italienisch I/01 - Anfänger:innen Fortsetzung - A1 (S265440201) 
LOCATION:Volksschule Baumkirchnerring; Raum 2, Baumkirchnerring 18, 2700 Wiener Neustadt
END:VEVENT
BEGIN:VEVENT
DTSTAMP:20260425T145929
DTSTART;TZID=Europe/Berlin:20260507T163000
DTEND;TZID=Europe/Berlin:20260507T180000
UID:S265440201-20260507T163000@VHSWIENER NEUSTADT
SUMMARY:Italienisch I/01 - Anfänger:innen Fortsetzung - A1 (S265440201) 
LOCATION:Volksschule Baumkirchnerring; Raum 2, Baumkirchnerring 18, 2700 Wiener Neustadt
END:VEVENT
BEGIN:VEVENT
DTSTAMP:20260425T145929
DTSTART;TZID=Europe/Berlin:20260521T163000
DTEND;TZID=Europe/Berlin:20260521T180000
UID:S265440201-20260521T163000@VHSWIENER NEUSTADT
SUMMARY:Italienisch I/01 - Anfänger:innen Fortsetzung - A1 (S265440201) 
LOCATION:Volksschule Baumkirchnerring; Raum 2, Baumkirchnerring 18, 2700 Wiener Neustadt
END:VEVENT
BEGIN:VEVENT
DTSTAMP:20260425T145929
DTSTART;TZID=Europe/Berlin:20260528T163000
DTEND;TZID=Europe/Berlin:20260528T180000
UID:S265440201-20260528T163000@VHSWIENER NEUSTADT
SUMMARY:Italienisch I/01 - Anfänger:innen Fortsetzung - A1 (S265440201) 
LOCATION:Volksschule Baumkirchnerring; Raum 2, Baumkirchnerring 18, 2700 Wiener Neustadt
END:VEVENT
END:VCALENDAR