BEGIN:VCALENDAR
VERSION:2.0
PRODID:https://www.kufer.de/kuferweb / DE
METHOD:PUBLISH
CALSCALE:GREGORIAN
X-WR-TIMEZONE:Europe/Berlin
BEGIN:VTIMEZONE
TZID:Europe/Berlin
X-LIC-LOCATION:Europe/Berlin
BEGIN:DAYLIGHT
TZOFFSETFROM:+0100
TZOFFSETTO:+0200
TZNAME:CEST
DTSTART:19700329T020000
RRULE:FREQ=YEARLY;INTERVAL=1;BYDAY=-1SU;BYMONTH=3
END:DAYLIGHT
BEGIN:STANDARD
TZOFFSETFROM:+0200
TZOFFSETTO:+0100
TZNAME:CET
DTSTART:19701025T030000
RRULE:FREQ=YEARLY;INTERVAL=1;BYDAY=-1SU;BYMONTH=10
END:STANDARD
END:VTIMEZONE
BEGIN:VEVENT
DTSTAMP:20260425T133240
DTSTART;TZID=Europe/Berlin:20260224T181500
DTEND;TZID=Europe/Berlin:20260224T194500
UID:S265431301-20260224T181500@VHSWIENER NEUSTADT
DESCRIPTION:findet bei TLN statt um TV zu schauen
SUMMARY:FRANZÖSISCH II/08 - LEICHT FORTGESCHRITTEN - A2 (S265431301) 
LOCATION:NÖ Mittelschule Europa; Raum 09; 1.Stock links, Europaallee 1, 2700 Wiener Neustadt
END:VEVENT
BEGIN:VEVENT
DTSTAMP:20260425T133240
DTSTART;TZID=Europe/Berlin:20260303T181500
DTEND;TZID=Europe/Berlin:20260303T194500
UID:S265431301-20260303T181500@VHSWIENER NEUSTADT
SUMMARY:FRANZÖSISCH II/08 - LEICHT FORTGESCHRITTEN - A2 (S265431301) 
LOCATION:NÖ Mittelschule Europa; Raum 09; 1.Stock links, Europaallee 1, 2700 Wiener Neustadt
END:VEVENT
BEGIN:VEVENT
DTSTAMP:20260425T133240
DTSTART;TZID=Europe/Berlin:20260310T181500
DTEND;TZID=Europe/Berlin:20260310T194500
UID:S265431301-20260310T181500@VHSWIENER NEUSTADT
SUMMARY:FRANZÖSISCH II/08 - LEICHT FORTGESCHRITTEN - A2 (S265431301) 
LOCATION:NÖ Mittelschule Europa; Raum 09; 1.Stock links, Europaallee 1, 2700 Wiener Neustadt
END:VEVENT
BEGIN:VEVENT
DTSTAMP:20260425T133240
DTSTART;TZID=Europe/Berlin:20260317T181500
DTEND;TZID=Europe/Berlin:20260317T194500
UID:S265431301-20260317T181500@VHSWIENER NEUSTADT
SUMMARY:FRANZÖSISCH II/08 - LEICHT FORTGESCHRITTEN - A2 (S265431301) 
LOCATION:NÖ Mittelschule Europa; Raum 09; 1.Stock links, Europaallee 1, 2700 Wiener Neustadt
END:VEVENT
BEGIN:VEVENT
DTSTAMP:20260425T133240
DTSTART;TZID=Europe/Berlin:20260324T181500
DTEND;TZID=Europe/Berlin:20260324T194500
UID:S265431301-20260324T181500@VHSWIENER NEUSTADT
SUMMARY:FRANZÖSISCH II/08 - LEICHT FORTGESCHRITTEN - A2 (S265431301) 
LOCATION:NÖ Mittelschule Europa; Raum 09; 1.Stock links, Europaallee 1, 2700 Wiener Neustadt
END:VEVENT
BEGIN:VEVENT
DTSTAMP:20260425T133240
DTSTART;TZID=Europe/Berlin:20260407T181500
DTEND;TZID=Europe/Berlin:20260407T194500
UID:S265431301-20260407T181500@VHSWIENER NEUSTADT
SUMMARY:FRANZÖSISCH II/08 - LEICHT FORTGESCHRITTEN - A2 (S265431301) 
LOCATION:NÖ Mittelschule Europa; Raum 09; 1.Stock links, Europaallee 1, 2700 Wiener Neustadt
END:VEVENT
BEGIN:VEVENT
DTSTAMP:20260425T133240
DTSTART;TZID=Europe/Berlin:20260414T181500
DTEND;TZID=Europe/Berlin:20260414T194500
UID:S265431301-20260414T181500@VHSWIENER NEUSTADT
SUMMARY:FRANZÖSISCH II/08 - LEICHT FORTGESCHRITTEN - A2 (S265431301) 
LOCATION:NÖ Mittelschule Europa; Raum 09; 1.Stock links, Europaallee 1, 2700 Wiener Neustadt
END:VEVENT
BEGIN:VEVENT
DTSTAMP:20260425T133240
DTSTART;TZID=Europe/Berlin:20260421T181500
DTEND;TZID=Europe/Berlin:20260421T194500
UID:S265431301-20260421T181500@VHSWIENER NEUSTADT
SUMMARY:FRANZÖSISCH II/08 - LEICHT FORTGESCHRITTEN - A2 (S265431301) 
LOCATION:NÖ Mittelschule Europa; Raum 09; 1.Stock links, Europaallee 1, 2700 Wiener Neustadt
END:VEVENT
BEGIN:VEVENT
DTSTAMP:20260425T133240
DTSTART;TZID=Europe/Berlin:20260428T181500
DTEND;TZID=Europe/Berlin:20260428T194500
UID:S265431301-20260428T181500@VHSWIENER NEUSTADT
SUMMARY:FRANZÖSISCH II/08 - LEICHT FORTGESCHRITTEN - A2 (S265431301) 
LOCATION:NÖ Mittelschule Europa; Raum 09; 1.Stock links, Europaallee 1, 2700 Wiener Neustadt
END:VEVENT
BEGIN:VEVENT
DTSTAMP:20260425T133240
DTSTART;TZID=Europe/Berlin:20260505T181500
DTEND;TZID=Europe/Berlin:20260505T194500
UID:S265431301-20260505T181500@VHSWIENER NEUSTADT
SUMMARY:FRANZÖSISCH II/08 - LEICHT FORTGESCHRITTEN - A2 (S265431301) 
LOCATION:NÖ Mittelschule Europa; Raum 09; 1.Stock links, Europaallee 1, 2700 Wiener Neustadt
END:VEVENT
BEGIN:VEVENT
DTSTAMP:20260425T133240
DTSTART;TZID=Europe/Berlin:20260512T181500
DTEND;TZID=Europe/Berlin:20260512T194500
UID:S265431301-20260512T181500@VHSWIENER NEUSTADT
SUMMARY:FRANZÖSISCH II/08 - LEICHT FORTGESCHRITTEN - A2 (S265431301) 
LOCATION:NÖ Mittelschule Europa; Raum 09; 1.Stock links, Europaallee 1, 2700 Wiener Neustadt
END:VEVENT
BEGIN:VEVENT
DTSTAMP:20260425T133240
DTSTART;TZID=Europe/Berlin:20260519T181500
DTEND;TZID=Europe/Berlin:20260519T194500
UID:S265431301-20260519T181500@VHSWIENER NEUSTADT
SUMMARY:FRANZÖSISCH II/08 - LEICHT FORTGESCHRITTEN - A2 (S265431301) 
LOCATION:NÖ Mittelschule Europa; Raum 09; 1.Stock links, Europaallee 1, 2700 Wiener Neustadt
END:VEVENT
BEGIN:VEVENT
DTSTAMP:20260425T133240
DTSTART;TZID=Europe/Berlin:20260526T181500
DTEND;TZID=Europe/Berlin:20260526T194500
UID:S265431301-20260526T181500@VHSWIENER NEUSTADT
SUMMARY:FRANZÖSISCH II/08 - LEICHT FORTGESCHRITTEN - A2 (S265431301) 
LOCATION:NÖ Mittelschule Europa; Raum 09; 1.Stock links, Europaallee 1, 2700 Wiener Neustadt
END:VEVENT
BEGIN:VEVENT
DTSTAMP:20260425T133240
DTSTART;TZID=Europe/Berlin:20260602T181500
DTEND;TZID=Europe/Berlin:20260602T194500
UID:S265431301-20260602T181500@VHSWIENER NEUSTADT
SUMMARY:FRANZÖSISCH II/08 - LEICHT FORTGESCHRITTEN - A2 (S265431301) 
LOCATION:NÖ Mittelschule Europa; Raum 09; 1.Stock links, Europaallee 1, 2700 Wiener Neustadt
END:VEVENT
BEGIN:VEVENT
DTSTAMP:20260425T133240
DTSTART;TZID=Europe/Berlin:20260609T181500
DTEND;TZID=Europe/Berlin:20260609T194500
UID:S265431301-20260609T181500@VHSWIENER NEUSTADT
SUMMARY:FRANZÖSISCH II/08 - LEICHT FORTGESCHRITTEN - A2 (S265431301) 
LOCATION:NÖ Mittelschule Europa; Raum 09; 1.Stock links, Europaallee 1, 2700 Wiener Neustadt
END:VEVENT
END:VCALENDAR