BEGIN:VCALENDAR
VERSION:2.0
PRODID:https://www.kufer.de/kuferweb / DE
METHOD:PUBLISH
CALSCALE:GREGORIAN
X-WR-TIMEZONE:Europe/Berlin
BEGIN:VTIMEZONE
TZID:Europe/Berlin
X-LIC-LOCATION:Europe/Berlin
BEGIN:DAYLIGHT
TZOFFSETFROM:+0100
TZOFFSETTO:+0200
TZNAME:CEST
DTSTART:19700329T020000
RRULE:FREQ=YEARLY;INTERVAL=1;BYDAY=-1SU;BYMONTH=3
END:DAYLIGHT
BEGIN:STANDARD
TZOFFSETFROM:+0200
TZOFFSETTO:+0100
TZNAME:CET
DTSTART:19701025T030000
RRULE:FREQ=YEARLY;INTERVAL=1;BYDAY=-1SU;BYMONTH=10
END:STANDARD
END:VTIMEZONE
BEGIN:VEVENT
DTSTAMP:20260425T134206
DTSTART;TZID=Europe/Berlin:20260224T163000
DTEND;TZID=Europe/Berlin:20260224T180000
UID:S265430601-20260224T163000@VHSWIENER NEUSTADT
SUMMARY:FRANZÖSISCH II/05 - LEICHT FORTGESCHRITTEN - A2 (S265430601) 
LOCATION:Volksschule Baumkirchnerring; Raum 2, Baumkirchnerring 18, 2700 Wiener Neustadt
END:VEVENT
BEGIN:VEVENT
DTSTAMP:20260425T134206
DTSTART;TZID=Europe/Berlin:20260303T163000
DTEND;TZID=Europe/Berlin:20260303T180000
UID:S265430601-20260303T163000@VHSWIENER NEUSTADT
SUMMARY:FRANZÖSISCH II/05 - LEICHT FORTGESCHRITTEN - A2 (S265430601) 
LOCATION:Volksschule Baumkirchnerring; Raum 2, Baumkirchnerring 18, 2700 Wiener Neustadt
END:VEVENT
BEGIN:VEVENT
DTSTAMP:20260425T134206
DTSTART;TZID=Europe/Berlin:20260310T163000
DTEND;TZID=Europe/Berlin:20260310T180000
UID:S265430601-20260310T163000@VHSWIENER NEUSTADT
SUMMARY:FRANZÖSISCH II/05 - LEICHT FORTGESCHRITTEN - A2 (S265430601) 
LOCATION:Volksschule Baumkirchnerring; Raum 2, Baumkirchnerring 18, 2700 Wiener Neustadt
END:VEVENT
BEGIN:VEVENT
DTSTAMP:20260425T134206
DTSTART;TZID=Europe/Berlin:20260317T163000
DTEND;TZID=Europe/Berlin:20260317T180000
UID:S265430601-20260317T163000@VHSWIENER NEUSTADT
SUMMARY:FRANZÖSISCH II/05 - LEICHT FORTGESCHRITTEN - A2 (S265430601) 
LOCATION:Volksschule Baumkirchnerring; Raum 2, Baumkirchnerring 18, 2700 Wiener Neustadt
END:VEVENT
BEGIN:VEVENT
DTSTAMP:20260425T134206
DTSTART;TZID=Europe/Berlin:20260324T163000
DTEND;TZID=Europe/Berlin:20260324T180000
UID:S265430601-20260324T163000@VHSWIENER NEUSTADT
SUMMARY:FRANZÖSISCH II/05 - LEICHT FORTGESCHRITTEN - A2 (S265430601) 
LOCATION:Volksschule Baumkirchnerring; Raum 2, Baumkirchnerring 18, 2700 Wiener Neustadt
END:VEVENT
BEGIN:VEVENT
DTSTAMP:20260425T134206
DTSTART;TZID=Europe/Berlin:20260407T163000
DTEND;TZID=Europe/Berlin:20260407T180000
UID:S265430601-20260407T163000@VHSWIENER NEUSTADT
SUMMARY:FRANZÖSISCH II/05 - LEICHT FORTGESCHRITTEN - A2 (S265430601) 
LOCATION:Volksschule Baumkirchnerring; Raum 2, Baumkirchnerring 18, 2700 Wiener Neustadt
END:VEVENT
BEGIN:VEVENT
DTSTAMP:20260425T134206
DTSTART;TZID=Europe/Berlin:20260414T163000
DTEND;TZID=Europe/Berlin:20260414T180000
UID:S265430601-20260414T163000@VHSWIENER NEUSTADT
SUMMARY:FRANZÖSISCH II/05 - LEICHT FORTGESCHRITTEN - A2 (S265430601) 
LOCATION:Volksschule Baumkirchnerring; Raum 2, Baumkirchnerring 18, 2700 Wiener Neustadt
END:VEVENT
BEGIN:VEVENT
DTSTAMP:20260425T134206
DTSTART;TZID=Europe/Berlin:20260421T163000
DTEND;TZID=Europe/Berlin:20260421T180000
UID:S265430601-20260421T163000@VHSWIENER NEUSTADT
SUMMARY:FRANZÖSISCH II/05 - LEICHT FORTGESCHRITTEN - A2 (S265430601) 
LOCATION:Volksschule Baumkirchnerring; Raum 2, Baumkirchnerring 18, 2700 Wiener Neustadt
END:VEVENT
BEGIN:VEVENT
DTSTAMP:20260425T134206
DTSTART;TZID=Europe/Berlin:20260428T163000
DTEND;TZID=Europe/Berlin:20260428T180000
UID:S265430601-20260428T163000@VHSWIENER NEUSTADT
SUMMARY:FRANZÖSISCH II/05 - LEICHT FORTGESCHRITTEN - A2 (S265430601) 
LOCATION:Volksschule Baumkirchnerring; Raum 2, Baumkirchnerring 18, 2700 Wiener Neustadt
END:VEVENT
BEGIN:VEVENT
DTSTAMP:20260425T134206
DTSTART;TZID=Europe/Berlin:20260505T163000
DTEND;TZID=Europe/Berlin:20260505T180000
UID:S265430601-20260505T163000@VHSWIENER NEUSTADT
SUMMARY:FRANZÖSISCH II/05 - LEICHT FORTGESCHRITTEN - A2 (S265430601) 
LOCATION:Volksschule Baumkirchnerring; Raum 2, Baumkirchnerring 18, 2700 Wiener Neustadt
END:VEVENT
BEGIN:VEVENT
DTSTAMP:20260425T134206
DTSTART;TZID=Europe/Berlin:20260512T163000
DTEND;TZID=Europe/Berlin:20260512T180000
UID:S265430601-20260512T163000@VHSWIENER NEUSTADT
SUMMARY:FRANZÖSISCH II/05 - LEICHT FORTGESCHRITTEN - A2 (S265430601) 
LOCATION:Volksschule Baumkirchnerring; Raum 2, Baumkirchnerring 18, 2700 Wiener Neustadt
END:VEVENT
BEGIN:VEVENT
DTSTAMP:20260425T134206
DTSTART;TZID=Europe/Berlin:20260519T163000
DTEND;TZID=Europe/Berlin:20260519T180000
UID:S265430601-20260519T163000@VHSWIENER NEUSTADT
SUMMARY:FRANZÖSISCH II/05 - LEICHT FORTGESCHRITTEN - A2 (S265430601) 
LOCATION:Volksschule Baumkirchnerring; Raum 2, Baumkirchnerring 18, 2700 Wiener Neustadt
END:VEVENT
BEGIN:VEVENT
DTSTAMP:20260425T134206
DTSTART;TZID=Europe/Berlin:20260526T163000
DTEND;TZID=Europe/Berlin:20260526T180000
UID:S265430601-20260526T163000@VHSWIENER NEUSTADT
SUMMARY:FRANZÖSISCH II/05 - LEICHT FORTGESCHRITTEN - A2 (S265430601) 
LOCATION:Volksschule Baumkirchnerring; Raum 2, Baumkirchnerring 18, 2700 Wiener Neustadt
END:VEVENT
BEGIN:VEVENT
DTSTAMP:20260425T134206
DTSTART;TZID=Europe/Berlin:20260602T163000
DTEND;TZID=Europe/Berlin:20260602T180000
UID:S265430601-20260602T163000@VHSWIENER NEUSTADT
SUMMARY:FRANZÖSISCH II/05 - LEICHT FORTGESCHRITTEN - A2 (S265430601) 
LOCATION:Volksschule Baumkirchnerring; Raum 2, Baumkirchnerring 18, 2700 Wiener Neustadt
END:VEVENT
BEGIN:VEVENT
DTSTAMP:20260425T134206
DTSTART;TZID=Europe/Berlin:20260609T163000
DTEND;TZID=Europe/Berlin:20260609T180000
UID:S265430601-20260609T163000@VHSWIENER NEUSTADT
SUMMARY:FRANZÖSISCH II/05 - LEICHT FORTGESCHRITTEN - A2 (S265430601) 
LOCATION:Volksschule Baumkirchnerring; Raum 2, Baumkirchnerring 18, 2700 Wiener Neustadt
END:VEVENT
END:VCALENDAR