BEGIN:VCALENDAR
VERSION:2.0
PRODID:https://www.kufer.de/kuferweb / DE
METHOD:PUBLISH
CALSCALE:GREGORIAN
X-WR-TIMEZONE:Europe/Berlin
BEGIN:VTIMEZONE
TZID:Europe/Berlin
X-LIC-LOCATION:Europe/Berlin
BEGIN:DAYLIGHT
TZOFFSETFROM:+0100
TZOFFSETTO:+0200
TZNAME:CEST
DTSTART:19700329T020000
RRULE:FREQ=YEARLY;INTERVAL=1;BYDAY=-1SU;BYMONTH=3
END:DAYLIGHT
BEGIN:STANDARD
TZOFFSETFROM:+0200
TZOFFSETTO:+0100
TZNAME:CET
DTSTART:19701025T030000
RRULE:FREQ=YEARLY;INTERVAL=1;BYDAY=-1SU;BYMONTH=10
END:STANDARD
END:VTIMEZONE
BEGIN:VEVENT
DTSTAMP:20260425T133240
DTSTART;TZID=Europe/Berlin:20260225T163000
DTEND;TZID=Europe/Berlin:20260225T180000
UID:S265430201-20260225T163000@VHSWIENER NEUSTADT
SUMMARY:FRANZÖSISCH I/01 - ANFÄNGER:INNEN FORTSETZUNG - A1 (S265430201) 
LOCATION:Volksschule Baumkirchnerring; Raum 1, Baumkirchnerring 18, 2700 Wiener Neustadt
END:VEVENT
BEGIN:VEVENT
DTSTAMP:20260425T133240
DTSTART;TZID=Europe/Berlin:20260304T163000
DTEND;TZID=Europe/Berlin:20260304T180000
UID:S265430201-20260304T163000@VHSWIENER NEUSTADT
SUMMARY:FRANZÖSISCH I/01 - ANFÄNGER:INNEN FORTSETZUNG - A1 (S265430201) 
LOCATION:Volksschule Baumkirchnerring; Raum 1, Baumkirchnerring 18, 2700 Wiener Neustadt
END:VEVENT
BEGIN:VEVENT
DTSTAMP:20260425T133240
DTSTART;TZID=Europe/Berlin:20260311T163000
DTEND;TZID=Europe/Berlin:20260311T180000
UID:S265430201-20260311T163000@VHSWIENER NEUSTADT
SUMMARY:FRANZÖSISCH I/01 - ANFÄNGER:INNEN FORTSETZUNG - A1 (S265430201) 
LOCATION:Volksschule Baumkirchnerring; Raum 1, Baumkirchnerring 18, 2700 Wiener Neustadt
END:VEVENT
BEGIN:VEVENT
DTSTAMP:20260425T133240
DTSTART;TZID=Europe/Berlin:20260318T163000
DTEND;TZID=Europe/Berlin:20260318T180000
UID:S265430201-20260318T163000@VHSWIENER NEUSTADT
SUMMARY:FRANZÖSISCH I/01 - ANFÄNGER:INNEN FORTSETZUNG - A1 (S265430201) 
LOCATION:Volksschule Baumkirchnerring; Raum 1, Baumkirchnerring 18, 2700 Wiener Neustadt
END:VEVENT
BEGIN:VEVENT
DTSTAMP:20260425T133240
DTSTART;TZID=Europe/Berlin:20260325T163000
DTEND;TZID=Europe/Berlin:20260325T180000
UID:S265430201-20260325T163000@VHSWIENER NEUSTADT
SUMMARY:FRANZÖSISCH I/01 - ANFÄNGER:INNEN FORTSETZUNG - A1 (S265430201) 
LOCATION:Volksschule Baumkirchnerring; Raum 1, Baumkirchnerring 18, 2700 Wiener Neustadt
END:VEVENT
BEGIN:VEVENT
DTSTAMP:20260425T133240
DTSTART;TZID=Europe/Berlin:20260408T163000
DTEND;TZID=Europe/Berlin:20260408T180000
UID:S265430201-20260408T163000@VHSWIENER NEUSTADT
SUMMARY:FRANZÖSISCH I/01 - ANFÄNGER:INNEN FORTSETZUNG - A1 (S265430201) 
LOCATION:Volksschule Baumkirchnerring; Raum 1, Baumkirchnerring 18, 2700 Wiener Neustadt
END:VEVENT
BEGIN:VEVENT
DTSTAMP:20260425T133240
DTSTART;TZID=Europe/Berlin:20260415T163000
DTEND;TZID=Europe/Berlin:20260415T180000
UID:S265430201-20260415T163000@VHSWIENER NEUSTADT
SUMMARY:FRANZÖSISCH I/01 - ANFÄNGER:INNEN FORTSETZUNG - A1 (S265430201) 
LOCATION:Volksschule Baumkirchnerring; Raum 1, Baumkirchnerring 18, 2700 Wiener Neustadt
END:VEVENT
BEGIN:VEVENT
DTSTAMP:20260425T133240
DTSTART;TZID=Europe/Berlin:20260422T163000
DTEND;TZID=Europe/Berlin:20260422T180000
UID:S265430201-20260422T163000@VHSWIENER NEUSTADT
SUMMARY:FRANZÖSISCH I/01 - ANFÄNGER:INNEN FORTSETZUNG - A1 (S265430201) 
LOCATION:Volksschule Baumkirchnerring; Raum 1, Baumkirchnerring 18, 2700 Wiener Neustadt
END:VEVENT
BEGIN:VEVENT
DTSTAMP:20260425T133240
DTSTART;TZID=Europe/Berlin:20260506T163000
DTEND;TZID=Europe/Berlin:20260506T180000
UID:S265430201-20260506T163000@VHSWIENER NEUSTADT
SUMMARY:FRANZÖSISCH I/01 - ANFÄNGER:INNEN FORTSETZUNG - A1 (S265430201) 
LOCATION:Volksschule Baumkirchnerring; Raum 1, Baumkirchnerring 18, 2700 Wiener Neustadt
END:VEVENT
BEGIN:VEVENT
DTSTAMP:20260425T133240
DTSTART;TZID=Europe/Berlin:20260513T163000
DTEND;TZID=Europe/Berlin:20260513T180000
UID:S265430201-20260513T163000@VHSWIENER NEUSTADT
SUMMARY:FRANZÖSISCH I/01 - ANFÄNGER:INNEN FORTSETZUNG - A1 (S265430201) 
LOCATION:Volksschule Baumkirchnerring; Raum 1, Baumkirchnerring 18, 2700 Wiener Neustadt
END:VEVENT
BEGIN:VEVENT
DTSTAMP:20260425T133240
DTSTART;TZID=Europe/Berlin:20260520T163000
DTEND;TZID=Europe/Berlin:20260520T180000
UID:S265430201-20260520T163000@VHSWIENER NEUSTADT
SUMMARY:FRANZÖSISCH I/01 - ANFÄNGER:INNEN FORTSETZUNG - A1 (S265430201) 
LOCATION:Volksschule Baumkirchnerring; Raum 1, Baumkirchnerring 18, 2700 Wiener Neustadt
END:VEVENT
BEGIN:VEVENT
DTSTAMP:20260425T133240
DTSTART;TZID=Europe/Berlin:20260527T163000
DTEND;TZID=Europe/Berlin:20260527T180000
UID:S265430201-20260527T163000@VHSWIENER NEUSTADT
SUMMARY:FRANZÖSISCH I/01 - ANFÄNGER:INNEN FORTSETZUNG - A1 (S265430201) 
LOCATION:Volksschule Baumkirchnerring; Raum 1, Baumkirchnerring 18, 2700 Wiener Neustadt
END:VEVENT
BEGIN:VEVENT
DTSTAMP:20260425T133240
DTSTART;TZID=Europe/Berlin:20260603T163000
DTEND;TZID=Europe/Berlin:20260603T180000
UID:S265430201-20260603T163000@VHSWIENER NEUSTADT
SUMMARY:FRANZÖSISCH I/01 - ANFÄNGER:INNEN FORTSETZUNG - A1 (S265430201) 
LOCATION:Volksschule Baumkirchnerring; Raum 1, Baumkirchnerring 18, 2700 Wiener Neustadt
END:VEVENT
BEGIN:VEVENT
DTSTAMP:20260425T133240
DTSTART;TZID=Europe/Berlin:20260610T163000
DTEND;TZID=Europe/Berlin:20260610T180000
UID:S265430201-20260610T163000@VHSWIENER NEUSTADT
SUMMARY:FRANZÖSISCH I/01 - ANFÄNGER:INNEN FORTSETZUNG - A1 (S265430201) 
LOCATION:Volksschule Baumkirchnerring; Raum 1, Baumkirchnerring 18, 2700 Wiener Neustadt
END:VEVENT
BEGIN:VEVENT
DTSTAMP:20260425T133240
DTSTART;TZID=Europe/Berlin:20260617T163000
DTEND;TZID=Europe/Berlin:20260617T180000
UID:S265430201-20260617T163000@VHSWIENER NEUSTADT
DESCRIPTION:ET f. 29.04. - KL verhindert
SUMMARY:FRANZÖSISCH I/01 - ANFÄNGER:INNEN FORTSETZUNG - A1 (S265430201) 
LOCATION:Volksschule Baumkirchnerring; Raum 1, Baumkirchnerring 18, 2700 Wiener Neustadt
END:VEVENT
END:VCALENDAR