BEGIN:VCALENDAR
VERSION:2.0
PRODID:https://www.kufer.de/kuferweb / DE
METHOD:PUBLISH
CALSCALE:GREGORIAN
X-WR-TIMEZONE:Europe/Berlin
BEGIN:VTIMEZONE
TZID:Europe/Berlin
X-LIC-LOCATION:Europe/Berlin
BEGIN:DAYLIGHT
TZOFFSETFROM:+0100
TZOFFSETTO:+0200
TZNAME:CEST
DTSTART:19700329T020000
RRULE:FREQ=YEARLY;INTERVAL=1;BYDAY=-1SU;BYMONTH=3
END:DAYLIGHT
BEGIN:STANDARD
TZOFFSETFROM:+0200
TZOFFSETTO:+0100
TZNAME:CET
DTSTART:19701025T030000
RRULE:FREQ=YEARLY;INTERVAL=1;BYDAY=-1SU;BYMONTH=10
END:STANDARD
END:VTIMEZONE
BEGIN:VEVENT
DTSTAMP:20260425T133239
DTSTART;TZID=Europe/Berlin:20260226T133000
DTEND;TZID=Europe/Berlin:20260226T150000
UID:S265420901-20260226T133000@VHSWIENER NEUSTADT
SUMMARY:ENGLISCH III/01- FORTGESCHRITTEN - B1 (S265420901) 
LOCATION:Volksschule Baumkirchnerring; Raum 3, Baumkirchnerring 18, 2700 Wiener Neustadt
END:VEVENT
BEGIN:VEVENT
DTSTAMP:20260425T133239
DTSTART;TZID=Europe/Berlin:20260312T133000
DTEND;TZID=Europe/Berlin:20260312T150000
UID:S265420901-20260312T133000@VHSWIENER NEUSTADT
SUMMARY:ENGLISCH III/01- FORTGESCHRITTEN - B1 (S265420901) 
LOCATION:Volksschule Baumkirchnerring; Raum 3, Baumkirchnerring 18, 2700 Wiener Neustadt
END:VEVENT
BEGIN:VEVENT
DTSTAMP:20260425T133239
DTSTART;TZID=Europe/Berlin:20260319T133000
DTEND;TZID=Europe/Berlin:20260319T150000
UID:S265420901-20260319T133000@VHSWIENER NEUSTADT
SUMMARY:ENGLISCH III/01- FORTGESCHRITTEN - B1 (S265420901) 
LOCATION:Volksschule Baumkirchnerring; Raum 3, Baumkirchnerring 18, 2700 Wiener Neustadt
END:VEVENT
BEGIN:VEVENT
DTSTAMP:20260425T133239
DTSTART;TZID=Europe/Berlin:20260326T133000
DTEND;TZID=Europe/Berlin:20260326T150000
UID:S265420901-20260326T133000@VHSWIENER NEUSTADT
SUMMARY:ENGLISCH III/01- FORTGESCHRITTEN - B1 (S265420901) 
LOCATION:Volksschule Baumkirchnerring; Raum 3, Baumkirchnerring 18, 2700 Wiener Neustadt
END:VEVENT
BEGIN:VEVENT
DTSTAMP:20260425T133239
DTSTART;TZID=Europe/Berlin:20260409T133000
DTEND;TZID=Europe/Berlin:20260409T150000
UID:S265420901-20260409T133000@VHSWIENER NEUSTADT
SUMMARY:ENGLISCH III/01- FORTGESCHRITTEN - B1 (S265420901) 
LOCATION:Volksschule Baumkirchnerring; Raum 3, Baumkirchnerring 18, 2700 Wiener Neustadt
END:VEVENT
BEGIN:VEVENT
DTSTAMP:20260425T133239
DTSTART;TZID=Europe/Berlin:20260416T133000
DTEND;TZID=Europe/Berlin:20260416T150000
UID:S265420901-20260416T133000@VHSWIENER NEUSTADT
SUMMARY:ENGLISCH III/01- FORTGESCHRITTEN - B1 (S265420901) 
LOCATION:Volksschule Baumkirchnerring; Raum 3, Baumkirchnerring 18, 2700 Wiener Neustadt
END:VEVENT
BEGIN:VEVENT
DTSTAMP:20260425T133239
DTSTART;TZID=Europe/Berlin:20260423T133000
DTEND;TZID=Europe/Berlin:20260423T150000
UID:S265420901-20260423T133000@VHSWIENER NEUSTADT
SUMMARY:ENGLISCH III/01- FORTGESCHRITTEN - B1 (S265420901) 
LOCATION:Volksschule Baumkirchnerring; Raum 3, Baumkirchnerring 18, 2700 Wiener Neustadt
END:VEVENT
BEGIN:VEVENT
DTSTAMP:20260425T133239
DTSTART;TZID=Europe/Berlin:20260430T133000
DTEND;TZID=Europe/Berlin:20260430T150000
UID:S265420901-20260430T133000@VHSWIENER NEUSTADT
SUMMARY:ENGLISCH III/01- FORTGESCHRITTEN - B1 (S265420901) 
LOCATION:Volksschule Baumkirchnerring; Raum 3, Baumkirchnerring 18, 2700 Wiener Neustadt
END:VEVENT
BEGIN:VEVENT
DTSTAMP:20260425T133239
DTSTART;TZID=Europe/Berlin:20260507T133000
DTEND;TZID=Europe/Berlin:20260507T150000
UID:S265420901-20260507T133000@VHSWIENER NEUSTADT
SUMMARY:ENGLISCH III/01- FORTGESCHRITTEN - B1 (S265420901) 
LOCATION:Volksschule Baumkirchnerring; Raum 3, Baumkirchnerring 18, 2700 Wiener Neustadt
END:VEVENT
BEGIN:VEVENT
DTSTAMP:20260425T133239
DTSTART;TZID=Europe/Berlin:20260521T133000
DTEND;TZID=Europe/Berlin:20260521T150000
UID:S265420901-20260521T133000@VHSWIENER NEUSTADT
SUMMARY:ENGLISCH III/01- FORTGESCHRITTEN - B1 (S265420901) 
LOCATION:Volksschule Baumkirchnerring; Raum 3, Baumkirchnerring 18, 2700 Wiener Neustadt
END:VEVENT
BEGIN:VEVENT
DTSTAMP:20260425T133239
DTSTART;TZID=Europe/Berlin:20260528T133000
DTEND;TZID=Europe/Berlin:20260528T150000
UID:S265420901-20260528T133000@VHSWIENER NEUSTADT
SUMMARY:ENGLISCH III/01- FORTGESCHRITTEN - B1 (S265420901) 
LOCATION:Volksschule Baumkirchnerring; Raum 3, Baumkirchnerring 18, 2700 Wiener Neustadt
END:VEVENT
BEGIN:VEVENT
DTSTAMP:20260425T133239
DTSTART;TZID=Europe/Berlin:20260611T133000
DTEND;TZID=Europe/Berlin:20260611T150000
UID:S265420901-20260611T133000@VHSWIENER NEUSTADT
SUMMARY:ENGLISCH III/01- FORTGESCHRITTEN - B1 (S265420901) 
LOCATION:Volksschule Baumkirchnerring; Raum 3, Baumkirchnerring 18, 2700 Wiener Neustadt
END:VEVENT
BEGIN:VEVENT
DTSTAMP:20260425T133239
DTSTART;TZID=Europe/Berlin:20260618T133000
DTEND;TZID=Europe/Berlin:20260618T150000
UID:S265420901-20260618T133000@VHSWIENER NEUSTADT
DESCRIPTION:ET 05.03. - KL krank
SUMMARY:ENGLISCH III/01- FORTGESCHRITTEN - B1 (S265420901) 
LOCATION:Volksschule Baumkirchnerring; Raum 3, Baumkirchnerring 18, 2700 Wiener Neustadt
END:VEVENT
END:VCALENDAR