BEGIN:VCALENDAR
VERSION:2.0
PRODID:https://www.kufer.de/kuferweb / DE
METHOD:PUBLISH
CALSCALE:GREGORIAN
X-WR-TIMEZONE:Europe/Berlin
BEGIN:VTIMEZONE
TZID:Europe/Berlin
X-LIC-LOCATION:Europe/Berlin
BEGIN:DAYLIGHT
TZOFFSETFROM:+0100
TZOFFSETTO:+0200
TZNAME:CEST
DTSTART:19700329T020000
RRULE:FREQ=YEARLY;INTERVAL=1;BYDAY=-1SU;BYMONTH=3
END:DAYLIGHT
BEGIN:STANDARD
TZOFFSETFROM:+0200
TZOFFSETTO:+0100
TZNAME:CET
DTSTART:19701025T030000
RRULE:FREQ=YEARLY;INTERVAL=1;BYDAY=-1SU;BYMONTH=10
END:STANDARD
END:VTIMEZONE
BEGIN:VEVENT
DTSTAMP:20260425T163911
DTSTART;TZID=Europe/Berlin:20260706T170000
DTEND;TZID=Europe/Berlin:20260706T190000
UID:S265419903-20260706T170000@VHSWIENER NEUSTADT
SUMMARY:DEUTSCH ALS FREMDSPRACHE - FORTGESCHRITTENE - INTENSIVKURS B1 (S265419903) 
LOCATION:Volksschule Baumkirchnerring; Raum 1, Baumkirchnerring 18, 2700 Wiener Neustadt
END:VEVENT
BEGIN:VEVENT
DTSTAMP:20260425T163911
DTSTART;TZID=Europe/Berlin:20260707T170000
DTEND;TZID=Europe/Berlin:20260707T190000
UID:S265419903-20260707T170000@VHSWIENER NEUSTADT
SUMMARY:DEUTSCH ALS FREMDSPRACHE - FORTGESCHRITTENE - INTENSIVKURS B1 (S265419903) 
LOCATION:Volksschule Baumkirchnerring; Raum 1, Baumkirchnerring 18, 2700 Wiener Neustadt
END:VEVENT
BEGIN:VEVENT
DTSTAMP:20260425T163911
DTSTART;TZID=Europe/Berlin:20260708T170000
DTEND;TZID=Europe/Berlin:20260708T190000
UID:S265419903-20260708T170000@VHSWIENER NEUSTADT
SUMMARY:DEUTSCH ALS FREMDSPRACHE - FORTGESCHRITTENE - INTENSIVKURS B1 (S265419903) 
LOCATION:Volksschule Baumkirchnerring; Raum 1, Baumkirchnerring 18, 2700 Wiener Neustadt
END:VEVENT
BEGIN:VEVENT
DTSTAMP:20260425T163911
DTSTART;TZID=Europe/Berlin:20260709T170000
DTEND;TZID=Europe/Berlin:20260709T190000
UID:S265419903-20260709T170000@VHSWIENER NEUSTADT
SUMMARY:DEUTSCH ALS FREMDSPRACHE - FORTGESCHRITTENE - INTENSIVKURS B1 (S265419903) 
LOCATION:Volksschule Baumkirchnerring; Raum 1, Baumkirchnerring 18, 2700 Wiener Neustadt
END:VEVENT
BEGIN:VEVENT
DTSTAMP:20260425T163911
DTSTART;TZID=Europe/Berlin:20260710T170000
DTEND;TZID=Europe/Berlin:20260710T190000
UID:S265419903-20260710T170000@VHSWIENER NEUSTADT
SUMMARY:DEUTSCH ALS FREMDSPRACHE - FORTGESCHRITTENE - INTENSIVKURS B1 (S265419903) 
LOCATION:Volksschule Baumkirchnerring; Raum 1, Baumkirchnerring 18, 2700 Wiener Neustadt
END:VEVENT
BEGIN:VEVENT
DTSTAMP:20260425T163911
DTSTART;TZID=Europe/Berlin:20260713T170000
DTEND;TZID=Europe/Berlin:20260713T190000
UID:S265419903-20260713T170000@VHSWIENER NEUSTADT
SUMMARY:DEUTSCH ALS FREMDSPRACHE - FORTGESCHRITTENE - INTENSIVKURS B1 (S265419903) 
LOCATION:Volksschule Baumkirchnerring; Raum 1, Baumkirchnerring 18, 2700 Wiener Neustadt
END:VEVENT
BEGIN:VEVENT
DTSTAMP:20260425T163911
DTSTART;TZID=Europe/Berlin:20260714T170000
DTEND;TZID=Europe/Berlin:20260714T190000
UID:S265419903-20260714T170000@VHSWIENER NEUSTADT
SUMMARY:DEUTSCH ALS FREMDSPRACHE - FORTGESCHRITTENE - INTENSIVKURS B1 (S265419903) 
LOCATION:Volksschule Baumkirchnerring; Raum 1, Baumkirchnerring 18, 2700 Wiener Neustadt
END:VEVENT
BEGIN:VEVENT
DTSTAMP:20260425T163911
DTSTART;TZID=Europe/Berlin:20260715T170000
DTEND;TZID=Europe/Berlin:20260715T190000
UID:S265419903-20260715T170000@VHSWIENER NEUSTADT
SUMMARY:DEUTSCH ALS FREMDSPRACHE - FORTGESCHRITTENE - INTENSIVKURS B1 (S265419903) 
LOCATION:Volksschule Baumkirchnerring; Raum 1, Baumkirchnerring 18, 2700 Wiener Neustadt
END:VEVENT
BEGIN:VEVENT
DTSTAMP:20260425T163911
DTSTART;TZID=Europe/Berlin:20260716T170000
DTEND;TZID=Europe/Berlin:20260716T190000
UID:S265419903-20260716T170000@VHSWIENER NEUSTADT
SUMMARY:DEUTSCH ALS FREMDSPRACHE - FORTGESCHRITTENE - INTENSIVKURS B1 (S265419903) 
LOCATION:Volksschule Baumkirchnerring; Raum 1, Baumkirchnerring 18, 2700 Wiener Neustadt
END:VEVENT
BEGIN:VEVENT
DTSTAMP:20260425T163911
DTSTART;TZID=Europe/Berlin:20260717T170000
DTEND;TZID=Europe/Berlin:20260717T190000
UID:S265419903-20260717T170000@VHSWIENER NEUSTADT
SUMMARY:DEUTSCH ALS FREMDSPRACHE - FORTGESCHRITTENE - INTENSIVKURS B1 (S265419903) 
LOCATION:Volksschule Baumkirchnerring; Raum 1, Baumkirchnerring 18, 2700 Wiener Neustadt
END:VEVENT
BEGIN:VEVENT
DTSTAMP:20260425T163911
DTSTART;TZID=Europe/Berlin:20260720T170000
DTEND;TZID=Europe/Berlin:20260720T190000
UID:S265419903-20260720T170000@VHSWIENER NEUSTADT
SUMMARY:DEUTSCH ALS FREMDSPRACHE - FORTGESCHRITTENE - INTENSIVKURS B1 (S265419903) 
LOCATION:Volksschule Baumkirchnerring; Raum 1, Baumkirchnerring 18, 2700 Wiener Neustadt
END:VEVENT
BEGIN:VEVENT
DTSTAMP:20260425T163911
DTSTART;TZID=Europe/Berlin:20260721T170000
DTEND;TZID=Europe/Berlin:20260721T190000
UID:S265419903-20260721T170000@VHSWIENER NEUSTADT
SUMMARY:DEUTSCH ALS FREMDSPRACHE - FORTGESCHRITTENE - INTENSIVKURS B1 (S265419903) 
LOCATION:Volksschule Baumkirchnerring; Raum 1, Baumkirchnerring 18, 2700 Wiener Neustadt
END:VEVENT
BEGIN:VEVENT
DTSTAMP:20260425T163911
DTSTART;TZID=Europe/Berlin:20260722T170000
DTEND;TZID=Europe/Berlin:20260722T190000
UID:S265419903-20260722T170000@VHSWIENER NEUSTADT
SUMMARY:DEUTSCH ALS FREMDSPRACHE - FORTGESCHRITTENE - INTENSIVKURS B1 (S265419903) 
LOCATION:Volksschule Baumkirchnerring; Raum 1, Baumkirchnerring 18, 2700 Wiener Neustadt
END:VEVENT
BEGIN:VEVENT
DTSTAMP:20260425T163911
DTSTART;TZID=Europe/Berlin:20260723T170000
DTEND;TZID=Europe/Berlin:20260723T190000
UID:S265419903-20260723T170000@VHSWIENER NEUSTADT
SUMMARY:DEUTSCH ALS FREMDSPRACHE - FORTGESCHRITTENE - INTENSIVKURS B1 (S265419903) 
LOCATION:Volksschule Baumkirchnerring; Raum 1, Baumkirchnerring 18, 2700 Wiener Neustadt
END:VEVENT
BEGIN:VEVENT
DTSTAMP:20260425T163911
DTSTART;TZID=Europe/Berlin:20260724T170000
DTEND;TZID=Europe/Berlin:20260724T190000
UID:S265419903-20260724T170000@VHSWIENER NEUSTADT
SUMMARY:DEUTSCH ALS FREMDSPRACHE - FORTGESCHRITTENE - INTENSIVKURS B1 (S265419903) 
LOCATION:Volksschule Baumkirchnerring; Raum 1, Baumkirchnerring 18, 2700 Wiener Neustadt
END:VEVENT
END:VCALENDAR