BEGIN:VCALENDAR
VERSION:2.0
PRODID:https://www.kufer.de/kuferweb / DE
METHOD:PUBLISH
CALSCALE:GREGORIAN
X-WR-TIMEZONE:Europe/Berlin
BEGIN:VTIMEZONE
TZID:Europe/Berlin
X-LIC-LOCATION:Europe/Berlin
BEGIN:DAYLIGHT
TZOFFSETFROM:+0100
TZOFFSETTO:+0200
TZNAME:CEST
DTSTART:19700329T020000
RRULE:FREQ=YEARLY;INTERVAL=1;BYDAY=-1SU;BYMONTH=3
END:DAYLIGHT
BEGIN:STANDARD
TZOFFSETFROM:+0200
TZOFFSETTO:+0100
TZNAME:CET
DTSTART:19701025T030000
RRULE:FREQ=YEARLY;INTERVAL=1;BYDAY=-1SU;BYMONTH=10
END:STANDARD
END:VTIMEZONE
BEGIN:VEVENT
DTSTAMP:20260425T164155
DTSTART;TZID=Europe/Berlin:20260706T101500
DTEND;TZID=Europe/Berlin:20260706T121500
UID:S265419902-20260706T101500@VHSWIENER NEUSTADT
SUMMARY:DEUTSCH ALS FREMDSPRACHE - LEICHT FORTGESCHRITTENE - INTENSIVKURS - A2 (S265419902) 
LOCATION:Volksschule Baumkirchnerring; Raum 1, Baumkirchnerring 18, 2700 Wiener Neustadt
END:VEVENT
BEGIN:VEVENT
DTSTAMP:20260425T164155
DTSTART;TZID=Europe/Berlin:20260707T101500
DTEND;TZID=Europe/Berlin:20260707T121500
UID:S265419902-20260707T101500@VHSWIENER NEUSTADT
SUMMARY:DEUTSCH ALS FREMDSPRACHE - LEICHT FORTGESCHRITTENE - INTENSIVKURS - A2 (S265419902) 
LOCATION:Volksschule Baumkirchnerring; Raum 1, Baumkirchnerring 18, 2700 Wiener Neustadt
END:VEVENT
BEGIN:VEVENT
DTSTAMP:20260425T164155
DTSTART;TZID=Europe/Berlin:20260708T101500
DTEND;TZID=Europe/Berlin:20260708T121500
UID:S265419902-20260708T101500@VHSWIENER NEUSTADT
SUMMARY:DEUTSCH ALS FREMDSPRACHE - LEICHT FORTGESCHRITTENE - INTENSIVKURS - A2 (S265419902) 
LOCATION:Volksschule Baumkirchnerring; Raum 1, Baumkirchnerring 18, 2700 Wiener Neustadt
END:VEVENT
BEGIN:VEVENT
DTSTAMP:20260425T164155
DTSTART;TZID=Europe/Berlin:20260709T101500
DTEND;TZID=Europe/Berlin:20260709T121500
UID:S265419902-20260709T101500@VHSWIENER NEUSTADT
SUMMARY:DEUTSCH ALS FREMDSPRACHE - LEICHT FORTGESCHRITTENE - INTENSIVKURS - A2 (S265419902) 
LOCATION:Volksschule Baumkirchnerring; Raum 1, Baumkirchnerring 18, 2700 Wiener Neustadt
END:VEVENT
BEGIN:VEVENT
DTSTAMP:20260425T164155
DTSTART;TZID=Europe/Berlin:20260710T101500
DTEND;TZID=Europe/Berlin:20260710T121500
UID:S265419902-20260710T101500@VHSWIENER NEUSTADT
SUMMARY:DEUTSCH ALS FREMDSPRACHE - LEICHT FORTGESCHRITTENE - INTENSIVKURS - A2 (S265419902) 
LOCATION:Volksschule Baumkirchnerring; Raum 1, Baumkirchnerring 18, 2700 Wiener Neustadt
END:VEVENT
BEGIN:VEVENT
DTSTAMP:20260425T164155
DTSTART;TZID=Europe/Berlin:20260713T101500
DTEND;TZID=Europe/Berlin:20260713T121500
UID:S265419902-20260713T101500@VHSWIENER NEUSTADT
SUMMARY:DEUTSCH ALS FREMDSPRACHE - LEICHT FORTGESCHRITTENE - INTENSIVKURS - A2 (S265419902) 
LOCATION:Volksschule Baumkirchnerring; Raum 1, Baumkirchnerring 18, 2700 Wiener Neustadt
END:VEVENT
BEGIN:VEVENT
DTSTAMP:20260425T164155
DTSTART;TZID=Europe/Berlin:20260714T101500
DTEND;TZID=Europe/Berlin:20260714T121500
UID:S265419902-20260714T101500@VHSWIENER NEUSTADT
SUMMARY:DEUTSCH ALS FREMDSPRACHE - LEICHT FORTGESCHRITTENE - INTENSIVKURS - A2 (S265419902) 
LOCATION:Volksschule Baumkirchnerring; Raum 1, Baumkirchnerring 18, 2700 Wiener Neustadt
END:VEVENT
BEGIN:VEVENT
DTSTAMP:20260425T164155
DTSTART;TZID=Europe/Berlin:20260715T101500
DTEND;TZID=Europe/Berlin:20260715T121500
UID:S265419902-20260715T101500@VHSWIENER NEUSTADT
SUMMARY:DEUTSCH ALS FREMDSPRACHE - LEICHT FORTGESCHRITTENE - INTENSIVKURS - A2 (S265419902) 
LOCATION:Volksschule Baumkirchnerring; Raum 1, Baumkirchnerring 18, 2700 Wiener Neustadt
END:VEVENT
BEGIN:VEVENT
DTSTAMP:20260425T164155
DTSTART;TZID=Europe/Berlin:20260716T101500
DTEND;TZID=Europe/Berlin:20260716T121500
UID:S265419902-20260716T101500@VHSWIENER NEUSTADT
SUMMARY:DEUTSCH ALS FREMDSPRACHE - LEICHT FORTGESCHRITTENE - INTENSIVKURS - A2 (S265419902) 
LOCATION:Volksschule Baumkirchnerring; Raum 1, Baumkirchnerring 18, 2700 Wiener Neustadt
END:VEVENT
BEGIN:VEVENT
DTSTAMP:20260425T164155
DTSTART;TZID=Europe/Berlin:20260717T101500
DTEND;TZID=Europe/Berlin:20260717T121500
UID:S265419902-20260717T101500@VHSWIENER NEUSTADT
SUMMARY:DEUTSCH ALS FREMDSPRACHE - LEICHT FORTGESCHRITTENE - INTENSIVKURS - A2 (S265419902) 
LOCATION:Volksschule Baumkirchnerring; Raum 1, Baumkirchnerring 18, 2700 Wiener Neustadt
END:VEVENT
BEGIN:VEVENT
DTSTAMP:20260425T164155
DTSTART;TZID=Europe/Berlin:20260720T101500
DTEND;TZID=Europe/Berlin:20260720T121500
UID:S265419902-20260720T101500@VHSWIENER NEUSTADT
SUMMARY:DEUTSCH ALS FREMDSPRACHE - LEICHT FORTGESCHRITTENE - INTENSIVKURS - A2 (S265419902) 
LOCATION:Volksschule Baumkirchnerring; Raum 1, Baumkirchnerring 18, 2700 Wiener Neustadt
END:VEVENT
BEGIN:VEVENT
DTSTAMP:20260425T164155
DTSTART;TZID=Europe/Berlin:20260721T101500
DTEND;TZID=Europe/Berlin:20260721T121500
UID:S265419902-20260721T101500@VHSWIENER NEUSTADT
SUMMARY:DEUTSCH ALS FREMDSPRACHE - LEICHT FORTGESCHRITTENE - INTENSIVKURS - A2 (S265419902) 
LOCATION:Volksschule Baumkirchnerring; Raum 1, Baumkirchnerring 18, 2700 Wiener Neustadt
END:VEVENT
BEGIN:VEVENT
DTSTAMP:20260425T164155
DTSTART;TZID=Europe/Berlin:20260722T101500
DTEND;TZID=Europe/Berlin:20260722T121500
UID:S265419902-20260722T101500@VHSWIENER NEUSTADT
SUMMARY:DEUTSCH ALS FREMDSPRACHE - LEICHT FORTGESCHRITTENE - INTENSIVKURS - A2 (S265419902) 
LOCATION:Volksschule Baumkirchnerring; Raum 1, Baumkirchnerring 18, 2700 Wiener Neustadt
END:VEVENT
BEGIN:VEVENT
DTSTAMP:20260425T164155
DTSTART;TZID=Europe/Berlin:20260723T101500
DTEND;TZID=Europe/Berlin:20260723T121500
UID:S265419902-20260723T101500@VHSWIENER NEUSTADT
SUMMARY:DEUTSCH ALS FREMDSPRACHE - LEICHT FORTGESCHRITTENE - INTENSIVKURS - A2 (S265419902) 
LOCATION:Volksschule Baumkirchnerring; Raum 1, Baumkirchnerring 18, 2700 Wiener Neustadt
END:VEVENT
BEGIN:VEVENT
DTSTAMP:20260425T164155
DTSTART;TZID=Europe/Berlin:20260724T101500
DTEND;TZID=Europe/Berlin:20260724T121500
UID:S265419902-20260724T101500@VHSWIENER NEUSTADT
SUMMARY:DEUTSCH ALS FREMDSPRACHE - LEICHT FORTGESCHRITTENE - INTENSIVKURS - A2 (S265419902) 
LOCATION:Volksschule Baumkirchnerring; Raum 1, Baumkirchnerring 18, 2700 Wiener Neustadt
END:VEVENT
END:VCALENDAR