BEGIN:VCALENDAR
VERSION:2.0
PRODID:https://www.kufer.de/kuferweb / DE
METHOD:PUBLISH
CALSCALE:GREGORIAN
X-WR-TIMEZONE:Europe/Berlin
BEGIN:VTIMEZONE
TZID:Europe/Berlin
X-LIC-LOCATION:Europe/Berlin
BEGIN:DAYLIGHT
TZOFFSETFROM:+0100
TZOFFSETTO:+0200
TZNAME:CEST
DTSTART:19700329T020000
RRULE:FREQ=YEARLY;INTERVAL=1;BYDAY=-1SU;BYMONTH=3
END:DAYLIGHT
BEGIN:STANDARD
TZOFFSETFROM:+0200
TZOFFSETTO:+0100
TZNAME:CET
DTSTART:19701025T030000
RRULE:FREQ=YEARLY;INTERVAL=1;BYDAY=-1SU;BYMONTH=10
END:STANDARD
END:VTIMEZONE
BEGIN:VEVENT
DTSTAMP:20260425T163911
DTSTART;TZID=Europe/Berlin:20260414T174500
DTEND;TZID=Europe/Berlin:20260414T194500
UID:S265410701-20260414T174500@VHSWIENER NEUSTADT
SUMMARY:DEUTSCH ALS FREMDSPRACHE - AUFBAUKURS FÜR B2 - GRAMMATIK & RECHTSCHREIBUNG (S265410701) 
LOCATION:HLW Raum 002; EG links, Burgplatz 1 , 2700 Wiener Neustadt
END:VEVENT
BEGIN:VEVENT
DTSTAMP:20260425T163911
DTSTART;TZID=Europe/Berlin:20260421T174500
DTEND;TZID=Europe/Berlin:20260421T194500
UID:S265410701-20260421T174500@VHSWIENER NEUSTADT
SUMMARY:DEUTSCH ALS FREMDSPRACHE - AUFBAUKURS FÜR B2 - GRAMMATIK & RECHTSCHREIBUNG (S265410701) 
LOCATION:HLW Raum 002; EG links, Burgplatz 1 , 2700 Wiener Neustadt
END:VEVENT
BEGIN:VEVENT
DTSTAMP:20260425T163911
DTSTART;TZID=Europe/Berlin:20260428T174500
DTEND;TZID=Europe/Berlin:20260428T194500
UID:S265410701-20260428T174500@VHSWIENER NEUSTADT
SUMMARY:DEUTSCH ALS FREMDSPRACHE - AUFBAUKURS FÜR B2 - GRAMMATIK & RECHTSCHREIBUNG (S265410701) 
LOCATION:HLW Raum 002; EG links, Burgplatz 1 , 2700 Wiener Neustadt
END:VEVENT
BEGIN:VEVENT
DTSTAMP:20260425T163911
DTSTART;TZID=Europe/Berlin:20260505T174500
DTEND;TZID=Europe/Berlin:20260505T194500
UID:S265410701-20260505T174500@VHSWIENER NEUSTADT
SUMMARY:DEUTSCH ALS FREMDSPRACHE - AUFBAUKURS FÜR B2 - GRAMMATIK & RECHTSCHREIBUNG (S265410701) 
LOCATION:HLW Raum 002; EG links, Burgplatz 1 , 2700 Wiener Neustadt
END:VEVENT
BEGIN:VEVENT
DTSTAMP:20260425T163911
DTSTART;TZID=Europe/Berlin:20260512T174500
DTEND;TZID=Europe/Berlin:20260512T194500
UID:S265410701-20260512T174500@VHSWIENER NEUSTADT
SUMMARY:DEUTSCH ALS FREMDSPRACHE - AUFBAUKURS FÜR B2 - GRAMMATIK & RECHTSCHREIBUNG (S265410701) 
LOCATION:HLW Raum 002; EG links, Burgplatz 1 , 2700 Wiener Neustadt
END:VEVENT
BEGIN:VEVENT
DTSTAMP:20260425T163911
DTSTART;TZID=Europe/Berlin:20260519T174500
DTEND;TZID=Europe/Berlin:20260519T194500
UID:S265410701-20260519T174500@VHSWIENER NEUSTADT
SUMMARY:DEUTSCH ALS FREMDSPRACHE - AUFBAUKURS FÜR B2 - GRAMMATIK & RECHTSCHREIBUNG (S265410701) 
LOCATION:HLW Raum 002; EG links, Burgplatz 1 , 2700 Wiener Neustadt
END:VEVENT
BEGIN:VEVENT
DTSTAMP:20260425T163911
DTSTART;TZID=Europe/Berlin:20260602T174500
DTEND;TZID=Europe/Berlin:20260602T194500
UID:S265410701-20260602T174500@VHSWIENER NEUSTADT
SUMMARY:DEUTSCH ALS FREMDSPRACHE - AUFBAUKURS FÜR B2 - GRAMMATIK & RECHTSCHREIBUNG (S265410701) 
LOCATION:HLW Raum 002; EG links, Burgplatz 1 , 2700 Wiener Neustadt
END:VEVENT
BEGIN:VEVENT
DTSTAMP:20260425T163911
DTSTART;TZID=Europe/Berlin:20260609T174500
DTEND;TZID=Europe/Berlin:20260609T194500
UID:S265410701-20260609T174500@VHSWIENER NEUSTADT
SUMMARY:DEUTSCH ALS FREMDSPRACHE - AUFBAUKURS FÜR B2 - GRAMMATIK & RECHTSCHREIBUNG (S265410701) 
LOCATION:HLW Raum 002; EG links, Burgplatz 1 , 2700 Wiener Neustadt
END:VEVENT
BEGIN:VEVENT
DTSTAMP:20260425T163911
DTSTART;TZID=Europe/Berlin:20260616T174500
DTEND;TZID=Europe/Berlin:20260616T194500
UID:S265410701-20260616T174500@VHSWIENER NEUSTADT
SUMMARY:DEUTSCH ALS FREMDSPRACHE - AUFBAUKURS FÜR B2 - GRAMMATIK & RECHTSCHREIBUNG (S265410701) 
LOCATION:HLW Raum 002; EG links, Burgplatz 1 , 2700 Wiener Neustadt
END:VEVENT
END:VCALENDAR