BEGIN:VCALENDAR
VERSION:2.0
PRODID:https://www.kufer.de/kuferweb / DE
METHOD:PUBLISH
CALSCALE:GREGORIAN
X-WR-TIMEZONE:Europe/Berlin
BEGIN:VTIMEZONE
TZID:Europe/Berlin
X-LIC-LOCATION:Europe/Berlin
BEGIN:DAYLIGHT
TZOFFSETFROM:+0100
TZOFFSETTO:+0200
TZNAME:CEST
DTSTART:19700329T020000
RRULE:FREQ=YEARLY;INTERVAL=1;BYDAY=-1SU;BYMONTH=3
END:DAYLIGHT
BEGIN:STANDARD
TZOFFSETFROM:+0200
TZOFFSETTO:+0100
TZNAME:CET
DTSTART:19701025T030000
RRULE:FREQ=YEARLY;INTERVAL=1;BYDAY=-1SU;BYMONTH=10
END:STANDARD
END:VTIMEZONE
BEGIN:VEVENT
DTSTAMP:20260425T163152
DTSTART;TZID=Europe/Berlin:20260303T184500
DTEND;TZID=Europe/Berlin:20260303T204500
UID:S265410601-20260303T184500@VHSWIENER NEUSTADT
SUMMARY:DEUTSCH ALS FREMDSPRACHE - B1/TEIL 2 (S265410601) 
LOCATION:Volksschule Baumkirchnerring; Raum 1, Baumkirchnerring 18, 2700 Wiener Neustadt
END:VEVENT
BEGIN:VEVENT
DTSTAMP:20260425T163152
DTSTART;TZID=Europe/Berlin:20260305T184500
DTEND;TZID=Europe/Berlin:20260305T204500
UID:S265410601-20260305T184500@VHSWIENER NEUSTADT
SUMMARY:DEUTSCH ALS FREMDSPRACHE - B1/TEIL 2 (S265410601) 
LOCATION:Volksschule Baumkirchnerring; Raum 1, Baumkirchnerring 18, 2700 Wiener Neustadt
END:VEVENT
BEGIN:VEVENT
DTSTAMP:20260425T163152
DTSTART;TZID=Europe/Berlin:20260310T184500
DTEND;TZID=Europe/Berlin:20260310T204500
UID:S265410601-20260310T184500@VHSWIENER NEUSTADT
SUMMARY:DEUTSCH ALS FREMDSPRACHE - B1/TEIL 2 (S265410601) 
LOCATION:Volksschule Baumkirchnerring; Raum 1, Baumkirchnerring 18, 2700 Wiener Neustadt
END:VEVENT
BEGIN:VEVENT
DTSTAMP:20260425T163152
DTSTART;TZID=Europe/Berlin:20260312T184500
DTEND;TZID=Europe/Berlin:20260312T204500
UID:S265410601-20260312T184500@VHSWIENER NEUSTADT
SUMMARY:DEUTSCH ALS FREMDSPRACHE - B1/TEIL 2 (S265410601) 
LOCATION:Volksschule Baumkirchnerring; Raum 1, Baumkirchnerring 18, 2700 Wiener Neustadt
END:VEVENT
BEGIN:VEVENT
DTSTAMP:20260425T163152
DTSTART;TZID=Europe/Berlin:20260317T184500
DTEND;TZID=Europe/Berlin:20260317T204500
UID:S265410601-20260317T184500@VHSWIENER NEUSTADT
SUMMARY:DEUTSCH ALS FREMDSPRACHE - B1/TEIL 2 (S265410601) 
LOCATION:Volksschule Baumkirchnerring; Raum 1, Baumkirchnerring 18, 2700 Wiener Neustadt
END:VEVENT
BEGIN:VEVENT
DTSTAMP:20260425T163152
DTSTART;TZID=Europe/Berlin:20260319T184500
DTEND;TZID=Europe/Berlin:20260319T204500
UID:S265410601-20260319T184500@VHSWIENER NEUSTADT
SUMMARY:DEUTSCH ALS FREMDSPRACHE - B1/TEIL 2 (S265410601) 
LOCATION:Volksschule Baumkirchnerring; Raum 1, Baumkirchnerring 18, 2700 Wiener Neustadt
END:VEVENT
BEGIN:VEVENT
DTSTAMP:20260425T163152
DTSTART;TZID=Europe/Berlin:20260324T184500
DTEND;TZID=Europe/Berlin:20260324T204500
UID:S265410601-20260324T184500@VHSWIENER NEUSTADT
SUMMARY:DEUTSCH ALS FREMDSPRACHE - B1/TEIL 2 (S265410601) 
LOCATION:Volksschule Baumkirchnerring; Raum 1, Baumkirchnerring 18, 2700 Wiener Neustadt
END:VEVENT
BEGIN:VEVENT
DTSTAMP:20260425T163152
DTSTART;TZID=Europe/Berlin:20260326T184500
DTEND;TZID=Europe/Berlin:20260326T204500
UID:S265410601-20260326T184500@VHSWIENER NEUSTADT
SUMMARY:DEUTSCH ALS FREMDSPRACHE - B1/TEIL 2 (S265410601) 
LOCATION:Volksschule Baumkirchnerring; Raum 1, Baumkirchnerring 18, 2700 Wiener Neustadt
END:VEVENT
BEGIN:VEVENT
DTSTAMP:20260425T163152
DTSTART;TZID=Europe/Berlin:20260407T184500
DTEND;TZID=Europe/Berlin:20260407T204500
UID:S265410601-20260407T184500@VHSWIENER NEUSTADT
SUMMARY:DEUTSCH ALS FREMDSPRACHE - B1/TEIL 2 (S265410601) 
LOCATION:Volksschule Baumkirchnerring; Raum 1, Baumkirchnerring 18, 2700 Wiener Neustadt
END:VEVENT
BEGIN:VEVENT
DTSTAMP:20260425T163152
DTSTART;TZID=Europe/Berlin:20260414T184500
DTEND;TZID=Europe/Berlin:20260414T204500
UID:S265410601-20260414T184500@VHSWIENER NEUSTADT
SUMMARY:DEUTSCH ALS FREMDSPRACHE - B1/TEIL 2 (S265410601) 
LOCATION:Volksschule Baumkirchnerring; Raum 1, Baumkirchnerring 18, 2700 Wiener Neustadt
END:VEVENT
BEGIN:VEVENT
DTSTAMP:20260425T163152
DTSTART;TZID=Europe/Berlin:20260416T184500
DTEND;TZID=Europe/Berlin:20260416T204500
UID:S265410601-20260416T184500@VHSWIENER NEUSTADT
SUMMARY:DEUTSCH ALS FREMDSPRACHE - B1/TEIL 2 (S265410601) 
LOCATION:Volksschule Baumkirchnerring; Raum 1, Baumkirchnerring 18, 2700 Wiener Neustadt
END:VEVENT
BEGIN:VEVENT
DTSTAMP:20260425T163152
DTSTART;TZID=Europe/Berlin:20260421T184500
DTEND;TZID=Europe/Berlin:20260421T204500
UID:S265410601-20260421T184500@VHSWIENER NEUSTADT
SUMMARY:DEUTSCH ALS FREMDSPRACHE - B1/TEIL 2 (S265410601) 
LOCATION:Volksschule Baumkirchnerring; Raum 1, Baumkirchnerring 18, 2700 Wiener Neustadt
END:VEVENT
BEGIN:VEVENT
DTSTAMP:20260425T163152
DTSTART;TZID=Europe/Berlin:20260423T184500
DTEND;TZID=Europe/Berlin:20260423T204500
UID:S265410601-20260423T184500@VHSWIENER NEUSTADT
SUMMARY:DEUTSCH ALS FREMDSPRACHE - B1/TEIL 2 (S265410601) 
LOCATION:Volksschule Baumkirchnerring; Raum 1, Baumkirchnerring 18, 2700 Wiener Neustadt
END:VEVENT
BEGIN:VEVENT
DTSTAMP:20260425T163152
DTSTART;TZID=Europe/Berlin:20260428T184500
DTEND;TZID=Europe/Berlin:20260428T204500
UID:S265410601-20260428T184500@VHSWIENER NEUSTADT
SUMMARY:DEUTSCH ALS FREMDSPRACHE - B1/TEIL 2 (S265410601) 
LOCATION:Volksschule Baumkirchnerring; Raum 1, Baumkirchnerring 18, 2700 Wiener Neustadt
END:VEVENT
BEGIN:VEVENT
DTSTAMP:20260425T163152
DTSTART;TZID=Europe/Berlin:20260430T184500
DTEND;TZID=Europe/Berlin:20260430T204500
UID:S265410601-20260430T184500@VHSWIENER NEUSTADT
SUMMARY:DEUTSCH ALS FREMDSPRACHE - B1/TEIL 2 (S265410601) 
LOCATION:Volksschule Baumkirchnerring; Raum 1, Baumkirchnerring 18, 2700 Wiener Neustadt
END:VEVENT
BEGIN:VEVENT
DTSTAMP:20260425T163152
DTSTART;TZID=Europe/Berlin:20260505T184500
DTEND;TZID=Europe/Berlin:20260505T204500
UID:S265410601-20260505T184500@VHSWIENER NEUSTADT
SUMMARY:DEUTSCH ALS FREMDSPRACHE - B1/TEIL 2 (S265410601) 
LOCATION:Volksschule Baumkirchnerring; Raum 1, Baumkirchnerring 18, 2700 Wiener Neustadt
END:VEVENT
BEGIN:VEVENT
DTSTAMP:20260425T163152
DTSTART;TZID=Europe/Berlin:20260507T184500
DTEND;TZID=Europe/Berlin:20260507T204500
UID:S265410601-20260507T184500@VHSWIENER NEUSTADT
SUMMARY:DEUTSCH ALS FREMDSPRACHE - B1/TEIL 2 (S265410601) 
LOCATION:Volksschule Baumkirchnerring; Raum 1, Baumkirchnerring 18, 2700 Wiener Neustadt
END:VEVENT
BEGIN:VEVENT
DTSTAMP:20260425T163152
DTSTART;TZID=Europe/Berlin:20260512T184500
DTEND;TZID=Europe/Berlin:20260512T204500
UID:S265410601-20260512T184500@VHSWIENER NEUSTADT
SUMMARY:DEUTSCH ALS FREMDSPRACHE - B1/TEIL 2 (S265410601) 
LOCATION:Volksschule Baumkirchnerring; Raum 1, Baumkirchnerring 18, 2700 Wiener Neustadt
END:VEVENT
BEGIN:VEVENT
DTSTAMP:20260425T163152
DTSTART;TZID=Europe/Berlin:20260519T184500
DTEND;TZID=Europe/Berlin:20260519T204500
UID:S265410601-20260519T184500@VHSWIENER NEUSTADT
SUMMARY:DEUTSCH ALS FREMDSPRACHE - B1/TEIL 2 (S265410601) 
LOCATION:Volksschule Baumkirchnerring; Raum 1, Baumkirchnerring 18, 2700 Wiener Neustadt
END:VEVENT
BEGIN:VEVENT
DTSTAMP:20260425T163152
DTSTART;TZID=Europe/Berlin:20260521T184500
DTEND;TZID=Europe/Berlin:20260521T204500
UID:S265410601-20260521T184500@VHSWIENER NEUSTADT
SUMMARY:DEUTSCH ALS FREMDSPRACHE - B1/TEIL 2 (S265410601) 
LOCATION:Volksschule Baumkirchnerring; Raum 1, Baumkirchnerring 18, 2700 Wiener Neustadt
END:VEVENT
BEGIN:VEVENT
DTSTAMP:20260425T163152
DTSTART;TZID=Europe/Berlin:20260526T184500
DTEND;TZID=Europe/Berlin:20260526T204500
UID:S265410601-20260526T184500@VHSWIENER NEUSTADT
SUMMARY:DEUTSCH ALS FREMDSPRACHE - B1/TEIL 2 (S265410601) 
LOCATION:Volksschule Baumkirchnerring; Raum 1, Baumkirchnerring 18, 2700 Wiener Neustadt
END:VEVENT
BEGIN:VEVENT
DTSTAMP:20260425T163152
DTSTART;TZID=Europe/Berlin:20260528T184500
DTEND;TZID=Europe/Berlin:20260528T204500
UID:S265410601-20260528T184500@VHSWIENER NEUSTADT
SUMMARY:DEUTSCH ALS FREMDSPRACHE - B1/TEIL 2 (S265410601) 
LOCATION:Volksschule Baumkirchnerring; Raum 1, Baumkirchnerring 18, 2700 Wiener Neustadt
END:VEVENT
BEGIN:VEVENT
DTSTAMP:20260425T163152
DTSTART;TZID=Europe/Berlin:20260602T184500
DTEND;TZID=Europe/Berlin:20260602T204500
UID:S265410601-20260602T184500@VHSWIENER NEUSTADT
SUMMARY:DEUTSCH ALS FREMDSPRACHE - B1/TEIL 2 (S265410601) 
LOCATION:Volksschule Baumkirchnerring; Raum 1, Baumkirchnerring 18, 2700 Wiener Neustadt
END:VEVENT
BEGIN:VEVENT
DTSTAMP:20260425T163152
DTSTART;TZID=Europe/Berlin:20260609T184500
DTEND;TZID=Europe/Berlin:20260609T204500
UID:S265410601-20260609T184500@VHSWIENER NEUSTADT
SUMMARY:DEUTSCH ALS FREMDSPRACHE - B1/TEIL 2 (S265410601) 
LOCATION:Volksschule Baumkirchnerring; Raum 1, Baumkirchnerring 18, 2700 Wiener Neustadt
END:VEVENT
BEGIN:VEVENT
DTSTAMP:20260425T163152
DTSTART;TZID=Europe/Berlin:20260611T184500
DTEND;TZID=Europe/Berlin:20260611T204500
UID:S265410601-20260611T184500@VHSWIENER NEUSTADT
SUMMARY:DEUTSCH ALS FREMDSPRACHE - B1/TEIL 2 (S265410601) 
LOCATION:Volksschule Baumkirchnerring; Raum 1, Baumkirchnerring 18, 2700 Wiener Neustadt
END:VEVENT
BEGIN:VEVENT
DTSTAMP:20260425T163152
DTSTART;TZID=Europe/Berlin:20260616T184500
DTEND;TZID=Europe/Berlin:20260616T204500
UID:S265410601-20260616T184500@VHSWIENER NEUSTADT
SUMMARY:DEUTSCH ALS FREMDSPRACHE - B1/TEIL 2 (S265410601) 
LOCATION:Volksschule Baumkirchnerring; Raum 1, Baumkirchnerring 18, 2700 Wiener Neustadt
END:VEVENT
BEGIN:VEVENT
DTSTAMP:20260425T163152
DTSTART;TZID=Europe/Berlin:20260618T184500
DTEND;TZID=Europe/Berlin:20260618T204500
UID:S265410601-20260618T184500@VHSWIENER NEUSTADT
SUMMARY:DEUTSCH ALS FREMDSPRACHE - B1/TEIL 2 (S265410601) 
LOCATION:Volksschule Baumkirchnerring; Raum 1, Baumkirchnerring 18, 2700 Wiener Neustadt
END:VEVENT
BEGIN:VEVENT
DTSTAMP:20260425T163152
DTSTART;TZID=Europe/Berlin:20260623T184500
DTEND;TZID=Europe/Berlin:20260623T204500
UID:S265410601-20260623T184500@VHSWIENER NEUSTADT
SUMMARY:DEUTSCH ALS FREMDSPRACHE - B1/TEIL 2 (S265410601) 
LOCATION:Volksschule Baumkirchnerring; Raum 1, Baumkirchnerring 18, 2700 Wiener Neustadt
END:VEVENT
BEGIN:VEVENT
DTSTAMP:20260425T163152
DTSTART;TZID=Europe/Berlin:20260625T184500
DTEND;TZID=Europe/Berlin:20260625T204500
UID:S265410601-20260625T184500@VHSWIENER NEUSTADT
DESCRIPTION:ET f. 09.04. - KL verhindert
SUMMARY:DEUTSCH ALS FREMDSPRACHE - B1/TEIL 2 (S265410601) 
LOCATION:Volksschule Baumkirchnerring; Raum 1, Baumkirchnerring 18, 2700 Wiener Neustadt
END:VEVENT
END:VCALENDAR