BEGIN:VCALENDAR
VERSION:2.0
PRODID:https://www.kufer.de/kuferweb / DE
METHOD:PUBLISH
CALSCALE:GREGORIAN
X-WR-TIMEZONE:Europe/Berlin
BEGIN:VTIMEZONE
TZID:Europe/Berlin
X-LIC-LOCATION:Europe/Berlin
BEGIN:DAYLIGHT
TZOFFSETFROM:+0100
TZOFFSETTO:+0200
TZNAME:CEST
DTSTART:19700329T020000
RRULE:FREQ=YEARLY;INTERVAL=1;BYDAY=-1SU;BYMONTH=3
END:DAYLIGHT
BEGIN:STANDARD
TZOFFSETFROM:+0200
TZOFFSETTO:+0100
TZNAME:CET
DTSTART:19701025T030000
RRULE:FREQ=YEARLY;INTERVAL=1;BYDAY=-1SU;BYMONTH=10
END:STANDARD
END:VTIMEZONE
BEGIN:VEVENT
DTSTAMP:20260425T163138
DTSTART;TZID=Europe/Berlin:20260303T190000
DTEND;TZID=Europe/Berlin:20260303T210000
UID:S265410302-20260303T190000@VHSWIENER NEUSTADT
SUMMARY:DEUTSCH ALS FREMDSPRACHE - A2/TEIL 1 (S265410302) 
LOCATION:Volksschule Baumkirchnerring; Raum 4, Baumkirchnerring 18, 2700 Wiener Neustadt
END:VEVENT
BEGIN:VEVENT
DTSTAMP:20260425T163138
DTSTART;TZID=Europe/Berlin:20260305T190000
DTEND;TZID=Europe/Berlin:20260305T210000
UID:S265410302-20260305T190000@VHSWIENER NEUSTADT
SUMMARY:DEUTSCH ALS FREMDSPRACHE - A2/TEIL 1 (S265410302) 
LOCATION:Volksschule Baumkirchnerring; Raum 4, Baumkirchnerring 18, 2700 Wiener Neustadt
END:VEVENT
BEGIN:VEVENT
DTSTAMP:20260425T163138
DTSTART;TZID=Europe/Berlin:20260310T190000
DTEND;TZID=Europe/Berlin:20260310T210000
UID:S265410302-20260310T190000@VHSWIENER NEUSTADT
SUMMARY:DEUTSCH ALS FREMDSPRACHE - A2/TEIL 1 (S265410302) 
LOCATION:Volksschule Baumkirchnerring; Raum 4, Baumkirchnerring 18, 2700 Wiener Neustadt
END:VEVENT
BEGIN:VEVENT
DTSTAMP:20260425T163138
DTSTART;TZID=Europe/Berlin:20260312T190000
DTEND;TZID=Europe/Berlin:20260312T210000
UID:S265410302-20260312T190000@VHSWIENER NEUSTADT
SUMMARY:DEUTSCH ALS FREMDSPRACHE - A2/TEIL 1 (S265410302) 
LOCATION:Volksschule Baumkirchnerring; Raum 4, Baumkirchnerring 18, 2700 Wiener Neustadt
END:VEVENT
BEGIN:VEVENT
DTSTAMP:20260425T163138
DTSTART;TZID=Europe/Berlin:20260317T190000
DTEND;TZID=Europe/Berlin:20260317T210000
UID:S265410302-20260317T190000@VHSWIENER NEUSTADT
SUMMARY:DEUTSCH ALS FREMDSPRACHE - A2/TEIL 1 (S265410302) 
LOCATION:Volksschule Baumkirchnerring; Raum 4, Baumkirchnerring 18, 2700 Wiener Neustadt
END:VEVENT
BEGIN:VEVENT
DTSTAMP:20260425T163138
DTSTART;TZID=Europe/Berlin:20260319T190000
DTEND;TZID=Europe/Berlin:20260319T210000
UID:S265410302-20260319T190000@VHSWIENER NEUSTADT
SUMMARY:DEUTSCH ALS FREMDSPRACHE - A2/TEIL 1 (S265410302) 
LOCATION:Volksschule Baumkirchnerring; Raum 4, Baumkirchnerring 18, 2700 Wiener Neustadt
END:VEVENT
BEGIN:VEVENT
DTSTAMP:20260425T163138
DTSTART;TZID=Europe/Berlin:20260324T190000
DTEND;TZID=Europe/Berlin:20260324T210000
UID:S265410302-20260324T190000@VHSWIENER NEUSTADT
SUMMARY:DEUTSCH ALS FREMDSPRACHE - A2/TEIL 1 (S265410302) 
LOCATION:Volksschule Baumkirchnerring; Raum 4, Baumkirchnerring 18, 2700 Wiener Neustadt
END:VEVENT
BEGIN:VEVENT
DTSTAMP:20260425T163138
DTSTART;TZID=Europe/Berlin:20260326T190000
DTEND;TZID=Europe/Berlin:20260326T210000
UID:S265410302-20260326T190000@VHSWIENER NEUSTADT
SUMMARY:DEUTSCH ALS FREMDSPRACHE - A2/TEIL 1 (S265410302) 
LOCATION:Volksschule Baumkirchnerring; Raum 4, Baumkirchnerring 18, 2700 Wiener Neustadt
END:VEVENT
BEGIN:VEVENT
DTSTAMP:20260425T163138
DTSTART;TZID=Europe/Berlin:20260407T190000
DTEND;TZID=Europe/Berlin:20260407T210000
UID:S265410302-20260407T190000@VHSWIENER NEUSTADT
SUMMARY:DEUTSCH ALS FREMDSPRACHE - A2/TEIL 1 (S265410302) 
LOCATION:Volksschule Baumkirchnerring; Raum 4, Baumkirchnerring 18, 2700 Wiener Neustadt
END:VEVENT
BEGIN:VEVENT
DTSTAMP:20260425T163138
DTSTART;TZID=Europe/Berlin:20260409T190000
DTEND;TZID=Europe/Berlin:20260409T210000
UID:S265410302-20260409T190000@VHSWIENER NEUSTADT
SUMMARY:DEUTSCH ALS FREMDSPRACHE - A2/TEIL 1 (S265410302) 
LOCATION:Volksschule Baumkirchnerring; Raum 4, Baumkirchnerring 18, 2700 Wiener Neustadt
END:VEVENT
BEGIN:VEVENT
DTSTAMP:20260425T163138
DTSTART;TZID=Europe/Berlin:20260414T190000
DTEND;TZID=Europe/Berlin:20260414T210000
UID:S265410302-20260414T190000@VHSWIENER NEUSTADT
SUMMARY:DEUTSCH ALS FREMDSPRACHE - A2/TEIL 1 (S265410302) 
LOCATION:Volksschule Baumkirchnerring; Raum 4, Baumkirchnerring 18, 2700 Wiener Neustadt
END:VEVENT
BEGIN:VEVENT
DTSTAMP:20260425T163138
DTSTART;TZID=Europe/Berlin:20260416T190000
DTEND;TZID=Europe/Berlin:20260416T210000
UID:S265410302-20260416T190000@VHSWIENER NEUSTADT
SUMMARY:DEUTSCH ALS FREMDSPRACHE - A2/TEIL 1 (S265410302) 
LOCATION:Volksschule Baumkirchnerring; Raum 4, Baumkirchnerring 18, 2700 Wiener Neustadt
END:VEVENT
BEGIN:VEVENT
DTSTAMP:20260425T163138
DTSTART;TZID=Europe/Berlin:20260421T190000
DTEND;TZID=Europe/Berlin:20260421T210000
UID:S265410302-20260421T190000@VHSWIENER NEUSTADT
SUMMARY:DEUTSCH ALS FREMDSPRACHE - A2/TEIL 1 (S265410302) 
LOCATION:Volksschule Baumkirchnerring; Raum 4, Baumkirchnerring 18, 2700 Wiener Neustadt
END:VEVENT
BEGIN:VEVENT
DTSTAMP:20260425T163138
DTSTART;TZID=Europe/Berlin:20260423T190000
DTEND;TZID=Europe/Berlin:20260423T210000
UID:S265410302-20260423T190000@VHSWIENER NEUSTADT
SUMMARY:DEUTSCH ALS FREMDSPRACHE - A2/TEIL 1 (S265410302) 
LOCATION:Volksschule Baumkirchnerring; Raum 4, Baumkirchnerring 18, 2700 Wiener Neustadt
END:VEVENT
BEGIN:VEVENT
DTSTAMP:20260425T163138
DTSTART;TZID=Europe/Berlin:20260428T190000
DTEND;TZID=Europe/Berlin:20260428T210000
UID:S265410302-20260428T190000@VHSWIENER NEUSTADT
SUMMARY:DEUTSCH ALS FREMDSPRACHE - A2/TEIL 1 (S265410302) 
LOCATION:Volksschule Baumkirchnerring; Raum 4, Baumkirchnerring 18, 2700 Wiener Neustadt
END:VEVENT
BEGIN:VEVENT
DTSTAMP:20260425T163138
DTSTART;TZID=Europe/Berlin:20260430T190000
DTEND;TZID=Europe/Berlin:20260430T210000
UID:S265410302-20260430T190000@VHSWIENER NEUSTADT
SUMMARY:DEUTSCH ALS FREMDSPRACHE - A2/TEIL 1 (S265410302) 
LOCATION:Volksschule Baumkirchnerring; Raum 4, Baumkirchnerring 18, 2700 Wiener Neustadt
END:VEVENT
BEGIN:VEVENT
DTSTAMP:20260425T163138
DTSTART;TZID=Europe/Berlin:20260505T190000
DTEND;TZID=Europe/Berlin:20260505T210000
UID:S265410302-20260505T190000@VHSWIENER NEUSTADT
SUMMARY:DEUTSCH ALS FREMDSPRACHE - A2/TEIL 1 (S265410302) 
LOCATION:Volksschule Baumkirchnerring; Raum 4, Baumkirchnerring 18, 2700 Wiener Neustadt
END:VEVENT
BEGIN:VEVENT
DTSTAMP:20260425T163138
DTSTART;TZID=Europe/Berlin:20260507T190000
DTEND;TZID=Europe/Berlin:20260507T210000
UID:S265410302-20260507T190000@VHSWIENER NEUSTADT
SUMMARY:DEUTSCH ALS FREMDSPRACHE - A2/TEIL 1 (S265410302) 
LOCATION:Volksschule Baumkirchnerring; Raum 4, Baumkirchnerring 18, 2700 Wiener Neustadt
END:VEVENT
BEGIN:VEVENT
DTSTAMP:20260425T163138
DTSTART;TZID=Europe/Berlin:20260512T190000
DTEND;TZID=Europe/Berlin:20260512T210000
UID:S265410302-20260512T190000@VHSWIENER NEUSTADT
SUMMARY:DEUTSCH ALS FREMDSPRACHE - A2/TEIL 1 (S265410302) 
LOCATION:Volksschule Baumkirchnerring; Raum 4, Baumkirchnerring 18, 2700 Wiener Neustadt
END:VEVENT
BEGIN:VEVENT
DTSTAMP:20260425T163138
DTSTART;TZID=Europe/Berlin:20260519T190000
DTEND;TZID=Europe/Berlin:20260519T210000
UID:S265410302-20260519T190000@VHSWIENER NEUSTADT
SUMMARY:DEUTSCH ALS FREMDSPRACHE - A2/TEIL 1 (S265410302) 
LOCATION:Volksschule Baumkirchnerring; Raum 4, Baumkirchnerring 18, 2700 Wiener Neustadt
END:VEVENT
BEGIN:VEVENT
DTSTAMP:20260425T163138
DTSTART;TZID=Europe/Berlin:20260521T190000
DTEND;TZID=Europe/Berlin:20260521T210000
UID:S265410302-20260521T190000@VHSWIENER NEUSTADT
SUMMARY:DEUTSCH ALS FREMDSPRACHE - A2/TEIL 1 (S265410302) 
LOCATION:Volksschule Baumkirchnerring; Raum 4, Baumkirchnerring 18, 2700 Wiener Neustadt
END:VEVENT
BEGIN:VEVENT
DTSTAMP:20260425T163138
DTSTART;TZID=Europe/Berlin:20260526T190000
DTEND;TZID=Europe/Berlin:20260526T210000
UID:S265410302-20260526T190000@VHSWIENER NEUSTADT
SUMMARY:DEUTSCH ALS FREMDSPRACHE - A2/TEIL 1 (S265410302) 
LOCATION:Volksschule Baumkirchnerring; Raum 4, Baumkirchnerring 18, 2700 Wiener Neustadt
END:VEVENT
BEGIN:VEVENT
DTSTAMP:20260425T163138
DTSTART;TZID=Europe/Berlin:20260528T190000
DTEND;TZID=Europe/Berlin:20260528T210000
UID:S265410302-20260528T190000@VHSWIENER NEUSTADT
SUMMARY:DEUTSCH ALS FREMDSPRACHE - A2/TEIL 1 (S265410302) 
LOCATION:Volksschule Baumkirchnerring; Raum 4, Baumkirchnerring 18, 2700 Wiener Neustadt
END:VEVENT
BEGIN:VEVENT
DTSTAMP:20260425T163138
DTSTART;TZID=Europe/Berlin:20260602T190000
DTEND;TZID=Europe/Berlin:20260602T210000
UID:S265410302-20260602T190000@VHSWIENER NEUSTADT
SUMMARY:DEUTSCH ALS FREMDSPRACHE - A2/TEIL 1 (S265410302) 
LOCATION:Volksschule Baumkirchnerring; Raum 4, Baumkirchnerring 18, 2700 Wiener Neustadt
END:VEVENT
BEGIN:VEVENT
DTSTAMP:20260425T163138
DTSTART;TZID=Europe/Berlin:20260609T190000
DTEND;TZID=Europe/Berlin:20260609T210000
UID:S265410302-20260609T190000@VHSWIENER NEUSTADT
SUMMARY:DEUTSCH ALS FREMDSPRACHE - A2/TEIL 1 (S265410302) 
LOCATION:Volksschule Baumkirchnerring; Raum 4, Baumkirchnerring 18, 2700 Wiener Neustadt
END:VEVENT
BEGIN:VEVENT
DTSTAMP:20260425T163138
DTSTART;TZID=Europe/Berlin:20260611T190000
DTEND;TZID=Europe/Berlin:20260611T210000
UID:S265410302-20260611T190000@VHSWIENER NEUSTADT
SUMMARY:DEUTSCH ALS FREMDSPRACHE - A2/TEIL 1 (S265410302) 
LOCATION:Volksschule Baumkirchnerring; Raum 4, Baumkirchnerring 18, 2700 Wiener Neustadt
END:VEVENT
BEGIN:VEVENT
DTSTAMP:20260425T163138
DTSTART;TZID=Europe/Berlin:20260616T190000
DTEND;TZID=Europe/Berlin:20260616T210000
UID:S265410302-20260616T190000@VHSWIENER NEUSTADT
SUMMARY:DEUTSCH ALS FREMDSPRACHE - A2/TEIL 1 (S265410302) 
LOCATION:Volksschule Baumkirchnerring; Raum 4, Baumkirchnerring 18, 2700 Wiener Neustadt
END:VEVENT
BEGIN:VEVENT
DTSTAMP:20260425T163138
DTSTART;TZID=Europe/Berlin:20260618T190000
DTEND;TZID=Europe/Berlin:20260618T210000
UID:S265410302-20260618T190000@VHSWIENER NEUSTADT
SUMMARY:DEUTSCH ALS FREMDSPRACHE - A2/TEIL 1 (S265410302) 
LOCATION:Volksschule Baumkirchnerring; Raum 4, Baumkirchnerring 18, 2700 Wiener Neustadt
END:VEVENT
BEGIN:VEVENT
DTSTAMP:20260425T163138
DTSTART;TZID=Europe/Berlin:20260623T190000
DTEND;TZID=Europe/Berlin:20260623T210000
UID:S265410302-20260623T190000@VHSWIENER NEUSTADT
SUMMARY:DEUTSCH ALS FREMDSPRACHE - A2/TEIL 1 (S265410302) 
LOCATION:Volksschule Baumkirchnerring; Raum 4, Baumkirchnerring 18, 2700 Wiener Neustadt
END:VEVENT
END:VCALENDAR