BEGIN:VCALENDAR
VERSION:2.0
PRODID:https://www.kufer.de/kuferweb / DE
METHOD:PUBLISH
CALSCALE:GREGORIAN
X-WR-TIMEZONE:Europe/Berlin
BEGIN:VTIMEZONE
TZID:Europe/Berlin
X-LIC-LOCATION:Europe/Berlin
BEGIN:DAYLIGHT
TZOFFSETFROM:+0100
TZOFFSETTO:+0200
TZNAME:CEST
DTSTART:19700329T020000
RRULE:FREQ=YEARLY;INTERVAL=1;BYDAY=-1SU;BYMONTH=3
END:DAYLIGHT
BEGIN:STANDARD
TZOFFSETFROM:+0200
TZOFFSETTO:+0100
TZNAME:CET
DTSTART:19701025T030000
RRULE:FREQ=YEARLY;INTERVAL=1;BYDAY=-1SU;BYMONTH=10
END:STANDARD
END:VTIMEZONE
BEGIN:VEVENT
DTSTAMP:20260425T175013
DTSTART;TZID=Europe/Berlin:20260302T081500
DTEND;TZID=Europe/Berlin:20260302T101500
UID:S265410301-20260302T081500@VHSWIENER NEUSTADT
SUMMARY:DEUTSCH ALS FREMDSPRACHE - A2/TEIL 1 (S265410301) 
LOCATION:Volksschule Baumkirchnerring; Raum 1, Baumkirchnerring 18, 2700 Wiener Neustadt
END:VEVENT
BEGIN:VEVENT
DTSTAMP:20260425T175013
DTSTART;TZID=Europe/Berlin:20260304T081500
DTEND;TZID=Europe/Berlin:20260304T101500
UID:S265410301-20260304T081500@VHSWIENER NEUSTADT
SUMMARY:DEUTSCH ALS FREMDSPRACHE - A2/TEIL 1 (S265410301) 
LOCATION:Volksschule Baumkirchnerring; Raum 1, Baumkirchnerring 18, 2700 Wiener Neustadt
END:VEVENT
BEGIN:VEVENT
DTSTAMP:20260425T175013
DTSTART;TZID=Europe/Berlin:20260309T081500
DTEND;TZID=Europe/Berlin:20260309T101500
UID:S265410301-20260309T081500@VHSWIENER NEUSTADT
SUMMARY:DEUTSCH ALS FREMDSPRACHE - A2/TEIL 1 (S265410301) 
LOCATION:Volksschule Baumkirchnerring; Raum 1, Baumkirchnerring 18, 2700 Wiener Neustadt
END:VEVENT
BEGIN:VEVENT
DTSTAMP:20260425T175013
DTSTART;TZID=Europe/Berlin:20260311T081500
DTEND;TZID=Europe/Berlin:20260311T101500
UID:S265410301-20260311T081500@VHSWIENER NEUSTADT
SUMMARY:DEUTSCH ALS FREMDSPRACHE - A2/TEIL 1 (S265410301) 
LOCATION:Volksschule Baumkirchnerring; Raum 1, Baumkirchnerring 18, 2700 Wiener Neustadt
END:VEVENT
BEGIN:VEVENT
DTSTAMP:20260425T175013
DTSTART;TZID=Europe/Berlin:20260316T081500
DTEND;TZID=Europe/Berlin:20260316T101500
UID:S265410301-20260316T081500@VHSWIENER NEUSTADT
SUMMARY:DEUTSCH ALS FREMDSPRACHE - A2/TEIL 1 (S265410301) 
LOCATION:Volksschule Baumkirchnerring; Raum 1, Baumkirchnerring 18, 2700 Wiener Neustadt
END:VEVENT
BEGIN:VEVENT
DTSTAMP:20260425T175013
DTSTART;TZID=Europe/Berlin:20260318T081500
DTEND;TZID=Europe/Berlin:20260318T101500
UID:S265410301-20260318T081500@VHSWIENER NEUSTADT
SUMMARY:DEUTSCH ALS FREMDSPRACHE - A2/TEIL 1 (S265410301) 
LOCATION:Volksschule Baumkirchnerring; Raum 1, Baumkirchnerring 18, 2700 Wiener Neustadt
END:VEVENT
BEGIN:VEVENT
DTSTAMP:20260425T175013
DTSTART;TZID=Europe/Berlin:20260323T081500
DTEND;TZID=Europe/Berlin:20260323T101500
UID:S265410301-20260323T081500@VHSWIENER NEUSTADT
SUMMARY:DEUTSCH ALS FREMDSPRACHE - A2/TEIL 1 (S265410301) 
LOCATION:Volksschule Baumkirchnerring; Raum 1, Baumkirchnerring 18, 2700 Wiener Neustadt
END:VEVENT
BEGIN:VEVENT
DTSTAMP:20260425T175013
DTSTART;TZID=Europe/Berlin:20260325T081500
DTEND;TZID=Europe/Berlin:20260325T101500
UID:S265410301-20260325T081500@VHSWIENER NEUSTADT
SUMMARY:DEUTSCH ALS FREMDSPRACHE - A2/TEIL 1 (S265410301) 
LOCATION:Volksschule Baumkirchnerring; Raum 1, Baumkirchnerring 18, 2700 Wiener Neustadt
END:VEVENT
BEGIN:VEVENT
DTSTAMP:20260425T175013
DTSTART;TZID=Europe/Berlin:20260413T081500
DTEND;TZID=Europe/Berlin:20260413T101500
UID:S265410301-20260413T081500@VHSWIENER NEUSTADT
SUMMARY:DEUTSCH ALS FREMDSPRACHE - A2/TEIL 1 (S265410301) 
LOCATION:Volksschule Baumkirchnerring; Raum 1, Baumkirchnerring 18, 2700 Wiener Neustadt
END:VEVENT
BEGIN:VEVENT
DTSTAMP:20260425T175013
DTSTART;TZID=Europe/Berlin:20260415T081500
DTEND;TZID=Europe/Berlin:20260415T101500
UID:S265410301-20260415T081500@VHSWIENER NEUSTADT
SUMMARY:DEUTSCH ALS FREMDSPRACHE - A2/TEIL 1 (S265410301) 
LOCATION:Volksschule Baumkirchnerring; Raum 1, Baumkirchnerring 18, 2700 Wiener Neustadt
END:VEVENT
BEGIN:VEVENT
DTSTAMP:20260425T175013
DTSTART;TZID=Europe/Berlin:20260420T081500
DTEND;TZID=Europe/Berlin:20260420T101500
UID:S265410301-20260420T081500@VHSWIENER NEUSTADT
SUMMARY:DEUTSCH ALS FREMDSPRACHE - A2/TEIL 1 (S265410301) 
LOCATION:Volksschule Baumkirchnerring; Raum 1, Baumkirchnerring 18, 2700 Wiener Neustadt
END:VEVENT
BEGIN:VEVENT
DTSTAMP:20260425T175013
DTSTART;TZID=Europe/Berlin:20260422T081500
DTEND;TZID=Europe/Berlin:20260422T101500
UID:S265410301-20260422T081500@VHSWIENER NEUSTADT
SUMMARY:DEUTSCH ALS FREMDSPRACHE - A2/TEIL 1 (S265410301) 
LOCATION:Volksschule Baumkirchnerring; Raum 1, Baumkirchnerring 18, 2700 Wiener Neustadt
END:VEVENT
BEGIN:VEVENT
DTSTAMP:20260425T175013
DTSTART;TZID=Europe/Berlin:20260427T081500
DTEND;TZID=Europe/Berlin:20260427T101500
UID:S265410301-20260427T081500@VHSWIENER NEUSTADT
SUMMARY:DEUTSCH ALS FREMDSPRACHE - A2/TEIL 1 (S265410301) 
LOCATION:Volksschule Baumkirchnerring; Raum 1, Baumkirchnerring 18, 2700 Wiener Neustadt
END:VEVENT
BEGIN:VEVENT
DTSTAMP:20260425T175013
DTSTART;TZID=Europe/Berlin:20260429T081500
DTEND;TZID=Europe/Berlin:20260429T101500
UID:S265410301-20260429T081500@VHSWIENER NEUSTADT
SUMMARY:DEUTSCH ALS FREMDSPRACHE - A2/TEIL 1 (S265410301) 
LOCATION:Volksschule Baumkirchnerring; Raum 1, Baumkirchnerring 18, 2700 Wiener Neustadt
END:VEVENT
BEGIN:VEVENT
DTSTAMP:20260425T175013
DTSTART;TZID=Europe/Berlin:20260504T081500
DTEND;TZID=Europe/Berlin:20260504T101500
UID:S265410301-20260504T081500@VHSWIENER NEUSTADT
SUMMARY:DEUTSCH ALS FREMDSPRACHE - A2/TEIL 1 (S265410301) 
LOCATION:Volksschule Baumkirchnerring; Raum 1, Baumkirchnerring 18, 2700 Wiener Neustadt
END:VEVENT
BEGIN:VEVENT
DTSTAMP:20260425T175013
DTSTART;TZID=Europe/Berlin:20260506T081500
DTEND;TZID=Europe/Berlin:20260506T101500
UID:S265410301-20260506T081500@VHSWIENER NEUSTADT
SUMMARY:DEUTSCH ALS FREMDSPRACHE - A2/TEIL 1 (S265410301) 
LOCATION:Volksschule Baumkirchnerring; Raum 1, Baumkirchnerring 18, 2700 Wiener Neustadt
END:VEVENT
BEGIN:VEVENT
DTSTAMP:20260425T175013
DTSTART;TZID=Europe/Berlin:20260511T081500
DTEND;TZID=Europe/Berlin:20260511T101500
UID:S265410301-20260511T081500@VHSWIENER NEUSTADT
SUMMARY:DEUTSCH ALS FREMDSPRACHE - A2/TEIL 1 (S265410301) 
LOCATION:Volksschule Baumkirchnerring; Raum 1, Baumkirchnerring 18, 2700 Wiener Neustadt
END:VEVENT
BEGIN:VEVENT
DTSTAMP:20260425T175013
DTSTART;TZID=Europe/Berlin:20260513T081500
DTEND;TZID=Europe/Berlin:20260513T101500
UID:S265410301-20260513T081500@VHSWIENER NEUSTADT
SUMMARY:DEUTSCH ALS FREMDSPRACHE - A2/TEIL 1 (S265410301) 
LOCATION:Volksschule Baumkirchnerring; Raum 1, Baumkirchnerring 18, 2700 Wiener Neustadt
END:VEVENT
BEGIN:VEVENT
DTSTAMP:20260425T175013
DTSTART;TZID=Europe/Berlin:20260518T081500
DTEND;TZID=Europe/Berlin:20260518T101500
UID:S265410301-20260518T081500@VHSWIENER NEUSTADT
SUMMARY:DEUTSCH ALS FREMDSPRACHE - A2/TEIL 1 (S265410301) 
LOCATION:Volksschule Baumkirchnerring; Raum 1, Baumkirchnerring 18, 2700 Wiener Neustadt
END:VEVENT
BEGIN:VEVENT
DTSTAMP:20260425T175013
DTSTART;TZID=Europe/Berlin:20260520T081500
DTEND;TZID=Europe/Berlin:20260520T101500
UID:S265410301-20260520T081500@VHSWIENER NEUSTADT
SUMMARY:DEUTSCH ALS FREMDSPRACHE - A2/TEIL 1 (S265410301) 
LOCATION:Volksschule Baumkirchnerring; Raum 1, Baumkirchnerring 18, 2700 Wiener Neustadt
END:VEVENT
BEGIN:VEVENT
DTSTAMP:20260425T175013
DTSTART;TZID=Europe/Berlin:20260527T081500
DTEND;TZID=Europe/Berlin:20260527T101500
UID:S265410301-20260527T081500@VHSWIENER NEUSTADT
SUMMARY:DEUTSCH ALS FREMDSPRACHE - A2/TEIL 1 (S265410301) 
LOCATION:Volksschule Baumkirchnerring; Raum 1, Baumkirchnerring 18, 2700 Wiener Neustadt
END:VEVENT
BEGIN:VEVENT
DTSTAMP:20260425T175013
DTSTART;TZID=Europe/Berlin:20260601T081500
DTEND;TZID=Europe/Berlin:20260601T101500
UID:S265410301-20260601T081500@VHSWIENER NEUSTADT
SUMMARY:DEUTSCH ALS FREMDSPRACHE - A2/TEIL 1 (S265410301) 
LOCATION:Volksschule Baumkirchnerring; Raum 1, Baumkirchnerring 18, 2700 Wiener Neustadt
END:VEVENT
BEGIN:VEVENT
DTSTAMP:20260425T175013
DTSTART;TZID=Europe/Berlin:20260603T081500
DTEND;TZID=Europe/Berlin:20260603T101500
UID:S265410301-20260603T081500@VHSWIENER NEUSTADT
SUMMARY:DEUTSCH ALS FREMDSPRACHE - A2/TEIL 1 (S265410301) 
LOCATION:Volksschule Baumkirchnerring; Raum 1, Baumkirchnerring 18, 2700 Wiener Neustadt
END:VEVENT
BEGIN:VEVENT
DTSTAMP:20260425T175013
DTSTART;TZID=Europe/Berlin:20260608T081500
DTEND;TZID=Europe/Berlin:20260608T101500
UID:S265410301-20260608T081500@VHSWIENER NEUSTADT
SUMMARY:DEUTSCH ALS FREMDSPRACHE - A2/TEIL 1 (S265410301) 
LOCATION:Volksschule Baumkirchnerring; Raum 1, Baumkirchnerring 18, 2700 Wiener Neustadt
END:VEVENT
BEGIN:VEVENT
DTSTAMP:20260425T175013
DTSTART;TZID=Europe/Berlin:20260610T081500
DTEND;TZID=Europe/Berlin:20260610T101500
UID:S265410301-20260610T081500@VHSWIENER NEUSTADT
SUMMARY:DEUTSCH ALS FREMDSPRACHE - A2/TEIL 1 (S265410301) 
LOCATION:Volksschule Baumkirchnerring; Raum 1, Baumkirchnerring 18, 2700 Wiener Neustadt
END:VEVENT
BEGIN:VEVENT
DTSTAMP:20260425T175013
DTSTART;TZID=Europe/Berlin:20260615T081500
DTEND;TZID=Europe/Berlin:20260615T101500
UID:S265410301-20260615T081500@VHSWIENER NEUSTADT
SUMMARY:DEUTSCH ALS FREMDSPRACHE - A2/TEIL 1 (S265410301) 
LOCATION:Volksschule Baumkirchnerring; Raum 1, Baumkirchnerring 18, 2700 Wiener Neustadt
END:VEVENT
BEGIN:VEVENT
DTSTAMP:20260425T175013
DTSTART;TZID=Europe/Berlin:20260617T081500
DTEND;TZID=Europe/Berlin:20260617T101500
UID:S265410301-20260617T081500@VHSWIENER NEUSTADT
SUMMARY:DEUTSCH ALS FREMDSPRACHE - A2/TEIL 1 (S265410301) 
LOCATION:Volksschule Baumkirchnerring; Raum 1, Baumkirchnerring 18, 2700 Wiener Neustadt
END:VEVENT
BEGIN:VEVENT
DTSTAMP:20260425T175013
DTSTART;TZID=Europe/Berlin:20260622T081500
DTEND;TZID=Europe/Berlin:20260622T101500
UID:S265410301-20260622T081500@VHSWIENER NEUSTADT
SUMMARY:DEUTSCH ALS FREMDSPRACHE - A2/TEIL 1 (S265410301) 
LOCATION:Volksschule Baumkirchnerring; Raum 1, Baumkirchnerring 18, 2700 Wiener Neustadt
END:VEVENT
BEGIN:VEVENT
DTSTAMP:20260425T175013
DTSTART;TZID=Europe/Berlin:20260624T081500
DTEND;TZID=Europe/Berlin:20260624T101500
UID:S265410301-20260624T081500@VHSWIENER NEUSTADT
DESCRIPTION:ET f. 08.04. - KL verhindert
SUMMARY:DEUTSCH ALS FREMDSPRACHE - A2/TEIL 1 (S265410301) 
LOCATION:Volksschule Baumkirchnerring; Raum 1, Baumkirchnerring 18, 2700 Wiener Neustadt
END:VEVENT
END:VCALENDAR