BEGIN:VCALENDAR
VERSION:2.0
PRODID:https://www.kufer.de/kuferweb / DE
METHOD:PUBLISH
CALSCALE:GREGORIAN
X-WR-TIMEZONE:Europe/Berlin
BEGIN:VTIMEZONE
TZID:Europe/Berlin
X-LIC-LOCATION:Europe/Berlin
BEGIN:DAYLIGHT
TZOFFSETFROM:+0100
TZOFFSETTO:+0200
TZNAME:CEST
DTSTART:19700329T020000
RRULE:FREQ=YEARLY;INTERVAL=1;BYDAY=-1SU;BYMONTH=3
END:DAYLIGHT
BEGIN:STANDARD
TZOFFSETFROM:+0200
TZOFFSETTO:+0100
TZNAME:CET
DTSTART:19701025T030000
RRULE:FREQ=YEARLY;INTERVAL=1;BYDAY=-1SU;BYMONTH=10
END:STANDARD
END:VTIMEZONE
BEGIN:VEVENT
DTSTAMP:20260423T110154
DTSTART;TZID=Europe/Berlin:20260527T101500
DTEND;TZID=Europe/Berlin:20260527T114500
UID:S264340107-20260527T101500@VHSWIENER NEUSTADT
SUMMARY:GOOGLE KONTO UND SEINE ANWENDUNGEN RICHTIG NUTZEN (S264340107) 
LOCATION:Volksschule Baumkirchnerring; Raum 4, Baumkirchnerring 18, 2700 Wiener Neustadt
END:VEVENT
BEGIN:VEVENT
DTSTAMP:20260423T110154
DTSTART;TZID=Europe/Berlin:20260603T101500
DTEND;TZID=Europe/Berlin:20260603T114500
UID:S264340107-20260603T101500@VHSWIENER NEUSTADT
SUMMARY:GOOGLE KONTO UND SEINE ANWENDUNGEN RICHTIG NUTZEN (S264340107) 
LOCATION:Volksschule Baumkirchnerring; Raum 4, Baumkirchnerring 18, 2700 Wiener Neustadt
END:VEVENT
BEGIN:VEVENT
DTSTAMP:20260423T110154
DTSTART;TZID=Europe/Berlin:20260610T101500
DTEND;TZID=Europe/Berlin:20260610T114500
UID:S264340107-20260610T101500@VHSWIENER NEUSTADT
SUMMARY:GOOGLE KONTO UND SEINE ANWENDUNGEN RICHTIG NUTZEN (S264340107) 
LOCATION:Volksschule Baumkirchnerring; Raum 4, Baumkirchnerring 18, 2700 Wiener Neustadt
END:VEVENT
BEGIN:VEVENT
DTSTAMP:20260423T110154
DTSTART;TZID=Europe/Berlin:20260617T101500
DTEND;TZID=Europe/Berlin:20260617T114500
UID:S264340107-20260617T101500@VHSWIENER NEUSTADT
SUMMARY:GOOGLE KONTO UND SEINE ANWENDUNGEN RICHTIG NUTZEN (S264340107) 
LOCATION:Volksschule Baumkirchnerring; Raum 4, Baumkirchnerring 18, 2700 Wiener Neustadt
END:VEVENT
END:VCALENDAR